Workbook
Name Table_6.2.1_Experience_of_sexual_and_physical_violence_among_female_adolescents_13_14_y: [1]TOC!#REF!
Name Table_6.2.1_Experience_of_sexual_and_physical_violence_among_female_adolescents_13_14_y: [1]TOC!#REF!
Name Table_6.2.1_Experience_of_sexual_and_physical_violence_among_female_adolescents_13_14_y: [1]TOC!#REF!
Name Table_6.2.1_Experience_of_sexual_and_physical_violence_among_female_adolescents_13_14_y: [1]TOC!#REF!
Name Table_6.2.1_Experience_of_sexual_and_physical_violence_among_female_adolescents_13_14_y: [1]TOC!#REF!
Name Table_6.2.1_Experience_of_sexual_and_physical_violence_among_female_adolescents_13_14_y: [1]TOC!#REF!
Name Table_6.2.1_Experience_of_sexual_and_physical_violence_among_female_adolescents_13_14_y: [1]TOC!#REF!
Name Table_6.2.1_Experience_of_sexual_and_physical_violence_among_female_adolescents_13_14_y: [1]TOC!#REF!
Name Table_6.2.1_Experience_of_sexual_and_physical_violence_among_female_adolescents_13_14_y: [1]TOC!#REF!
Name Table_6.2.1_Experience_of_sexual_and_physical_violence_among_female_adolescents_13_14_y: [1]TOC!#REF!
Name Table_6.2.1_Experience_of_sexual_and_physical_violence_among_female_adolescents_13_14_y: [1]TOC!#REF!
Name Table_6.2.1_Experience_of_sexual_and_physical_violence_among_female_adolescents_13_14_y: [1]TOC!#REF!
Name Table_6.2.1_Experience_of_sexual_and_physical_violence_among_female_adolescents_13_14_y: [1]TOC!#REF!
Name Table_6.2.1_Experience_of_sexual_and_physical_violence_among_female_adolescents_13_14_y: [1]TOC!#REF!
Name Table_6.2.1_Experience_of_sexual_and_physical_violence_among_female_adolescents_13_14_y: [1]TOC!#REF!
Name Table_6.2.1_Experience_of_sexual_and_physical_violence_among_female_adolescents_13_14_y: [1]TOC!#REF!
Name Table_6.2.1_Experience_of_sexual_and_physical_violence_among_female_adolescents_13_14_y: [1]TOC!#REF!
Name Table_6.2.1_Experience_of_sexual_and_physical_violence_among_female_adolescents_13_14_y: [1]TOC!#REF!
Name Table_6.2.1_Experience_of_sexual_and_physical_violence_among_female_adolescents_13_14_y: [1]TOC!#REF!
Name Table_6.2.1_Experience_of_sexual_and_physical_violence_among_female_adolescents_13_14_y: [1]TOC!#REF!
Name Table_TBD_Retention_on_ART: #REF!

Sheet TOC
B1: TABLE OF CONTENTS | C1: Figure | D1: Summary sheet
A2: Table number | B2: Chapter 2: Survey design, response rates
A3: 2.1 | B3: ='2.1'!A1 -> Table 2.1: Distribution of sampled enumeration areas and households by [SUBNATIONAL AREA]
A4: 2.2 | B4: ='2.2'!A1 -> Table 2.2: Household response rates | D4: Household response rate
A5: 2.3 | B5: ='2.3'!A1 -> Table 2.3: Individual interview and blood draw response rates | D5: Interview and blood draw response rate
B6: Figure 2.X: Household-based HIV testing algorithm | C6: National RT algorithm
B7: Figure 2.Y: HIV-1 recent infection testing algorithm (LAg/VL/ARV algorithm) | C7: HIV recent infection algorithm
B8: Chapter 3: Survey household characteristics
A9: 3.1 | B9: ='3.1'!A1 -> Table 3.1: Household composition
A10: 3.2 | B10: ='3.2'!A1 -> Table 3.2: Distribution of de facto household population (population pyramid)
B11: Figure 3.2: Distribution of the de facto population by sex and age, [SURVEY ACRONYM] [YEAR(S)] | C11: Population pyramid
A12: 3.3 | B12: ='3.3'!A1 -> Table 3.3: Household population by age, sex, and residence
B13: Figure 3.3 Household population by age, sex, and residence, [SURVEY ACRONYM] [YEAR(S)] | C13: Bar graph
A14: 3.4 | B14: ='3.4'!A1 -> Table 3.4: Prevalence of HIV-affected households
B15: Figure 3.4 Prevalence of HIV-affected households by residence, [SURVEY ACRONYM] [YEAR(S)] | C15: Bar graph
A16: 3.5 | B16: ='3.5'!A1 -> Table 3.5: Prevalence of households with an HIV-positive head of household
B17: Figure 3.5: Prevalence of HIV among heads of households by sex, [SURVEY ACRONYM] [YEAR(S)] | C17: Bar graph
B18: Chapter 4: Survey respondent characteristics
A19: 4.1 | B19: ='4.1'!A1 -> Table 4.1: Demographic characteristics of the adult population
B20: Chapter 5: HIV incidence
A21: 5.1 | B21: ='5.1'!A1 -> Table 5.1: Annual HIV incidence using the recent infection testing algorithm | D21: HIV incidence, by sex, 15-49 y, 15+ y
A22: 5.1.A | B22: ='5.1.A'!A1 -> Table 5.1.A: Annual HIV incidence auxiliary data: N, P, Q, R, MDRI, PFR, and T
A23: 5.3 | B23: ='5.2'!A1 -> Table 5.2: Adults living with HIV and number of new HIV infections per year using the recent infection testing algorithm | D23: PLHIV and number of new HIV infections
B24: Chapter 6: HIV prevalence
A25: 6.1 | B25: ='6.1'!A1 -> Table 6.1: HIV prevalence by demographic characteristics: Adults aged 15-49 years | D25: HIV prevalence, by sex, 15-49 y
A26: 6.2 | B26: ='6.2'!A1 -> Table 6.2: HIV prevalence by demographic characteristics: Adults aged 15-[UPPER AGE LIMIT] years | D26: HIV prevalence, by sex, 15+ y
B27: Figure 6.2.1: HIV prevalence among adults 15 - [UPPER AGE LIMIT] years by [SUBNATIONAL AREA], [SURVEY ACRONYM] [YEAR(S)] (map) | C27: Map | D27: HIV prevalence by [SUBNATIONAL AREA]
B28: Figure 6.2.2: HIV prevalence among adults 15 - [UPPER AGE LIMIT] years by [SUBNATIONAL AREA], [SURVEY ACRONYM] [YEAR(S)] (bar graph) | C28: Bar graph
A29: 6.3 | B29: ='6.3'!A1 -> Table 6.3: HIV prevalence by age
B30: Figure 6.3: HIV prevalence by age and sex, [SURVEY ACRONYM] [YEAR(S)] | C30: Bar graph | D30: HIV prevalence by age and sex, bar graph
B31: Chapter 7: HIV diagnosis and treatment
A32: 7.1.A | B32: ='7.1.A'!A1 -> Table 7.1.A: Self-reported HIV testing: Men
A33: 7.1.B | B33: ='7.1.B'!A1 -> Table 7.1.B: Self-reported HIV testing: Women
A34: 7.1.C | B34: ='7.1.C'!A1 -> Table 7.1.C: Self-reported HIV testing: Total
B35: Figure 7.1.A: Proportion of adults who reported having received an HIV test in the 12 months before the survey by age and sex, [SURVEY ACRONYM] [YEAR(S)] | C35: Bar graph
B36: Figure 7.1.B: Proportion of adults who did not report having received an HIV test in the last 12 months by age and sex, [SURVEY ACRONYM] [YEAR(S)] | C36: Bar graph
A37: 7.2.A | B37: ='7.2.A'!A1 -> Table 7.2.A: HIV diagnosis and treatment status: Men
A38: 7.2.B | B38: ='7.2.B'!A1 -> Table 7.2.B: HIV diagnosis and treatment status: Women
A39: 7.2.C | B39: ='7.2.C'!A1 -> Table 7.2.C: HIV diagnosis and treatment status: Total
B40: Figure 7.2: Proportion of adults living with HIV who reported awareness of HIV status and antiretroviral therapy use by sex and age, [SURVEY ACRONYM] [YEAR(S)] | C40: Bar graph
A41: 7.3.A | B41: ='7.3.A'!A1 -> Table 7.3.A: Concordance of self-reported treatment status versus presence of detectable antiretrovirals: Men
A42: 7.3.B | B42: ='7.3.B'!A1 -> Table 7.3.B: Concordance of self-reported treatment status versus presence of detectable antiretrovirals: Women
A43: 7.3.C | B43: ='7.3.C'!A1 -> Table 7.3.C: Concordance of self-reported treatment status versus presence of detectable antiretrovirals: Total
B44: Chapter 8: Viral load
A45: 8.1 | B45: ='8.1'!A1 -> Table 8.1: Viral load suppression (HIV RNA < 1,000 copies per milliliter) by demographic characteristics | D45: VLS, by sex, 15-49 y, 15+ y
B46: Figure 8.1.1: Viral load suppression among HIV-positive adults 15 - [UPPER AGE LIMIT] by [SUBNATIONAL AREA], [SURVEY ACRONYM] [YEAR(S)] (map) | C46: Map | D46: VLS by [SUBNATIONAL AREA], map
B47: Figure 8.1.2: Viral load suppression among HIV-positive adults 15 - [UPPER AGE LIMIT] by [SUBNATIONAL AREA], [SURVEY ACRONYM] [YEAR(S)] (bar graph) | C47: Bar graph
A48: 8.2 | B48: ='8.2'!A1 -> Table 8.2: Viral load suppression (HIV RNA < 1,000 copies per milliliter) by age and sex
B49: Figure 8.2: Viral load suppression among adults 15 - [UPPER AGE LIMIT] years living with HIV by age and sex, [SURVEY ACRONYM] [YEAR(S)] | C49: Bar graph | D49: VLS by age and sex, bar graph
A50: 8.3 | B50: ='8.3'!A1 -> Table 8.3: Population viremia among the adult population in [COUNTRY], by [SUBNATIONAL AREA]
B51: Figure 8.3: Population viremia (proportion of unsuppressed viral load in the adult population) by [SUBNATIONAL AREA], [SURVEY ACRONYM] [YEAR(S)] (map) | C51: Map of viremia by [SUBNATIONAL AREA]
A52: 8.4 | B52: ='8.4'!A1 -> Table 8.4: Viral load < 200 HIV RNA copies per milliliter by demographic and treatment characteristics
A53: 8.5 | B53: ='8.5'!A1 -> Table 8.5: Self-reported viral load testing
B54: Chapter 9: UNAIDS [90-90-90 or 95-95-95] targets
A55: 9.1.A | B55: ='9.1.A'!A1 -> Table 9.1.A: Adult [90-90-90 / 95-95-95] (self-reported and antiretroviral biomarker data); overall percentages
A56: 9.1.B | B56: ='9.1.B'!A1 -> Table 9.1.B: Adult [90-90-90 / 95-95-95] (self-reported and antiretroviral biomarker data); conditional percentages
B57: Figure 9.1: ARV-adjusted [90-90-90 or 95-95-95] among adults (aged 15 - [UPPER AGE LIMIT]) living with HIV by sex, [SURVEY ACRONYM] [YEAR(S)] | C57: Bar graph | D57: 90-90-90 (ARV adjusted) graph
A58: 9.2.A | B58: ='9.2.A'!A1 -> Table 9.2.A: Adult [90-90-90 / 95-95-95] (self-reported data adjusted for a viral load < 200 HIV RNA copies per milliliter); overall percentages
A59: 9.2.B | B59: ='9.2.B'!A1 -> Table 9.2.B: Adult [90-90-90 / 95-95-95] (self-reported data adjusted for viral load < 200 HIV RNA copies per milliliter); conditional percentages
B60: Figure 9.2: Viral load-adjusted [90-90-90 or 95-95-95] among adults (aged 15 - [UPPER AGE LIMIT]) living with HIV by sex, [SURVEY ACRONYM] [YEAR(S)] | C60: Bar graph
A61: 9.3.A | B61: ='9.3.A'!A1 -> Table 9.3.A: Adult [90-90-90 / 95-95-95] by geography (self-reported and antiretroviral biomarker data); overall percentages
A62: 9.3.B | B62: ='9.3.B'!A1 -> Table 9.3.B: Adult [90-90-90 / 95-95-95] by geography (self-reported and antiretroviral biomarker data); conditional percentages
B63: Chapter 10: Clinical perspectives on people living with HIV
A64: 10.1 | B64: ='10.1'!A1 -> Table 10.1: Median CD4 count by HIV diagnosis and antiretroviral therapy status
B65: Figure 10.1: CD4 count distribution among adults (aged 15 - [UPPER AGE LIMIT]) living with HIV by HIV diagnosis and ART status, [SURVEY ACRONYM] [YEAR(S)] | C65: Box plot
A66: 10.2 | B66: ='10.2'!A1 -> Table 10.2: CD4 count distribution
A67: 10.3 | B67: ='10.3'!A1 -> Table 10.3: Retention on antiretroviral therapy
A68: 10.4 | B68: ='10.4'!A1 -> Table 10.4: HIV care and treatment status by extended stay away from home
A69: 10.5 | B69: ='10.5'!A1 -> Table 10.5: Mental health and HIV care and treatment
B70: Chapter 11: Prevention of mother to child transmission of HIV
A71: 11.1 | B71: ='11.1'!A1 -> Table 11.1: Antenatal care
A72: 11.2 | B72: ='11.2'!A1 -> Table 11.2: Prevention of mother-to-child transmission: Known HIV status
A73: 11.3 | B73: ='11.3'!A1 -> Table 11.3: Prevention of mother-to-child transmission: HIV-positive pregnant women who received antiretroviral therapy
B74: Figure 11.3: Self-reported HIV testing status and antiretroviral therapy use during antenatal care among mothers aged 15-49 years who delivered in the 12 months before the survey, [SURVEY ACRONYM] [YEAR(S)] | C74: Pie Chart
A75: 11.4 | B75: ='11.4'!A1 -> Table 11.4: Breastfeeding status by child's age and mother's HIV status
A76: 11.5 | B76: ='11.5'!A1 -> Table 11.5: Prevention of mother-to-child transmission: Early infant testing
A77: 11.6 | B77: ='11.6'!A1 -> Table 11.6: Viral load suppression in HIV-positive women of childbearing age (ages 15-49 years), by pregnancy status and postpartum-related characteristics
B78: Figure 11.6: Viral load suppression among women aged 15-49 years by pregnancy status, postpartum timing, and breastfeeding status at time of survey, [SURVEY ACRONYM] [YEAR(S)] | C78: Bar graph
B79: Chapter 12: HIV risk factors and prevention interventions
A80: 12.1 | B80: ='12.1'!A1 -> Table 12.1: Sexual behavior by demographic characteristics
A81: 12.2 | B81: ='12.2'!A1 -> Table 12.2: HIV prevalence by sexual behavior
A82: 12.3 | B82: ='12.3'!A1 -> Table 12.3: Sex before the age of 15 years
A83: 12.4 | B83: ='12.4.A'!A1 -> Table 12.4.A: Condom use at last sex with a nonmarital, noncohabitating partner: Men
A84: 12.4 | B84: ='12.4.B'!A1 -> Table 12.4.B: Condom use at last sex with a nonmarital, noncohabitating partner: Women
A85: 12.4 | B85: ='12.4.C'!A1 -> Table 12.4.C: Condom use at last sex with a nonmarital, noncohabitating partner: Total
B86: Figure 12.4: Self-reported sex and condom use at last sex with a nonmarital, noncohabitating partner in the 12 months before the survey, [SURVEY ACRONYM] [YEAR(S)] | C86: Pie Chart
A87: 12.5 | B87: ='12.5'!A1 -> Table 12.5: Male circumcision
B88: Figure 12.5: Self-reported male circumcision status by survey HIV test result, [SURVEY ACRONYM] [YEAR(S)] | C88: Bar graph
A89: 12.6 | B89: ='12.6'!A1 -> Table 12.6: Self-reported knowledge of pre-exposure prophylaxis
A90: 12.7 | B90: ='12.7'!A1 -> Table 12.7: Willingness to take pre-exposure prophylaxis
B91: ='12.8'!A1 -> Table 12.8: Ever taken pre-exposure prophylaxis
B92: Chapter 13: Tuberculosis, cervical cancer and chronic conditions
A93: 13.1 | B93: ='13.1'!A1 -> Table 13.1: Cervical cancer screening among women living with HIV
A94: 13.2 | B94: ='13.2'!A1 -> Table 13.2: Chronic Health Conditions among HIV-positive and HIV-negative individuals
A95: 13.3 | B95: ='13.3'!A1 -> Table 13.3: HIV testing in tuberculosis clinics
A96: 13.4 | B96: ='13.4'!A1 -> Table 13.4: Self-reported tuberculosis clinic attendance and services among HIV-positive adults
A97: 13.5 | B97: ='13.5'!A1 -> Table 13.5: Tuberculosis symptom screening in HIV clinics
B101: SUMMARY SHEET
B102: =SS.1!A1 -> SS.1 Key findings
B103: =SS.2!A1 -> SS.2 HIV prevalence by age and sex
...

Sheet 2.1
A1: Table 2.1: Distribution of sampled enumeration areas and households by [SUBNATIONAL AREA]
A2: Distribution of sampled enumeration areas and households by [SUBNATIONAL AREA], [SURVEY ACRONYM] [YEAR(S)]
C3: Enumeration Areas | G3: Households | L3: [SURVEY ACRONYM, FIRST YEAR]_table_2_1.sas7bdat
A4: [SNA] | C4: Urban | D4: Rural | E4: Total | G4: Urban | H4: Rural | I4: Total | L4: Order | M4: Row | N4: Urban_ea_count | O4: Rural_ea_count | P4: Total_ea_count | Q4: Urban_hh_count | R4: Rural_hh_count | S4: Total_hh_count
A5: [SNA 1] | L5: 1 | M5: =IF(A5<>"", A5, "") -> [SNA 1]
A6: [SNA 2] | L6: 2 | M6: =IF(A6<>"", A6, "") -> [SNA 2]
A7: [SNA 3] | L7: 3 | M7: =IF(A7<>"", A7, "") -> [SNA 3]
A8: [SNA 4] | L8: 4 | M8: =IF(A8<>"", A8, "") -> [SNA 4]
A9: [SNA 5] | L9: 5 | M9: =IF(A9<>"", A9, "") -> [SNA 5]
L10: 6 | M10: =IF(A10<>"", A10, "")
A11: Total | L11: 7 | M11: =IF(A11<>"", A11, "") -> Total
A12: Return to TOC
A15: Datasets and variables used
A16: Dataset | B16: hh
A17: Subset | B17: <none>
A18: Analytic Variables | B18: clusterid
B19: householdid
A20: Row stratification variables | B20: subnational area (region, province, stratum, etc.)
A21: Column stratification variables | B21: urban
A22: Weight variables | B22: <none>

Sheet 2.2
A1: Table 2.2: Household response rates
A2: Number of households selected, occupied, and interviewed and household response rates (unweighted and weighted) by residence, [SURVEY ACRONYM] [YEAR(S)]
B3: Residence | D3: Total | L3: [SURVEY ACRONYM, FIRST YEAR]_Table2_2
A4: Result | B4: Urban | C4: Rural | L4: Order | M4: Row | N4: Urban | O4: Rural | P4: Total
A5: Household interviews | L5: 1 | M5: =IF(A5<>"", A5, "") -> Household interviews
A6: Households selected | L6: =L5+1 -> 2 | M6: =IF(A6<>"", A6, "") -> Households selected
A7: Households occupied | L7: =L6+1 -> 3 | M7: =IF(A7<>"", A7, "") -> Households occupied
A8: Households interviewed | L8: =L7+1 -> 4 | M8: =IF(A8<>"", A8, "") -> Households interviewed
L9: =L8+1 -> 5 | M9: =IF(A9<>"", A9, "")
A10: Household response rate1 (unweighted) | L10: =L9+1 -> 6 | M10: =IF(A10<>"", A10, "") -> Household response rate1 (unweighted)
A11: Household response rate1 (weighted) | L11: =L10+1 -> 7 | M11: =IF(A11<>"", A11, "") -> Household response rate1 (weighted)
A12: 1Household response rate was calculated using the American Association for Public Opinion Research (AAPOR) Response Rate 4 (RR4) method: https://www.aapor.org/AAPOR_Main/media/publications/Standard-Definitions20169theditionfinal.pdf.
A13: Return to TOC
A16: Datasets and variables used
A17: Dataset | B17: hh
A18: Subset | B18: <none>
A19: Analytic Variables | B19: hhstatus
A20: Row stratification variables | B20: <none>
A21: Column stratification variables | B21: urban
A22: Weight variables | B22: hhbwt0

Sheet 2.3
A1: Table 2.3: Individual interview and blood draw response rates
A2: Number of eligible individuals and response rates for individual interviews1 and blood draws2 (unweighted and weighted) by residence and sex, [SURVEY ACRONYM] [YEAR(S)]
B3: Residence | H3: Total by sex | J3: Total
B4: Urban | E4: Rural | M4: [SURVEY ACRONYM, FIRST YEAR]_Table2_3.sas7bdat
A5: Result | B5: Men | C5: Women | E5: Men | F5: Women | H5: Men | I5: Women | M5: Order | N5: Row | O5: MaleU | P5: FemaleU | Q5: MaleR | R5: FemaleR | S5: MaleTotal | T5: FemaleTotal | U5: TotalTotal | V5: MaleUNoverN | W5: FemaleUNoverN | X5: MaleRNoverN | Y5: FemaleRNoverN | Z5: MaleTotalNoverN | AA5: FemaleTotalNoverN | AB5: TotalTotalNoverN
A6: Eligible individuals, ages 15-24 years | M6: 1 | N6: =IF(A6<>"", A6, "") -> Eligible individuals, ages 15-24 years
A7: Number of eligible individuals | M7: =M6+1 -> 2 | N7: =IF(A7<>"", A7, "") -> Number of eligible individuals
A8: Interview response rate (unweighted) | M8: =M7+1 -> 3 | N8: =IF(A8<>"", A8, "") -> Interview response rate (unweighted)
A9: Interview response rate (weighted) | M9: =M8+1 -> 4 | N9: =IF(A9<>"", A9, "") -> Interview response rate (weighted)
A10: Blood draw response rate (unweighted) | M10: =M9+1 -> 5 | N10: =IF(A10<>"", A10, "") -> Blood draw response rate (unweighted)
A11: Blood draw response rate (weighted) | M11: =M10+1 -> 6 | N11: =IF(A11<>"", A11, "") -> Blood draw response rate (weighted)
M12: =M11+1 -> 7 | N12: =IF(A12<>"", A12, "")
A13: Eligible individuals, ages 15-49 years | M13: =M12+1 -> 8 | N13: =IF(A13<>"", A13, "") -> Eligible individuals, ages 15-49 years
A14: Number of eligible individuals | M14: =M13+1 -> 9 | N14: =IF(A14<>"", A14, "") -> Number of eligible individuals
A15: Interview response rate (unweighted) | M15: =M14+1 -> 10 | N15: =IF(A15<>"", A15, "") -> Interview response rate (unweighted)
A16: Interview response rate (weighted) | M16: =M15+1 -> 11 | N16: =IF(A16<>"", A16, "") -> Interview response rate (weighted)
A17: Blood draw response rate (unweighted) | M17: =M16+1 -> 12 | N17: =IF(A17<>"", A17, "") -> Blood draw response rate (unweighted)
A18: Blood draw response rate (weighted) | M18: =M17+1 -> 13 | N18: =IF(A18<>"", A18, "") -> Blood draw response rate (weighted)
M19: =M18+1 -> 14 | N19: =IF(A19<>"", A19, "")
A20: Eligible individuals, ages 15-[UPPER AGE LIMIT] years | M20: =M19+1 -> 15 | N20: =IF(A20<>"", A20, "") -> Eligible individuals, ages 15-[UPPER AGE LIMIT] years
A21: Number of eligible individuals | M21: =M20+1 -> 16 | N21: =IF(A21<>"", A21, "") -> Number of eligible individuals
A22: Number of interviewed individuals | M22: =M21+1 -> 17 | N22: =IF(A22<>"", A22, "") -> Number of interviewed individuals
A23: Number of individuals with blood draw | M23: =M22+1 -> 18 | N23: =IF(A23<>"", A23, "") -> Number of individuals with blood draw
A24: Interview response rate (unweighted) | M24: =M23+1 -> 19 | N24: =IF(A24<>"", A24, "") -> Interview response rate (unweighted)
A25: Interview response rate (weighted) | M25: =M24+1 -> 20 | N25: =IF(A25<>"", A25, "") -> Interview response rate (weighted)
A26: Blood draw response rate (unweighted) | M26: =M25+1 -> 21 | N26: =IF(A26<>"", A26, "") -> Blood draw response rate (unweighted)
A27: Blood draw response rate (weighted) | M27: =M26+1 -> 22 | N27: Blood draw response rate (weighted)
A28: Overall response rate (unweighted)3 | M28: =M27+1 -> 23 | N28: Overall response rate (unweighted)
A29: 1Interview response rate = number of individuals interviewed/number of eligible individuals. 2Blood draw response rate = number of individuals who provided blood/number of individuals interviewed. 3Overall response rate = household response rate * interview response rate * blood draw response rate.
A30: Return to TOC
A33: Datasets and variables used
A34: Dataset | B34: roster
A35: Subset | B35: indstatus = 1, 2
A36: Analytic Variables | B36: indstatus
B37: bt_status
B38: hhstatus
A39: Row stratification variables | B39: age15_24, age15_49, age15_up (age)
A40: Column stratification variables | B40: urban
B41: gender
A42: Weight variables | B42: indiv_bwt0 (interview response rate)
B43: trmpnr1w0 (blood draw response rate)

Sheet 3.1
A1: Table 3.1: Household composition
A2: Percent distribution of households by sex of head of household; median (quartile 1, quartile 3 [Q1, Q3]) size of household and median (Q1, Q3) number of children under 18 years of age by residence, [SURVEY ACRONYM] [YEAR(S)]
B3: Residence
B4: Urban | E4: Rural | H4: Total | L4: [SURVEY ACRONYM, FIRST YEAR]_Table3_1A.sas7bdat
A5: Characteristic | B5: Percent | C5: Number | E5: Percent | F5: Number | H5: Percent | I5: Number | L5: Order | M5: Row | N5: UrbanP | O5: UrbanN | P5: RuralP | Q5: RuralN | R5: TotalP | S5: TotalN | T5: UrbanNoverN | U5: RuralNoverN | V5: TotalNoverN
A6: Head of household | L6: 1 | M6: =A6 -> Head of household
A7: Male | L7: 2 | M7: =A7 -> Male
A8: Female | L8: 3 | M8: =A8 -> Female
L9: 4
A10: Total | B10: 100 | E10: 100 | H10: 100 | L10: 5 | M10: =A10 -> Total
B12: Residence
B13: Urban | E13: Rural | H13: Total | L13: [SURVEY ACRONYM, FIRST YEAR]_Table3_1B.sas7bdat
A14: Characteristic | B14: Median | C14: Q1, Q3 | E14: Median | F14: Q1, Q3 | H14: Median | I14: Q1, Q3 | L14: Order | M14: Row | N14: UrbanM | O14: UrbanQ1 | P14: UrbanQ3 | Q14: RuralM | R14: RuralQ1 | S14: RuralQ3 | T14: TotalM | U14: TotalQ1 | V14: TotalQ3
A15: Size of households | L15: 1 | M15: =A15 -> Size of households
A16: Number of children under 18 years of age | L16: 2 | M16: =A16 -> Number of children under 18 years of age
A17: Return to TOC
A20: Datasets and variables used
A21: Dataset | B21: hh
A22: Subset | B22: hhstatus = 1
A23: Analytic Variables | B23: childcount
B24: rostercount
B25: householdheadgender
A26: Row stratification variables | B26: <none>
A27: Column stratification variables | B27: urban
A28: Weight variables | B28: hhwt0

Sheet 3.2
A1: Table 3.2: Distribution of de facto household population (population pyramid)
A2: Percent distribution of the de facto household population by 5-year age groups and sex, [SURVEY ACRONYM] [YEAR(S)]
B3: Men | E3: Women | H3: Total | L3: [SURVEY ACRONYM, FIRST YEAR]_Table_3_2.sas7bdat
A4: Age | B4: Percent | C4: Number | E4: Percent | F4: Number | H4: Percent | I4: Number | L4: Order | M4: Row | N4: MaleP | O4: MaleN | P4: FemaleP | Q4: FemaleN | R4: TotalP | S4: TotalN | T4: MaleNoverN | U4: FemaleNoverN | V4: TotalNoverN
A5: 0-4 | L5: 1 | M5: =A5 -> 0-4
A6: 5-9 | L6: 2 | M6: =A6 -> 5-9
A7: 10-14 | L7: 3 | M7: =A7 -> 10-14
A8: 15-19 | L8: 4 | M8: =A8 -> 15-19
A9: 20-24 | L9: 5 | M9: =A9 -> 20-24
A10: 25-29 | L10: 6 | M10: =A10 -> 25-29
A11: 30-34 | L11: 7 | M11: =A11 -> 30-34
A12: 35-39 | L12: 8 | M12: =A12 -> 35-39
A13: 40-44 | L13: 9 | M13: =A13 -> 40-44
A14: 45-49 | L14: 10 | M14: =A14 -> 45-49
A15: 50-54 | L15: 11 | M15: =A15 -> 50-54
A16: 55-59 | L16: 12 | M16: =A16 -> 55-59
... A21: 80+ | L21: 17 | M21: =A21 -> 80+
L22: 18
A23: Total | H23: 100 | L23: 19 | M23: =A23 -> Total
A24: Return to TOC
A27: Datasets and variables used
A28: Dataset | B28: roster, hh
A29: Subset | B29: sleephere = 1
A30: Analytic Variables | B30: agegroup5population
A31: Row stratification variables | B31: <none>
A32: Column stratification variables | B32: gender
A33: Weight variables | B33: hhwt0

Sheet 3.3
A1: Table 3.3: Household population by age, sex, and residence
A2: Percent distribution of the household population by age, sex, and residence, [SURVEY ACRONYM] [YEAR(S)]
B3: Urban | K3: Rural
B4: Men | E4: Women | H4: Total | K4: Men | N4: Women | Q4: Total | AC4: [SURVEY ACRONYM, FIRST YEAR]_Table3_3.sas7bdat
A5: Age | B5: Percent | C5: Number | E5: Percent | F5: Number | H5: Percent | I5: Number | K5: Percent | L5: Number | N5: Percent | O5: Number | Q5: Percent | R5: Number | AC5: Order | AD5: Row | AE5: MaleUP | AF5: MaleUN | AG5: FemaleUP | AH5: FemaleUN | AI5: TotalUP | AJ5: TotalUN | AK5: MaleRP | AL5: MaleRN | AM5: FemaleRP | AN5: FemaleRN | AO5: TotalRP | AP5: TotalRN | AQ5: MaleUNoverN | AR5: FemaleUNoverN | AS5: TotalUNoverN | AT5: MaleRNoverN | AU5: FemaleRNoverN | AV5: TotalRNoverN
A6: 0-4 | AC6: 1 | AD6: =A6 -> 0-4
A7: 5-14 | AC7: =AC6+1 -> 2 | AD7: =A7 -> 5-14
A8: 15-49 | AC8: =AC7+1 -> 3 | AD8: =A8 -> 15-49
A9: 50+ | AC9: =AC8+1 -> 4 | AD9: =A9 -> 50+
AC10: =AC9+1 -> 5
A11: Total | B11: 100 | E11: 100 | H11: 100 | K11: 100 | N11: 100 | Q11: 100 | AC11: =AC10+1 -> 6 | AD11: =A11 -> Total
A12: Return to TOC
A15: Datasets and variables used
A16: Dataset | B16: roster, hh
A17: Subset | B17: sleephere = 1
A18: Analytic Variables | B18: age15_49, age50_up, age
A19: Row stratification variables | B19: <none>
A20: Column stratification variables | B20: urban
B21: gender
A22: Weight variables | B22: hhwt0

Sheet 3.4
A1: Table 3.4: Prevalence of HIV-affected households
A2: Percentage of households with at least one HIV-positive household member by residence, [SURVEY ACRONYM] [YEAR(S)] | L2: [SURVEY ACRONYM, FIRST YEAR]_Table3_4.sas7bdat
A3: Residence | B3: Percent | C3: Number | L3: Order | M3: Row | N3: TotalP | O3: TotalN | P3: TotalJKseP | Q3: TotalNoverN | R3: TotalJKLCLP | S3: TotalJKUCLP
A4: Urban | L4: 1 | M4: Urban
A5: Rural | L5: 2 | M5: Rural
L6: 3
A7: Total | L7: 4 | M7: Total
A8: Return to TOC
A11: Datasets and variables used
A12: Dataset | B12: hh
A13: Subset | B13: bloodtestcount ≥ 1
A14: Analytic Variables | B14: hivpositivecount
A15: Row stratification variables | B15: urban
A16: Column stratification variables | B16: <none>
A17: Weight variables | B17: hhwt0, hhwt001, …., hhwt[MAX]

Sheet 3.5
A1: Table 3.5: Prevalence of households with an HIV-positive head of household
A2: Percentage of households with an HIV-positive head of household by sex of head of household, [SURVEY ACRONYM] [YEAR(S)] | L2: [SURVEY ACRONYM, FIRST YEAR]_Table3_5.sas7bdat
A3: Sex of head of household | B3: Percent | C3: Number | L3: Order | M3: Row | N3: TotalP | O3: TotalN | P3: TotalJKseP | Q3: TotalNoverN | R3: TotalJKLCLP | S3: TotalJKUCLP
A4: Male | L4: 1 | M4: Male
A5: Female | L5: 2 | M5: Female
L6: 3
A7: Total | L7: 4 | M7: Total
A8: Return to TOC
A11: Datasets and variables used
A12: Dataset | B12: hh
A13: Subset | B13: householdheadhivpositive = 1, 2
A14: Analytic Variables | B14: householdheadhivpositive
A15: Row stratification variables | B15: householdheadgender
A16: Column stratification variables | B16: <none>
A17: Weight variables | B17: hhwt0, hhwt001, …., hhwt[MAX]

Sheet 4.1
A1: Table 4.1: Demographic characteristics of the adult population
A2: Percent distribution of the population aged [15 years and older / 15-[UPPER AGE LIMIT] years] by sex and selected demographic characteristics, [SURVEY ACRONYM] [YEAR(S)]
B3: Men | E3: Women | H3: Total | L3: [SURVEY ACRONYM, FIRST YEAR]_Table4_1.sas7bdat
A4: Characteristic | B4: Percent | C4: Number | E4: Percent | F4: Number | H4: Percent | I4: Number | L4: Order | M4: Row | N4: MaleP | O4: MaleN | P4: FemaleP | Q4: FemaleN | R4: TotalP | S4: TotalN | T4: MaleNoverN | U4: FemaleNoverN | V4: TotalNoverN
A5: Residence | L5: 1 | M5: =IF(A5<>"", A5, "") -> Residence
A6: Urban | L6: 2 | M6: =IF(A6<>"", A6, "") -> Urban
A7: Rural | L7: 3 | M7: =IF(A7<>"", A7, "") -> Rural
L8: 4 | M8: =IF(A8<>"", A8, "")
A9: [SUBNATIONAL AREA] | L9: 5 | M9: =IF(A9<>"", A9, "") -> [SUBNATIONAL AREA]
A10: [SNA 1] | L10: 6 | M10: =IF(A10<>"", A10, "") -> [SNA 1]
A11: [SNA 2] | L11: 7 | M11: =IF(A11<>"", A11, "") -> [SNA 2]
A12: [SNA 3] | L12: 8 | M12: =IF(A12<>"", A12, "") -> [SNA 3]
A13: [SNA 4] | L13: 9 | M13: =IF(A13<>"", A13, "") -> [SNA 4]
A14: [SNA 5] | L14: 10 | M14: =IF(A14<>"", A14, "") -> [SNA 5]
L15: 11 | M15: =IF(A15<>"", A15, "")
A16: Marital status | L16: 12 | M16: =IF(A16<>"", A16, "") -> Marital status
A17: Never married | L17: 13 | M17: =IF(A17<>"", A17, "") -> Never married
A18: Married or living together | L18: 14 | M18: =IF(A18<>"", A18, "") -> Married or living together
A19: Divorced or separated | L19: 15 | M19: =IF(A19<>"", A19, "") -> Divorced or separated
A20: Widowed | L20: 16 | M20: =IF(A20<>"", A20, "") -> Widowed
L21: 17 | M21: =IF(A21<>"", A21, "")
A22: Education | L22: 18 | M22: =IF(A22<>"", A22, "") -> Education
A23: No education | L23: 19 | M23: =IF(A23<>"", A23, "") -> No education
A24: Primary | L24: 20 | M24: =IF(A24<>"", A24, "") -> Primary
A25: Secondary | L25: 21 | M25: =IF(A25<>"", A25, "") -> Secondary
A26: More than secondary | L26: 22 | M26: =IF(A26<>"", A26, "") -> More than secondary
L27: 23 | M27: =IF(A27<>"", A27, "")
A28: Wealth quintile | L28: 24 | M28: =IF(A28<>"", A28, "") -> Wealth quintile
A29: Lowest | L29: 25 | M29: =IF(A29<>"", A29, "") -> Lowest
A30: Second | L30: 26 | M30: =IF(A30<>"", A30, "") -> Second
A31: Middle | L31: 27 | M31: =IF(A31<>"", A31, "") -> Middle
A32: Fourth | L32: 28 | M32: =IF(A32<>"", A32, "") -> Fourth
A33: Highest | L33: 29 | M33: =IF(A33<>"", A33, "") -> Highest
L34: 30 | M34: =IF(A34<>"", A34, "")
A35: Age | L35: 31 | M35: =IF(A35<>"", A35, "") -> Age
A36: 15-19 | L36: 32 | M36: =IF(A36<>"", A36, "") -> 15-19
A37: 20-24 | L37: 33 | M37: =IF(A37<>"", A37, "") -> 20-24
A38: 25-29 | L38: 34 | M38: =IF(A38<>"", A38, "") -> 25-29
A39: 30-34 | L39: 35 | M39: =IF(A39<>"", A39, "") -> 30-34
A40: 35-39 | L40: 36 | M40: =IF(A40<>"", A40, "") -> 35-39
A41: 40-44 | L41: 37 | M41: =IF(A41<>"", A41, "") -> 40-44
A42: 45-49 | L42: 38 | M42: =IF(A42<>"", A42, "") -> 45-49
A43: 50-54 | L43: 39 | M43: =IF(A43<>"", A43, "") -> 50-54
A44: 55-59 | L44: 40 | M44: =IF(A44<>"", A44, "") -> 55-59
A45: 60-64 | L45: 41 | M45: =IF(A45<>"", A45, "") -> 60-64
A46: 65+ | L46: 42 | M46: =IF(A46<>"", A46, "") -> 65+
L47: 43 | M47: =IF(A47<>"", A47, "")
L48: 44 | M48: =IF(A48<>"", A48, "")
A49: Total 15-24 | L49: 45 | M49: =IF(A49<>"", A49, "") -> Total 15-24
A50: Total 15-49 | L50: 46 | M50: =IF(A50<>"", A50, "") -> Total 15-49
A51: Total 50-[UPPER AGE LIMIT] | L51: 47 | M51: =IF(A51<>"", A51, "") -> Total 50-[UPPER AGE LIMIT]
A52: Total 15-[UPPER AGE LIMIT] | B52: 100 | E52: 100 | H52: 100 | L52: 48 | M52: =IF(A52<>"", A52, "") -> Total 15-[UPPER AGE LIMIT]
A53: Note: Education categories refer to the highest level of education attended, whether or not that level was completed.
A54: Return to TOC
A57: Datasets and variables used
A58: Dataset | B58: adultind
A59: Subset | B59: indstatus = 1
A60: Analytic Variables | B60: urban
B61: subnational area (region, province, stratum, etc.)
B62: married
B63: education
B64: wealthquintile
B65: agegroup
B66: age15_24, age15_49, age50_up, age15_up (age)
A67: Row stratification variables | B67: <none>
A68: Column stratification variables | B68: gender
A69: Weight variables | B69: intwt0

Sheet 5.1
A1: Table 5.1: Annual HIV incidence using the recent infection testing algorithm
A2: Annual incidence of HIV among adults aged 15-49 and [15 years and older / 15-[UPPER AGE LIMIT], by sex and age, using the recent infection testing algorithm (limiting antigen plus viral load plus antiretroviral biomarker testing), [SURVEY ACRONYM] [YEAR(S)]
B3: Men | E3: Women | H3: Total | L3: [SURVEY ACRONYM, FIRST YEAR]_Table_5_1.sas7bdat
A4: Age | B4: Percentage annual incidence1 | C4: 95% CI | E4: Percentage annual incidence1 | F4: 95% CI | H4: Percentage annual incidence1 | I4: 95% CI | L4: Order | M4: Row | N4: MaleP | O4: MaleJKCI | P4: MaleRecN | Q4: MaleN | R4: FemaleP | S4: FemaleJKCI | T4: FemaleRecN | U4: FemaleN | V4: TotalP | W4: TotakJKCI | X4: TotalRecN | Y4: TotalN | Z4: MaleDEFF | AA4: FemaleDEFF | AB4: TotalDEFF | AC4: MaleJKLCLP | AD4: MaleJKUCLP | AE4: FemaleJKLCLP | AF4: FemaleJKUCLP | AG4: TotalJKLCLP | AH4: TotalJKUCLP | AI4: MaleADJLCLP | AJ4: MaleADJUCLP | AK4: FemaleADJLCLP | AL4: FemaleADJUCLP | AM4: TotalADJLCLP | AN4: TotalADJUCLP
A5: 15-24 | L5: 1 | M5: 15-24
A6: 25-34 | L6: 2 | M6: 25-34
A7: 35-49 | L7: 3 | M7: 35-49
A8: 50-[UPPER AGE LIMIT] | L8: 4 | M8: 50-[UPPER AGE LIMIT]
A10: 15-49 | L10: 5 | M10: 15-49
A11: 15-[UPPER AGE LIMIT] | L11: 6 | M11: =A11 -> 15-[UPPER AGE LIMIT]
A12: 1Relates to Global AIDS Monitoring [2020 / 2021] indicator 3.1: HIV incidence.
A13: Return to TOC
A16: Datasets and variables used
A17: Dataset | B17: adultbio
A18: Subset | B18: bt_status = 1
A19: Analytic Variables | B19: hivstatusfinal
B20: recentlagvlarv
A21: Row stratification variables | B21: age
A22: Column stratification variables | B22: gender
A23: Weight variables | B23: btwt0, btwt001, …., btwt[MAX]

Sheet 5.1.A
A1: Table 5.1.A: Annual HIV incidence auxiliary data: N, P, Q, R, MDRI, PFR, and T
A2: Annual incidence of HIV among adults aged 15-49 and [15 years and older / 15-[UPPER AGE LIMIT], by sex and age, using the recent infection testing algorithm (limiting antigen plus viral load plus antiretroviral biomarker testing), [SURVEY ACRONYM] [YEAR(S)]
B3: Men | L3: [SURVEY ACRONYM, FIRST YEAR]_Table_5_1_A.sas7bdat
A4: Age | B4: Number HIV negative1 (N) | C4: Number HIV positive1 (P) | D4: Number tested on LAg assay1 (Q) | E4: Number HIV recent1 (R) | L4: Order | M4: Row | N4: MaleN | O4: MaleP | P4: MaleQ | Q4: MaleR | R4: FemaleN | S4: FemaleP | T4: FemaleQ | U4: FemaleR | V4: TotalN | W4: TotalP | X4: TotalQ | Y4: TotalR
A5: 15-24 | L5: 1 | M5: 15-24
A6: 25-34 | L6: 2 | M6: 25-34
A7: 35-49 | L7: 3 | M7: 35-49
A8: 50-[UPPER AGE LIMIT] | L8: 4 | M8: 50-[UPPER AGE LIMIT]
L9: 5
A10: 15-49 | L10: 6 | M10: 15-49
A11: 15-[UPPER AGE LIMIT] | L11: 7 | M11: =A11 -> 15-[UPPER AGE LIMIT]
B12: Women
A13: Age | B13: Number HIV negative1 (N) | C13: Number HIV positive1 (P) | D13: Number tested on LAg assay1 (Q) | E13: Number HIV recent1 (R)
A14: 15-24
A15: 25-34
A16: 35-49
A17: 50-[UPPER AGE LIMIT]
A19: 15-49
A20: 15-[UPPER AGE LIMIT]
B21: Total
A22: Age | B22: Number HIV negative1 (N) | C22: Number HIV positive1 (P) | D22: Number tested on LAg assay1 (Q) | E22: Number HIV recent1 (R)
A23: 15-24
A24: 25-34
A25: 35-49
A26: 15-49
A27: 50-[UPPER AGE LIMIT]
A29: 15-49
A30: 15-[UPPER AGE LIMIT]
A31: 1Weighted number. Note: mean duration recent infection (MDRI) = [130 days (95% CI: 118-142 days) or country-specific]; proportion false recent (PFR) = 0.00; time cutoff (T) = 1 year.
A32: Return to TOC
A35: Datasets and variables used
A36: Dataset | B36: adultbio
A37: Subset | B37: bt_status = 1
A38: Analytic Variables | B38: hivstatusfinal
B39: recentlagvlarv
A40: Row stratification variables | B40: age
A41: Column stratification variables | B41: gender
A42: Weight variables | B42: btwt0, btwt001, …., btwt[MAX]

Sheet 5.2
A1: Table 5.2: Adults living with HIV and number of new HIV infections per year using the recent infection testing algorithm
A2: People living with HIV and number of new HIV infections per year among adults aged 15-49 years and [15 years and older / 15-[UPPER AGE LIMIT] years], by age, using the recent infection testing algorithm (limiting antigen plus viral load plus antiretroviral biomarker testing), [SURVEY ACRONYM] [YEAR(S)] | I2: [SURVEY ACRONYM, FIRST YEAR]_Table5_2.sas7bdat
A3: Age | B3: People living with HIV1 | C3: 95% CI | E3: Number of new infections per year | F3: 95% CI | I3: Order | J3: Row | K3: PLHIV | L3: PLHIVJKSEP | M3: PLHIVJKLCLP | N3: PLHIVJKUCLP | O3: NEWINF | P3: NEWINFJKSEP | Q3: NEWINFJKLCLP | R3: NEWINFJKUCLP
A4: 15-24 | I4: 1 | J4: 15-24
A5: 25-34 | I5: 2 | J5: 25-34
A6: 35-49 | I6: 3 | J6: 35-49
A7: 50-[UPPER AGE LIMIT] | I7: =I6+1 -> 4 | J7: =A7 -> 50-[UPPER AGE LIMIT]
I8: =I7+1 -> 5
A9: 15-49 | I9: =I8+1 -> 6 | J9: 15-49
A10: 15-[UPPER AGE LIMIT] | I10: =I9+1 -> 7 | J10: =A10 -> 15-[UPPER AGE LIMIT]
A11: 1People living with HIV is calculated as the weighted total number of HIV positive people, equivalent to multiplying the HIV prevalence by the population count.
A12: Return to TOC
A15: Datasets and variables used
A16: Dataset | B16: adultbio
A17: Subset | B17: bt_status = 1
A18: Analytic Variables | B18: hivstatusfinal
B19: recentlagvlarv
A20: Row stratification variables | B20: age
A21: Column stratification variables | B21: gender
A22: Weight variables | B22: btwt0, btwt001, …., btwt[MAX]

Sheet 6.1
A1: Table 6.1: HIV prevalence by demographic characteristics: Adults aged 15-49 years
A2: Prevalence of HIV among adults aged 15-49 years by sex and selected demographic characteristics, [SURVEY ACRONYM] [YEAR(S)]
B3: Men | E3: Women | H3: Total | L3: [SURVEY ACRONYM, FIRST YEAR]_Table6_1.sas7bdat
A4: Characteristic | B4: Percentage HIV positive | C4: Number | E4: Percentage HIV positive | F4: Number | H4: Percentage HIV positive | I4: Number | L4: Order | M4: Row | N4: MaleP | O4: MaleN | P4: FemaleP | Q4: FemaleN | R4: TotalP | S4: TotalN | T4: MaleJKseP | U4: FemaleJKseP | V4: TotalJKseP | W4: MaleNoverN | X4: FemaleNoverN | Y4: TotalNoverN | Z4: MaleJKLCLP | AA4: MaleJKUCLP | AB4: FemaleJKLCLP | AC4: FemaleJKUCLP | AD4: TotalJKLCLP | AE4: TotalJKUCLP
A5: Residence | L5: 1 | M5: =IF(A5<>"", A5, "") -> Residence
A6: Urban | L6: 2 | M6: =IF(A6<>"", A6, "") -> Urban
A7: Rural | L7: 3 | M7: =IF(A7<>"", A7, "") -> Rural
L8: 4 | M8: =IF(A8<>"", A8, "")
A9: [SUBNATIONAL AREA] | L9: 5 | M9: =IF(A9<>"", A9, "") -> [SUBNATIONAL AREA]
A10: [SNA 1] | L10: 6 | M10: =IF(A10<>"", A10, "") -> [SNA 1]
A11: [SNA 2] | L11: 7 | M11: =IF(A11<>"", A11, "") -> [SNA 2]
A12: [SNA 3] | L12: 8 | M12: =IF(A12<>"", A12, "") -> [SNA 3]
A13: [SNA 4] | L13: 9 | M13: =IF(A13<>"", A13, "") -> [SNA 4]
A14: [SNA 5] | L14: 10 | M14: =IF(A14<>"", A14, "") -> [SNA 5]
L15: 11 | M15: =IF(A15<>"", A15, "")
A16: Marital status | L16: 12 | M16: =IF(A16<>"", A16, "") -> Marital status
A17: Never married | L17: 13 | M17: =IF(A17<>"", A17, "") -> Never married
A18: Married or living together | L18: 14 | M18: =IF(A18<>"", A18, "") -> Married or living together
A19: Divorced or separated | L19: 15 | M19: =IF(A19<>"", A19, "") -> Divorced or separated
A20: Widowed | L20: 16 | M20: =IF(A20<>"", A20, "") -> Widowed
L21: 17 | M21: =IF(A21<>"", A21, "")
A22: Education | L22: 18 | M22: =IF(A22<>"", A22, "") -> Education
A23: No education | L23: 19 | M23: =IF(A23<>"", A23, "") -> No education
A24: Primary | L24: 20 | M24: =IF(A24<>"", A24, "") -> Primary
A25: Secondary | L25: 21 | M25: =IF(A25<>"", A25, "") -> Secondary
A26: More than secondary | L26: 22 | M26: =IF(A26<>"", A26, "") -> More than secondary
L27: 23 | M27: =IF(A27<>"", A27, "")
A28: Wealth quintile | L28: 24 | M28: =IF(A28<>"", A28, "") -> Wealth quintile
A29: Lowest | L29: 25 | M29: =IF(A29<>"", A29, "") -> Lowest
A30: Second | L30: 26 | M30: =IF(A30<>"", A30, "") -> Second
A31: Middle | L31: 27 | M31: =IF(A31<>"", A31, "") -> Middle
A32: Fourth | L32: 28 | M32: =IF(A32<>"", A32, "") -> Fourth
A33: Highest | L33: 29 | M33: =IF(A33<>"", A33, "") -> Highest
L34: =L33+1 -> 30 | M34: =IF(A34<>"", A34, "")
A35: Pregnancy status | L35: =L34+1 -> 31 | M35: =IF(A35<>"", A35, "") -> Pregnancy status
A36: Currently pregnant | B36: NA | C36: NA | H36: NA | I36: NA | L36: =L35+1 -> 32 | M36: =IF(A36<>"", A36, "") -> Currently pregnant
A37: Not currently pregnant | B37: NA | C37: NA | H37: NA | I37: NA | L37: =L36+1 -> 33 | M37: =IF(A37<>"", A37, "") -> Not currently pregnant
L38: =L37+1 -> 34 | M38: =IF(A38<>"", A38, "")
A39: Total 15-49 | L39: =L38+1 -> 35 | M39: =IF(A39<>"", A39, "") -> Total 15-49
A40: Note: Education categories refer to the highest level of education attended, whether or not that level was completed.
A41: Return to TOC
A43: Datasets and variables used
A44: Dataset | B44: adultbio, adultind
A45: Subset | B45: bt_status = 1 and 15 ≤ age ≤ 49
A46: Analytic Variables | B46: hivstatusfinal
A47: Row stratification variables | B47: urban
B48: subnational area (region, province, stratum, etc.)
B49: married
B50: education
B51: wealthquintile
B52: age15_49 (age)
A53: Column stratification variables | B53: gender
A54: Weight variables | B54: btwt0, btwt001, …., btwt[MAX]

Sheet 6.2
A1: Table 6.2: HIV prevalence by demographic characteristics: Adults aged 15-[UPPER AGE LIMIT] years
A2: Prevalence of HIV among adults aged [15 years and older / 15-[UPPER AGE LIMIT] years] by sex and selected demographic characteristics, [SURVEY ACRONYM] [YEAR(S)]
B3: Men | E3: Women | H3: Total | L3: [SURVEY ACRONYM, FIRST YEAR]_Table6_2.sas7bdat
A4: Characteristic | B4: Percentage HIV positive | C4: Number | E4: Percentage HIV positive | F4: Number | H4: Percentage HIV positive | I4: Number | L4: Order | M4: Row | N4: MaleP | O4: MaleN | P4: FemaleP | Q4: FemaleN | R4: TotalP | S4: TotalN | T4: MaleJKseP | U4: FemaleJKseP | V4: TotalJKseP | W4: MaleNoverN | X4: FemaleNoverN | Y4: TotalNoverN | Z4: MaleJKLCLP | AA4: MaleJKUCLP | AB4: FemaleJKLCLP | AC4: FemaleJKUCLP | AD4: TotalJKLCLP | AE4: TotalJKUCLP
A5: Residence | L5: 1 | M5: =IF(A5<>"", A5, "") -> Residence
A6: Urban | L6: 2 | M6: =IF(A6<>"", A6, "") -> Urban
A7: Rural | L7: 3 | M7: =IF(A7<>"", A7, "") -> Rural
L8: 4 | M8: =IF(A8<>"", A8, "")
A9: [SUBNATIONAL AREA] | L9: 5 | M9: =IF(A9<>"", A9, "") -> [SUBNATIONAL AREA]
A10: [SNA 1] | L10: 6 | M10: =IF(A10<>"", A10, "") -> [SNA 1]
A11: [SNA 2] | L11: 7 | M11: =IF(A11<>"", A11, "") -> [SNA 2]
A12: [SNA 3] | L12: 8 | M12: =IF(A12<>"", A12, "") -> [SNA 3]
A13: [SNA 4] | L13: 9 | M13: =IF(A13<>"", A13, "") -> [SNA 4]
A14: [SNA 5] | L14: 10 | M14: =IF(A14<>"", A14, "") -> [SNA 5]
L15: 11 | M15: =IF(A15<>"", A15, "")
A16: Marital status | L16: 12 | M16: =IF(A16<>"", A16, "") -> Marital status
A17: Never married | L17: 13 | M17: =IF(A17<>"", A17, "") -> Never married
A18: Married or living together | L18: 14 | M18: =IF(A18<>"", A18, "") -> Married or living together
A19: Divorced or separated | L19: 15 | M19: =IF(A19<>"", A19, "") -> Divorced or separated
A20: Widowed | L20: 16 | M20: =IF(A20<>"", A20, "") -> Widowed
L21: 17 | M21: =IF(A21<>"", A21, "")
A22: Education | L22: 18 | M22: =IF(A22<>"", A22, "") -> Education
A23: No education | L23: 19 | M23: =IF(A23<>"", A23, "") -> No education
A24: Primary | L24: 20 | M24: =IF(A24<>"", A24, "") -> Primary
A25: Secondary | L25: 21 | M25: =IF(A25<>"", A25, "") -> Secondary
A26: More than secondary | L26: 22 | M26: =IF(A26<>"", A26, "") -> More than secondary
L27: 23 | M27: =IF(A27<>"", A27, "")
A28: Wealth quintile | L28: 24 | M28: =IF(A28<>"", A28, "") -> Wealth quintile
A29: Lowest | L29: 25 | M29: =IF(A29<>"", A29, "") -> Lowest
A30: Second | L30: 26 | M30: =IF(A30<>"", A30, "") -> Second
A31: Middle | L31: 27 | M31: =IF(A31<>"", A31, "") -> Middle
A32: Fourth | L32: 28 | M32: =IF(A32<>"", A32, "") -> Fourth
A33: Highest | L33: 29 | M33: =IF(A33<>"", A33, "") -> Highest
L34: =L33+1 -> 30 | M34: =IF(A34<>"", A34, "")
A35: Pregnancy status | L35: =L34+1 -> 31 | M35: =IF(A35<>"", A35, "") -> Pregnancy status
A36: Currently pregnant | B36: NA | C36: NA | H36: NA | I36: NA | L36: =L35+1 -> 32 | M36: =IF(A36<>"", A36, "") -> Currently pregnant
A37: Not currently pregnant | B37: NA | C37: NA | H37: NA | I37: NA | L37: =L36+1 -> 33 | M37: =IF(A37<>"", A37, "") -> Not currently pregnant
L38: =L37+1 -> 34 | M38: =IF(A38<>"", A38, "")
A39: Total 15-[UPPER AGE LIMIT] | L39: =L38+1 -> 35 | M39: =IF(A39<>"", A39, "") -> Total 15-[UPPER AGE LIMIT]
A40: Note: Education categories refer to the highest level of education attended, whether or not that level was completed.
A41: Return to TOC
A44: Datasets and variables used
A45: Dataset | B45: adultbio, adultind
A46: Subset | B46: bt_status = 1
A47: Analytic Variables | B47: hivstatusfinal
A48: Row stratification variables | B48: urban
B49: subnational area (region, province, stratum, etc.)
B50: married
B51: education
B52: wealthquintile
B53: age15_up (age)
A54: Column stratification variables | B54: gender
A55: Weight variables | B55: btwt0, btwt001, …., btwt[MAX]

Sheet 6.3
A1: Table 6.3: HIV prevalence by age
A2: Prevalence of HIV among adults aged [15 years and older / 15-[UPPER AGE LIMIT] years] by sex and age, [SURVEY ACRONYM] [YEAR(S)]
B3: Men | E3: Women | H3: Total | L3: [SURVEY ACRONYM, FIRST YEAR]_Table6_3.sas7bdat
A4: Age | B4: Percentage HIV positive | C4: Number | E4: Percentage HIV positive | F4: Number | H4: Percentage HIV positive | I4: Number | L4: Order | M4: Row | N4: MaleP | O4: MaleN | P4: FemaleP | Q4: FemaleN | R4: TotalP | S4: TotalN | T4: MaleJKseP | U4: FemaleJKseP | V4: TotalJKseP | W4: MaleNoverN | X4: FemaleNoverN | Y4: TotalNoverN | Z4: MaleJKLCLP | AA4: MaleJKUCLP | AB4: FemaleJKLCLP | AC4: FemaleJKUCLP | AD4: TotalJKLCLP | AE4: TotalJKUCLP
A5: 15-19 | L5: 1 | M5: =IF(A5<>"", A5, "") -> 15-19
A6: 20-24 | L6: 2 | M6: =IF(A6<>"", A6, "") -> 20-24
A7: 25-29 | L7: 3 | M7: =IF(A7<>"", A7, "") -> 25-29
A8: 30-34 | L8: =L7+1 -> 4 | M8: =IF(A8<>"", A8, "") -> 30-34
A9: 35-39 | L9: =L8+1 -> 5 | M9: =IF(A9<>"", A9, "") -> 35-39
A10: 40-44 | L10: =L9+1 -> 6 | M10: =IF(A10<>"", A10, "") -> 40-44
A11: 45-49 | L11: =L10+1 -> 7 | M11: =IF(A11<>"", A11, "") -> 45-49
A12: 50-54 | L12: =L11+1 -> 8 | M12: =IF(A12<>"", A12, "") -> 50-54
A13: 55-59 | L13: =L12+1 -> 9 | M13: =IF(A13<>"", A13, "") -> 55-59
A14: 60-64 | L14: =L13+1 -> 10 | M14: =IF(A14<>"", A14, "") -> 60-64
A15: 65+ | L15: =L14+1 -> 11 | M15: =IF(A15<>"", A15, "") -> 65+
L16: =L15+1 -> 12 | M16: =IF(A16<>"", A16, "")
A17: Total 15-24 | L17: =L16+1 -> 13 | M17: =IF(A17<>"", A17, "") -> Total 15-24
A18: Total 15-49 | L18: =L17+1 -> 14 | M18: =IF(A18<>"", A18, "") -> Total 15-49
A19: Total 50-[UPPER AGE LIMIT] | L19: =L18+1 -> 15 | M19: =IF(A19<>"", A19, "") -> Total 50-[UPPER AGE LIMIT]
A20: Total 15-[UPPER AGE LIMIT] | L20: =L19+1 -> 16 | M20: =IF(A20<>"", A20, "") -> Total 15-[UPPER AGE LIMIT]
A21: Return to TOC
A24: Datasets and variables used
A25: Dataset | B25: adultbio
A26: Subset | B26: bt_status = 1
A27: Analytic Variables | B27: hivstatusfinal
A28: Row stratification variables | B28: agegroup
B29: age15_24, age15_49, age50_up, age15_up (age)
A30: Column stratification variables | B30: gender
A31: Weight variables | B31: btwt0, btwt001, …., btwt[MAX]

Sheet 7.1.A
A1: Table 7.1.A: Self-reported HIV testing: Men
A2: Percentage of men aged [15 years and older / 15-[UPPER AGE LIMIT] years] who reported they had ever received an HIV test, and percentage who reported they had received an HIV test in the 12 months before the survey, by result of [SURVEY ACRONYM] HIV test and selected demographic characteristics, [SURVEY ACRONYM] [YEAR(S)]
A3: Characteristic | B3: Among all men | F3: Among men who did not report an HIV-positive status | P3: [SURVEY ACRONYM, FIRST YEAR]_Table7_1_A.sas7bdat
B4: Percentage who had ever received an HIV test | C4: Percentage who received an HIV test in the 12 months before the survey1 | D4: Number | F4: Percentage who had ever received an HIV test | G4: Percentage who received an HIV test in the 12 months before the survey1 | H4: Number | P4: Order | Q4: row | R4: HIVTestP | S4: HIVTest12moP | T4: TotalN | U4: NotSRPosHIVTestP | V4: NotSRPosHIVTest12moP | W4: NotSRPosHIVN | X4: HIVTestJKseP | Y4: HIVTest12moJKseP | Z4: NotSRPosHIVTestJKseP | AA4: NotSRPosHIVTest12moJKseP | AB4: HIVTestNoverN | AC4: HIVTest12moNoverN | AD4: NotSRPosHIVTestNoverN | AE4: NotSRPosHIVTest12moNoverN | AF4: HIVTestJKLCLP | AG4: HIVTestJKUCLP | AH4: HIVTest12moJKLCLP | AI4: HIVTest12moJKUCLP | AJ4: NotSRPosHIVTestJKLCLP | AK4: NotSRPosHIVTestJKUCLP | AL4: NotSRPosHIVTest12moJKCLP | AM4: NotSRPosHIVTest12moJKUCLP
A5: Result of [SURVEY ACRONYM] HIV test | P5: 1 | Q5: Result of [SURVEY ACRONYM] HIV test
A6: HIV positive | P6: =P5+1 -> 2 | Q6: =IF(A6<>"", A6, "") -> HIV positive
A7: HIV negative | P7: =P6+1 -> 3 | Q7: =IF(A7<>"", A7, "") -> HIV negative
A8: Not tested | P8: =P7+1 -> 4 | Q8: =IF(A8<>"", A8, "") -> Not tested
P9: =P8+1 -> 5 | Q9: =IF(A9<>"", A9, "")
A10: Residence | P10: =P9+1 -> 6 | Q10: =IF(A10<>"", A10, "") -> Residence
A11: Urban | P11: =P10+1 -> 7 | Q11: =IF(A11<>"", A11, "") -> Urban
A12: Rural | P12: =P11+1 -> 8 | Q12: =IF(A12<>"", A12, "") -> Rural
P13: =P12+1 -> 9 | Q13: =IF(A13<>"", A13, "")
A14: [SUBNATIONAL AREA] | P14: =P13+1 -> 10 | Q14: =IF(A14<>"", A14, "") -> [SUBNATIONAL AREA]
A15: [SNA 1] | P15: =P14+1 -> 11 | Q15: =IF(A15<>"", A15, "") -> [SNA 1]
A16: [SNA 2] | P16: =P15+1 -> 12 | Q16: =IF(A16<>"", A16, "") -> [SNA 2]
A17: [SNA 3] | P17: =P16+1 -> 13 | Q17: =IF(A17<>"", A17, "") -> [SNA 3]
A18: [SNA 4] | P18: =P17+1 -> 14 | Q18: =IF(A18<>"", A18, "") -> [SNA 4]
A19: [SNA 5] | P19: =P18+1 -> 15 | Q19: =IF(A19<>"", A19, "") -> [SNA 5]
P20: =P19+1 -> 16 | Q20: =IF(A20<>"", A20, "")
A21: Marital status | P21: =P20+1 -> 17 | Q21: =IF(A21<>"", A21, "") -> Marital status
A22: Never married | P22: =P21+1 -> 18 | Q22: =IF(A22<>"", A22, "") -> Never married
A23: Married or living together | P23: =P22+1 -> 19 | Q23: =IF(A23<>"", A23, "") -> Married or living together
A24: Divorced or separated | P24: =P23+1 -> 20 | Q24: =IF(A24<>"", A24, "") -> Divorced or separated
A25: Widowed | P25: =P24+1 -> 21 | Q25: =IF(A25<>"", A25, "") -> Widowed
P26: =P25+1 -> 22 | Q26: =IF(A26<>"", A26, "")
A27: Education | P27: =P26+1 -> 23 | Q27: =IF(A27<>"", A27, "") -> Education
A28: No education | P28: =P27+1 -> 24 | Q28: =IF(A28<>"", A28, "") -> No education
A29: Primary | P29: =P28+1 -> 25 | Q29: =IF(A29<>"", A29, "") -> Primary
A30: Secondary | P30: =P29+1 -> 26 | Q30: =IF(A30<>"", A30, "") -> Secondary
A31: More than secondary | P31: =P30+1 -> 27 | Q31: =IF(A31<>"", A31, "") -> More than secondary
P32: =P31+1 -> 28 | Q32: =IF(A32<>"", A32, "")
A33: Wealth quintile | P33: =P32+1 -> 29 | Q33: =IF(A33<>"", A33, "") -> Wealth quintile
A34: Lowest | P34: =P33+1 -> 30 | Q34: =IF(A34<>"", A34, "") -> Lowest
A35: Second | P35: =P34+1 -> 31 | Q35: =IF(A35<>"", A35, "") -> Second
A36: Middle | P36: =P35+1 -> 32 | Q36: =IF(A36<>"", A36, "") -> Middle
A37: Fourth | P37: =P36+1 -> 33 | Q37: =IF(A37<>"", A37, "") -> Fourth
A38: Highest | P38: =P37+1 -> 34 | Q38: =IF(A38<>"", A38, "") -> Highest
P39: =P38+1 -> 35 | Q39: =IF(A39<>"", A39, "")
A40: Age | P40: =P39+1 -> 36 | Q40: =IF(A40<>"", A40, "") -> Age
A41: 15-19 | P41: =P40+1 -> 37 | Q41: =IF(A41<>"", A41, "") -> 15-19
A42: 20-24 | P42: =P41+1 -> 38 | Q42: =IF(A42<>"", A42, "") -> 20-24
A43: 25-29 | P43: =P42+1 -> 39 | Q43: =IF(A43<>"", A43, "") -> 25-29
A44: 30-34 | P44: =P43+1 -> 40 | Q44: =IF(A44<>"", A44, "") -> 30-34
A45: 35-39 | P45: =P44+1 -> 41 | Q45: =IF(A45<>"", A45, "") -> 35-39
A46: 40-44 | P46: =P45+1 -> 42 | Q46: =IF(A46<>"", A46, "") -> 40-44
A47: 45-49 | P47: =P46+1 -> 43 | Q47: =IF(A47<>"", A47, "") -> 45-49
A48: 50-54 | P48: =P47+1 -> 44 | Q48: =IF(A48<>"", A48, "") -> 50-54
A49: 55-59 | P49: =P48+1 -> 45 | Q49: =IF(A49<>"", A49, "") -> 55-59
A50: 60-64 | P50: =P49+1 -> 46 | Q50: =IF(A50<>"", A50, "") -> 60-64
A51: 65+ | P51: =P50+1 -> 47 | Q51: =IF(A51<>"", A51, "") -> 65+
P52: =P51+1 -> 48 | Q52: =IF(A52<>"", A52, "")
A53: Total 15-24 | P53: =P52+1 -> 49 | Q53: =IF(A53<>"", A53, "") -> Total 15-24
A54: Total 15-49 | P54: =P53+1 -> 50 | Q54: =IF(A54<>"", A54, "") -> Total 15-49
A55: Total 50-[UPPER AGE LIMIT]
A56: Total 15-[UPPER AGE LIMIT] | P56: =P54+1 -> 51 | Q56: =IF(A56<>"", A56, "") -> Total 15-[UPPER AGE LIMIT]
A57: 1Relates to PEPFAR indicator HTS_TST: Number of individuals who received HIV testing services and received their test results. Note: Education categories refer to the highest level of education attended, whether or not that level was completed.
A58: Return to TOC
A61: Datasets and variables used
A62: Dataset | B62: adultind
A63: Subset | B63: indstatus = 1 and gender = 1 and 15 ≤ age ≤ [UPPER AGE LIMIT] and tested12months = 1, 2, 3
B64: indstatus = 1 and gender = 1 and 15 ≤ age ≤ [UPPER AGE LIMIT] and tested12months = 1, 2, 3 and knownhivstatus = 2, 3, 99
A65: Analytic Variables | B65: evertested
B66: tested12months
A67: Row stratification variables | B67: hivstatusfinal
B68: urban
B69: subnational area (region, province, stratum, etc.)
B70: married
B71: education
B72: wealthquintile
B73: agegroup
B74: age15_24, age15_49, age50_up, age15_up (age)
A75: Column stratification variables | B75: knownhivstatus
A76: Weight variables | B76: intwt0, intwt001, …., intwt[MAX]

Sheet 7.1.B
A1: Table 7.1.B: Self-reported HIV testing: Women
A2: Percentage of women aged [15 years and older / 15-[UPPER AGE LIMIT] years] who reported they had ever received an HIV test, and percentage who reported that they had received an HIV test in the 12 months before the survey, by result of [SURVEY ACRONYM] HIV test and selected demographic characteristics, [SURVEY ACRONYM] [YEAR(S)]
A3: Characteristic | B3: Among all women | F3: Among women who did not report an HIV-positive status | M3: [SURVEY ACRONYM, FIRST YEAR]_Table7_1_B.sas7bdat
B4: Percentage who had ever received an HIV test | C4: Percentage who received an HIV test in the 12 months before the survey1 | D4: Number | F4: Percentage who had ever received an HIV test | G4: Percentage who received an HIV test in the 12 months before the survey1 | H4: Number | M4: Order | N4: row | O4: HIVTestP | P4: HIVTest12moP | Q4: TotalN | R4: NotSRPosHIVTestP | S4: NotSRPosHIVTest12moP | T4: NotSRPosHIVN | U4: HIVTestJKseP | V4: HIVTest12moJKseP | W4: NotSRPosHIVTestJKseP | X4: NotSRPosHIVTest12moJKseP | Y4: HIVTestNoverN | Z4: HIVTest12moNoverN | AA4: NotSRPosHIVTestNoverN | AB4: NotSRPosHIVTest12moNoverN | AC4: HIVTestJKLCLP | AD4: HIVTestJKUCLP | AE4: HIVTest12moJKLCLP | AF4: HIVTest12moJKUCLP | AG4: NotSRPosHIVTestJKLCLP | AH4: NotSRPosHIVTestJKUCLP | AI4: NotSRPosHIVTest12moJKCLP | AJ4: NotSRPosHIVTest12moJKUCLP
A5: Result of [SURVEY ACRONYM] HIV test | M5: 1 | N5: Result of [SURVEY ACRONYM] HIV test
A6: HIV positive | M6: =M5+1 -> 2 | N6: =IF(A6<>"", A6, "") -> HIV positive
A7: HIV negative | M7: =M6+1 -> 3 | N7: =IF(A7<>"", A7, "") -> HIV negative
A8: Not tested | M8: =M7+1 -> 4 | N8: =IF(A8<>"", A8, "") -> Not tested
M9: =M8+1 -> 5 | N9: =IF(A9<>"", A9, "")
A10: Residence | M10: =M9+1 -> 6 | N10: =IF(A10<>"", A10, "") -> Residence
A11: Urban | M11: =M10+1 -> 7 | N11: =IF(A11<>"", A11, "") -> Urban
A12: Rural | M12: =M11+1 -> 8 | N12: =IF(A12<>"", A12, "") -> Rural
M13: =M12+1 -> 9 | N13: =IF(A13<>"", A13, "")
A14: [SUBNATIONAL AREA] | M14: =M13+1 -> 10 | N14: =IF(A14<>"", A14, "") -> [SUBNATIONAL AREA]
A15: [SNA 1] | M15: =M14+1 -> 11 | N15: =IF(A15<>"", A15, "") -> [SNA 1]
A16: [SNA 2] | M16: =M15+1 -> 12 | N16: =IF(A16<>"", A16, "") -> [SNA 2]
A17: [SNA 3] | M17: =M16+1 -> 13 | N17: =IF(A17<>"", A17, "") -> [SNA 3]
A18: [SNA 4] | M18: =M17+1 -> 14 | N18: =IF(A18<>"", A18, "") -> [SNA 4]
A19: [SNA 5] | M19: =M18+1 -> 15 | N19: =IF(A19<>"", A19, "") -> [SNA 5]
M20: =M19+1 -> 16 | N20: =IF(A20<>"", A20, "")
A21: Marital status | M21: =M20+1 -> 17 | N21: =IF(A21<>"", A21, "") -> Marital status
A22: Never married | M22: =M21+1 -> 18 | N22: =IF(A22<>"", A22, "") -> Never married
A23: Married or living together | M23: =M22+1 -> 19 | N23: =IF(A23<>"", A23, "") -> Married or living together
A24: Divorced or separated | M24: =M23+1 -> 20 | N24: =IF(A24<>"", A24, "") -> Divorced or separated
A25: Widowed | M25: =M24+1 -> 21 | N25: =IF(A25<>"", A25, "") -> Widowed
M26: =M25+1 -> 22 | N26: =IF(A26<>"", A26, "")
A27: Education | M27: =M26+1 -> 23 | N27: =IF(A27<>"", A27, "") -> Education
A28: No education | M28: =M27+1 -> 24 | N28: =IF(A28<>"", A28, "") -> No education
A29: Primary | M29: =M28+1 -> 25 | N29: =IF(A29<>"", A29, "") -> Primary
A30: Secondary | M30: =M29+1 -> 26 | N30: =IF(A30<>"", A30, "") -> Secondary
A31: More than secondary | M31: =M30+1 -> 27 | N31: =IF(A31<>"", A31, "") -> More than secondary
M32: =M31+1 -> 28 | N32: =IF(A32<>"", A32, "")
A33: Wealth quintile | M33: =M32+1 -> 29 | N33: =IF(A33<>"", A33, "") -> Wealth quintile
A34: Lowest | M34: =M33+1 -> 30 | N34: =IF(A34<>"", A34, "") -> Lowest
A35: Second | M35: =M34+1 -> 31 | N35: =IF(A35<>"", A35, "") -> Second
A36: Middle | M36: =M35+1 -> 32 | N36: =IF(A36<>"", A36, "") -> Middle
A37: Fourth | M37: =M36+1 -> 33 | N37: =IF(A37<>"", A37, "") -> Fourth
A38: Highest | M38: =M37+1 -> 34 | N38: =IF(A38<>"", A38, "") -> Highest
M39: =M38+1 -> 35 | N39: =IF(A39<>"", A39, "")
A40: Age | M40: =M39+1 -> 36 | N40: =IF(A40<>"", A40, "") -> Age
A41: 15-19 | M41: =M40+1 -> 37 | N41: =IF(A41<>"", A41, "") -> 15-19
A42: 20-24 | M42: =M41+1 -> 38 | N42: =IF(A42<>"", A42, "") -> 20-24
A43: 25-29 | M43: =M42+1 -> 39 | N43: =IF(A43<>"", A43, "") -> 25-29
A44: 30-34 | M44: =M43+1 -> 40 | N44: =IF(A44<>"", A44, "") -> 30-34
A45: 35-39 | M45: =M44+1 -> 41 | N45: =IF(A45<>"", A45, "") -> 35-39
A46: 40-44 | M46: =M45+1 -> 42 | N46: =IF(A46<>"", A46, "") -> 40-44
A47: 45-49 | M47: =M46+1 -> 43 | N47: =IF(A47<>"", A47, "") -> 45-49
A48: 50-54 | M48: =M47+1 -> 44 | N48: =IF(A48<>"", A48, "") -> 50-54
A49: 55-59 | M49: =M48+1 -> 45 | N49: =IF(A49<>"", A49, "") -> 55-59
A50: 60-64 | M50: =M49+1 -> 46 | N50: =IF(A50<>"", A50, "") -> 60-64
A51: 65+ | M51: =M50+1 -> 47 | N51: =IF(A51<>"", A51, "") -> 65+
M52: =M51+1 -> 48 | N52: =IF(A52<>"", A52, "")
A53: Total 15-24 | M53: =M52+1 -> 49 | N53: =IF(A53<>"", A53, "") -> Total 15-24
A54: Total 15-49 | M54: =M53+1 -> 50 | N54: =IF(A54<>"", A54, "") -> Total 15-49
A55: Total 50-[UPPER AGE LIMIT] | M55: =M54+1 -> 51 | N55: =IF(A55<>"", A55, "") -> Total 50-[UPPER AGE LIMIT]
A56: Total 15-[UPPER AGE LIMIT] | M56: =M55+1 -> 52 | N56: =IF(A56<>"", A56, "") -> Total 15-[UPPER AGE LIMIT]
A57: 1Relates to PEPFAR indicator HTS_TST: Number of individuals who received HIV testing services and received their test results. Note: Education categories refer to the highest level of education attended, whether or not that level was completed.
A58: Return to TOC
A61: Datasets and variables used
A62: Dataset | B62: adultind
A63: Subset | B63: indstatus = 1 and gender = 2 and 15 ≤ age ≤ [UPPER AGE LIMIT] and tested12months = 1, 2, 3
B64: indstatus = 1 and gender = 2 and 15 ≤ age ≤ [UPPER AGE LIMIT] and tested12months = 1, 2, 3 and knownhivstatus = 2, 3, 99
A65: Analytic Variables | B65: evertested
B66: tested12months
A67: Row stratification variables | B67: hivstatusfinal
B68: urban
B69: subnational area (region, province, stratum, etc.)
B70: married
B71: education
B72: wealthquintile
B73: agegroup
B74: age15_24, age15_49, age50_up, age15_up (age)
A75: Column stratification variables | B75: knownhivstatus
A76: Weight variables | B76: intwt0, intwt001, …., intwt[MAX]

Sheet 7.1.C
A1: Table 7.1.C: Self-reported HIV testing: Total
A2: Percentage of adults aged [15 years and older / 15-[UPPER AGE LIMIT] years] who reported they had ever received an HIV test, and percentage who reported that they had received an HIV test in the 12 months before the survey, by result of [SURVEY ACRONYM] HIV test and selected demographic characteristics, [SURVEY ACRONYM] [YEAR(S)]
A3: Characteristic | B3: Among all adults | F3: Among adults who did not self-report HIV positive | P3: [SURVEY ACRONYM, FIRST YEAR]_Table7_1_C.sas7bdat
B4: Percentage who had ever received an HIV test | C4: Percentage who received an HIV test in the 12 months before the survey1 | D4: Number | F4: Percentage who had ever received an HIV test | G4: Percentage who received an HIV test in the 12 months before the survey1 | H4: Number | P4: Order | Q4: row | R4: HIVTestP | S4: HIVTest12moP | T4: TotalN | U4: NotSRPosHIVTestP | V4: NotSRPosHIVTest12moP | W4: NotSRPosHIVN | X4: HIVTestJKseP | Y4: HIVTest12moJKseP | Z4: NotSRPosHIVTestJKseP | AA4: NotSRPosHIVTest12moJKseP | AB4: HIVTestNoverN | AC4: HIVTest12moNoverN | AD4: NotSRPosHIVTestNoverN | AE4: NotSRPosHIVTest12moNoverN | AF4: HIVTestJKLCLP | AG4: HIVTestJKUCLP | AH4: HIVTest12moJKLCLP | AI4: HIVTest12moJKUCLP | AJ4: NotSRPosHIVTestJKLCLP | AK4: NotSRPosHIVTestJKUCLP | AL4: NotSRPosHIVTest12moJKCLP | AM4: NotSRPosHIVTest12moJKUCLP
A5: Result of [SURVEY ACRONYM] HIV test | P5: 1 | Q5: Result of [SURVEY ACRONYM] HIV test
A6: HIV positive | P6: =P5+1 -> 2 | Q6: =IF(A6<>"", A6, "") -> HIV positive
A7: HIV negative | P7: =P6+1 -> 3 | Q7: =IF(A7<>"", A7, "") -> HIV negative
A8: Not tested | P8: =P7+1 -> 4 | Q8: =IF(A8<>"", A8, "") -> Not tested
P9: =P8+1 -> 5 | Q9: =IF(A9<>"", A9, "")
A10: Residence | P10: =P9+1 -> 6 | Q10: =IF(A10<>"", A10, "") -> Residence
A11: Urban | P11: =P10+1 -> 7 | Q11: =IF(A11<>"", A11, "") -> Urban
A12: Rural | P12: =P11+1 -> 8 | Q12: =IF(A12<>"", A12, "") -> Rural
P13: =P12+1 -> 9 | Q13: =IF(A13<>"", A13, "")
A14: [SUBNATIONAL AREA] | P14: =P13+1 -> 10 | Q14: =IF(A14<>"", A14, "") -> [SUBNATIONAL AREA]
A15: [SNA 1] | P15: =P14+1 -> 11 | Q15: =IF(A15<>"", A15, "") -> [SNA 1]
A16: [SNA 2] | P16: =P15+1 -> 12 | Q16: =IF(A16<>"", A16, "") -> [SNA 2]
A17: [SNA 3] | P17: =P16+1 -> 13 | Q17: =IF(A17<>"", A17, "") -> [SNA 3]
A18: [SNA 4] | P18: =P17+1 -> 14 | Q18: =IF(A18<>"", A18, "") -> [SNA 4]
A19: [SNA 5] | P19: =P18+1 -> 15 | Q19: =IF(A19<>"", A19, "") -> [SNA 5]
P20: =P19+1 -> 16 | Q20: =IF(A20<>"", A20, "")
A21: Marital status | P21: =P20+1 -> 17 | Q21: =IF(A21<>"", A21, "") -> Marital status
A22: Never married | P22: =P21+1 -> 18 | Q22: =IF(A22<>"", A22, "") -> Never married
A23: Married or living together | P23: =P22+1 -> 19 | Q23: =IF(A23<>"", A23, "") -> Married or living together
A24: Divorced or separated | P24: =P23+1 -> 20 | Q24: =IF(A24<>"", A24, "") -> Divorced or separated
A25: Widowed | P25: =P24+1 -> 21 | Q25: =IF(A25<>"", A25, "") -> Widowed
P26: =P25+1 -> 22 | Q26: =IF(A26<>"", A26, "")
A27: Education | P27: =P26+1 -> 23 | Q27: =IF(A27<>"", A27, "") -> Education
A28: No education | P28: =P27+1 -> 24 | Q28: =IF(A28<>"", A28, "") -> No education
A29: Primary | P29: =P28+1 -> 25 | Q29: =IF(A29<>"", A29, "") -> Primary
A30: Secondary | P30: =P29+1 -> 26 | Q30: =IF(A30<>"", A30, "") -> Secondary
A31: More than secondary | P31: =P30+1 -> 27 | Q31: =IF(A31<>"", A31, "") -> More than secondary
P32: =P31+1 -> 28 | Q32: =IF(A32<>"", A32, "")
A33: Wealth quintile | P33: =P32+1 -> 29 | Q33: =IF(A33<>"", A33, "") -> Wealth quintile
A34: Lowest | P34: =P33+1 -> 30 | Q34: =IF(A34<>"", A34, "") -> Lowest
A35: Second | P35: =P34+1 -> 31 | Q35: =IF(A35<>"", A35, "") -> Second
A36: Middle | P36: =P35+1 -> 32 | Q36: =IF(A36<>"", A36, "") -> Middle
A37: Fourth | P37: =P36+1 -> 33 | Q37: =IF(A37<>"", A37, "") -> Fourth
A38: Highest | P38: =P37+1 -> 34 | Q38: =IF(A38<>"", A38, "") -> Highest
P39: =P38+1 -> 35 | Q39: =IF(A39<>"", A39, "")
A40: Age | P40: =P39+1 -> 36 | Q40: =IF(A40<>"", A40, "") -> Age
A41: 15-19 | P41: =P40+1 -> 37 | Q41: =IF(A41<>"", A41, "") -> 15-19
A42: 20-24 | P42: =P41+1 -> 38 | Q42: =IF(A42<>"", A42, "") -> 20-24
A43: 25-29 | P43: =P42+1 -> 39 | Q43: =IF(A43<>"", A43, "") -> 25-29
A44: 30-34 | P44: =P43+1 -> 40 | Q44: =IF(A44<>"", A44, "") -> 30-34
A45: 35-39 | P45: =P44+1 -> 41 | Q45: =IF(A45<>"", A45, "") -> 35-39
A46: 40-44 | P46: =P45+1 -> 42 | Q46: =IF(A46<>"", A46, "") -> 40-44
A47: 45-49 | P47: =P46+1 -> 43 | Q47: =IF(A47<>"", A47, "") -> 45-49
A48: 50-54 | P48: =P47+1 -> 44 | Q48: =IF(A48<>"", A48, "") -> 50-54
A49: 55-59 | P49: =P48+1 -> 45 | Q49: =IF(A49<>"", A49, "") -> 55-59
A50: 60-64 | P50: =P49+1 -> 46 | Q50: =IF(A50<>"", A50, "") -> 60-64
A51: 65+ | P51: =P50+1 -> 47 | Q51: =IF(A51<>"", A51, "") -> 65+
P52: =P51+1 -> 48 | Q52: =IF(A52<>"", A52, "")
A53: Total 15-24 | P53: =P52+1 -> 49 | Q53: =IF(A53<>"", A53, "") -> Total 15-24
A54: Total 15-49 | P54: =P53+1 -> 50 | Q54: =IF(A54<>"", A54, "") -> Total 15-49
A55: Total 50-[UPPER AGE LIMIT] | P55: =P54+1 -> 51 | Q55: =IF(A55<>"", A55, "") -> Total 50-[UPPER AGE LIMIT]
A56: Total 15-[UPPER AGE LIMIT] | P56: =P55+1 -> 52 | Q56: =IF(A56<>"", A56, "") -> Total 15-[UPPER AGE LIMIT]
A57: 1Relates to PEPFAR indicator HTS_TST: Number of individuals who received HIV testing services and received their test results. Note: Education categories refer to the highest level of education attended, whether or not that level was completed.
A58: Return to TOC
A61: Datasets and variables used
A62: Dataset | B62: adultind
A63: Subset | B63: indstatus = 1 and 15 ≤ age ≤ [UPPER AGE LIMIT] and tested12months = 1, 2, 3
B64: indstatus = 1 and 15 ≤ age ≤ [UPPER AGE LIMIT] and tested12months = 1, 2, 3 and knownhivstatus = 2, 3, 99
A65: Analytic Variables | B65: evertested
B66: tested12months
A67: Row stratification variables | B67: hivstatusfinal
B68: urban
B69: subnational area (region, province, stratum, etc.)
B70: married
B71: education
B72: wealthquintile
B73: agegroup
B74: age15_24, age15_49, age50_up, age15_up (age)
A75: Column stratification variables | B75: knownhivstatus
A76: Weight variables | B76: intwt0, intwt001, …., intwt[MAX]

Sheet 7.2.A
A1: Table 7.2.A: HIV diagnosis and treatment status: Men
A2: Percent distribution of HIV-positive men aged, [15 years and older / 15-[UPPER AGE LIMIT] years], diagnosed and on treatment based on self-reported HIV status and antiretroviral therapy (ART) use (adjusted by detection of an antiretroviral in blood), by selected demographic characteristics, [SURVEY ACRONYM] [YEAR(S)] | L2: [SURVEY ACRONYM, FIRST YEAR]_Table7_2_A.sas7bdat
A3: Characteristic | B3: Unaware of HIV status | C3: Aware of HIV status and not on ART | D3: Aware of HIV status and on ART1 | E3: Total | F3: Number | L3: Order | M3: Row | N3: UnawareHIVP | O3: NotOnARTP | P3: OnARTP | Q3: TotalP | R3: TotalN | S3: MissingN | T3: UnawareHIVJKseP | U3: NotOnARTJKseP | V3: OnARTJKseP | W3: UnawareHIVNoverN | X3: NotOnARTNoverN | Y3: OnARTNoverN | Z3: UnawareHIVJKLCLP | AA3: UnawareHIVJKUCLP | AB3: NotOnARTJKLCLP | AC3: NotOnARTJKUCLP | AD3: OnARTJKLCLP | AE3: OnARTJKUCLP
A4: Residence | L4: 1 | M4: =IF(A4<>"", A4, "") -> Residence
A5: Urban | E5: 100 | L5: =L4+1 -> 2 | M5: =IF(A5<>"", A5, "") -> Urban
A6: Rural | E6: 100 | L6: =L5+1 -> 3 | M6: =IF(A6<>"", A6, "") -> Rural
L7: =L6+1 -> 4 | M7: =IF(A7<>"", A7, "")
A8: [SUBNATIONAL AREA] | L8: =L7+1 -> 5 | M8: =IF(A8<>"", A8, "") -> [SUBNATIONAL AREA]
A9: [SNA 1] | E9: 100 | L9: =L8+1 -> 6 | M9: =IF(A9<>"", A9, "") -> [SNA 1]
A10: [SNA 2] | E10: 100 | L10: =L9+1 -> 7 | M10: =IF(A10<>"", A10, "") -> [SNA 2]
A11: [SNA 3] | E11: 100 | L11: =L10+1 -> 8 | M11: =IF(A11<>"", A11, "") -> [SNA 3]
A12: [SNA 4] | E12: 100 | L12: =L11+1 -> 9 | M12: =IF(A12<>"", A12, "") -> [SNA 4]
A13: [SNA 5] | E13: 100 | L13: =L12+1 -> 10 | M13: =IF(A13<>"", A13, "") -> [SNA 5]
L14: =L13+1 -> 11 | M14: =IF(A14<>"", A14, "")
A15: Marital status | L15: =L14+1 -> 12 | M15: =IF(A15<>"", A15, "") -> Marital status
A16: Never married | E16: 100 | L16: =L15+1 -> 13 | M16: =IF(A16<>"", A16, "") -> Never married
A17: Married or living together | E17: 100 | L17: =L16+1 -> 14 | M17: =IF(A17<>"", A17, "") -> Married or living together
A18: Divorced or separated | E18: 100 | L18: =L17+1 -> 15 | M18: =IF(A18<>"", A18, "") -> Divorced or separated
A19: Widowed | E19: 100 | L19: =L18+1 -> 16 | M19: =IF(A19<>"", A19, "") -> Widowed
L20: =L19+1 -> 17 | M20: =IF(A20<>"", A20, "")
A21: Education | L21: =L20+1 -> 18 | M21: =IF(A21<>"", A21, "") -> Education
A22: No education | E22: 100 | L22: =L21+1 -> 19 | M22: =IF(A22<>"", A22, "") -> No education
A23: Primary | E23: 100 | L23: =L22+1 -> 20 | M23: =IF(A23<>"", A23, "") -> Primary
A24: Secondary | E24: 100 | L24: =L23+1 -> 21 | M24: =IF(A24<>"", A24, "") -> Secondary
A25: More than secondary | E25: 100 | L25: =L24+1 -> 22 | M25: =IF(A25<>"", A25, "") -> More than secondary
L26: =L25+1 -> 23 | M26: =IF(A26<>"", A26, "")
A27: Wealth quintile | L27: =L26+1 -> 24 | M27: =IF(A27<>"", A27, "") -> Wealth quintile
A28: Lowest | E28: 100 | L28: =L27+1 -> 25 | M28: =IF(A28<>"", A28, "") -> Lowest
A29: Second | E29: 100 | L29: =L28+1 -> 26 | M29: =IF(A29<>"", A29, "") -> Second
A30: Middle | E30: 100 | L30: =L29+1 -> 27 | M30: =IF(A30<>"", A30, "") -> Middle
A31: Fourth | E31: 100 | L31: =L30+1 -> 28 | M31: =IF(A31<>"", A31, "") -> Fourth
A32: Highest | E32: 100 | L32: =L31+1 -> 29 | M32: =IF(A32<>"", A32, "") -> Highest
L33: =L32+1 -> 30 | M33: =IF(A33<>"", A33, "")
A34: Age | L34: =L33+1 -> 31 | M34: =IF(A34<>"", A34, "") -> Age
A35: 15-19 | E35: 100 | L35: =L34+1 -> 32 | M35: =IF(A35<>"", A35, "") -> 15-19
A36: 20-24 | E36: 100 | L36: =L35+1 -> 33 | M36: =IF(A36<>"", A36, "") -> 20-24
A37: 25-29 | E37: 100 | L37: =L36+1 -> 34 | M37: =IF(A37<>"", A37, "") -> 25-29
A38: 30-34 | E38: 100 | L38: =L37+1 -> 35 | M38: =IF(A38<>"", A38, "") -> 30-34
A39: 35-39 | E39: 100 | L39: =L38+1 -> 36 | M39: =IF(A39<>"", A39, "") -> 35-39
A40: 40-44 | E40: 100 | L40: =L39+1 -> 37 | M40: =IF(A40<>"", A40, "") -> 40-44
A41: 45-49 | E41: 100 | L41: =L40+1 -> 38 | M41: =IF(A41<>"", A41, "") -> 45-49
A42: 50-54 | E42: 100 | L42: =L41+1 -> 39 | M42: =IF(A42<>"", A42, "") -> 50-54
A43: 55-59 | E43: 100 | L43: =L42+1 -> 40 | M43: =IF(A43<>"", A43, "") -> 55-59
A44: 60-64 | E44: 100 | L44: =L43+1 -> 41 | M44: =IF(A44<>"", A44, "") -> 60-64
A45: 65+ | E45: 100 | L45: =L44+1 -> 42 | M45: 65+
L46: =L45+1 -> 43 | M46: =IF(A46<>"", A46, "")
A47: Total 15-24 | E47: 100 | L47: =L46+1 -> 44 | M47: =IF(A47<>"", A47, "") -> Total 15-24
A48: Total 15-49 | E48: 100 | L48: =L47+1 -> 45 | M48: =IF(A48<>"", A48, "") -> Total 15-49
A49: Total 50-[UPPER AGE LIMIT] | E49: 100 | L49: =L48+1 -> 46 | M49: =IF(A49<>"", A49, "") -> Total 50-[UPPER AGE LIMIT]
A50: Total 15-[UPPER AGE LIMIT] | E50: 100 | L50: =L49+1 -> 47 | M50: =IF(A50<>"", A50, "") -> Total 15-[UPPER AGE LIMIT]
A51: 1Relates to Global AIDS Monitoring [2020 / 2021] indicator 1.2: People living with HIV on ART; and PEPFAR indicator TX_CURR_NAT / SUBNAT: Percentage of adults and children currently receiving ART. Note: Education categories refer to the highest level of education attended, whether or not that level was completed.
A52: Return to TOC
A54: Datasets and variables used
A55: Dataset | B55: adultbio, adultind
A56: Subset | B56: hivstatusfinal = 1 and bt_status = 1 and gender = 1 and awareart = 1, 2, 3
A57: Analytic Variables | B57: awareart
A58: Row stratification variables | B58: urban
B59: subnational area (region, province, stratum, etc.)
B60: married
B61: education
B62: wealthquintile
B63: agegroup
B64: age15_24, age15_49, age50_up, age15_up (age)
A65: Column stratification variables | B65: <none>
A66: Weight variables | B66: btwt0, btwt001, …., btwt[MAX]

Sheet 7.2.B
A1: Table 7.2.B: HIV diagnosis and treatment status: Women
A2: Percent distribution of HIV-positive women, aged [15 years and older / 15-[UPPER AGE LIMIT] years], diagnosed and on treatment based on self-reported HIV status and antiretroviral therapy (ART) use (adjusted by detection of an antiretroviral in blood), by selected demographic characteristics, [SURVEY ACRONYM] [YEAR(S)] | L2: [SURVEY ACRONYM, FIRST YEAR]_Table7_2_B.sas7bdat
A3: Characteristic | B3: Unaware of HIV status | C3: Aware of HIV status and not on ART | D3: Aware of HIV status and on ART1 | E3: Total | F3: Number | L3: Order | M3: Row | N3: UnawareHIVP | O3: NotOnARTP | P3: OnARTP | Q3: TotalP | R3: FemaleN | S3: MissingN | T3: UnawareHIVJKseP | U3: NotOnARTJKseP | V3: OnARTJKseP | W3: UnawareHIVNoverN | X3: NotOnARTNoverN | Y3: OnARTNoverN | Z3: UnawareHIVJKLCLP | AA3: UnawareHIVJKUCLP | AB3: NotOnARTJKLCLP | AC3: NotOnARTJKUCLP | AD3: OnARTJKLCLP | AE3: OnARTJKUCLP
A4: Residence | L4: 1 | M4: =IF(A4<>"", A4, "") -> Residence
A5: Urban | E5: 100 | L5: =L4+1 -> 2 | M5: =IF(A5<>"", A5, "") -> Urban
A6: Rural | E6: 100 | L6: =L5+1 -> 3 | M6: =IF(A6<>"", A6, "") -> Rural
L7: =L6+1 -> 4 | M7: =IF(A7<>"", A7, "")
A8: [SUBNATIONAL AREA] | L8: =L7+1 -> 5 | M8: =IF(A8<>"", A8, "") -> [SUBNATIONAL AREA]
A9: [SNA 1] | E9: 100 | L9: =L8+1 -> 6 | M9: =IF(A9<>"", A9, "") -> [SNA 1]
A10: [SNA 2] | E10: 100 | L10: =L9+1 -> 7 | M10: =IF(A10<>"", A10, "") -> [SNA 2]
A11: [SNA 3] | E11: 100 | L11: =L10+1 -> 8 | M11: =IF(A11<>"", A11, "") -> [SNA 3]
A12: [SNA 4] | E12: 100 | L12: =L11+1 -> 9 | M12: =IF(A12<>"", A12, "") -> [SNA 4]
A13: [SNA 5] | E13: 100 | L13: =L12+1 -> 10 | M13: =IF(A13<>"", A13, "") -> [SNA 5]
L14: =L13+1 -> 11 | M14: =IF(A14<>"", A14, "")
A15: Marital status | L15: =L14+1 -> 12 | M15: =IF(A15<>"", A15, "") -> Marital status
A16: Never married | E16: 100 | L16: =L15+1 -> 13 | M16: =IF(A16<>"", A16, "") -> Never married
A17: Married or living together | E17: 100 | L17: =L16+1 -> 14 | M17: =IF(A17<>"", A17, "") -> Married or living together
A18: Divorced or separated | E18: 100 | L18: =L17+1 -> 15 | M18: =IF(A18<>"", A18, "") -> Divorced or separated
A19: Widowed | E19: 100 | L19: =L18+1 -> 16 | M19: =IF(A19<>"", A19, "") -> Widowed
L20: =L19+1 -> 17 | M20: =IF(A20<>"", A20, "")
A21: Education | L21: =L20+1 -> 18 | M21: =IF(A21<>"", A21, "") -> Education
A22: No education | E22: 100 | L22: =L21+1 -> 19 | M22: =IF(A22<>"", A22, "") -> No education
A23: Primary | E23: 100 | L23: =L22+1 -> 20 | M23: =IF(A23<>"", A23, "") -> Primary
A24: Secondary | E24: 100 | L24: =L23+1 -> 21 | M24: =IF(A24<>"", A24, "") -> Secondary
A25: More than secondary | E25: 100 | L25: =L24+1 -> 22 | M25: =IF(A25<>"", A25, "") -> More than secondary
L26: =L25+1 -> 23 | M26: =IF(A26<>"", A26, "")
A27: Wealth quintile | L27: =L26+1 -> 24 | M27: =IF(A27<>"", A27, "") -> Wealth quintile
A28: Lowest | E28: 100 | L28: =L27+1 -> 25 | M28: =IF(A28<>"", A28, "") -> Lowest
A29: Second | E29: 100 | L29: =L28+1 -> 26 | M29: =IF(A29<>"", A29, "") -> Second
A30: Middle | E30: 100 | L30: =L29+1 -> 27 | M30: =IF(A30<>"", A30, "") -> Middle
A31: Fourth | E31: 100 | L31: =L30+1 -> 28 | M31: =IF(A31<>"", A31, "") -> Fourth
A32: Highest | E32: 100 | L32: =L31+1 -> 29 | M32: =IF(A32<>"", A32, "") -> Highest
L33: =L32+1 -> 30 | M33: =IF(A33<>"", A33, "")
A34: Age | L34: =L33+1 -> 31 | M34: =IF(A34<>"", A34, "") -> Age
A35: 15-19 | E35: 100 | L35: =L34+1 -> 32 | M35: =IF(A35<>"", A35, "") -> 15-19
A36: 20-24 | E36: 100 | L36: =L35+1 -> 33 | M36: =IF(A36<>"", A36, "") -> 20-24
A37: 25-29 | E37: 100 | L37: =L36+1 -> 34 | M37: =IF(A37<>"", A37, "") -> 25-29
A38: 30-34 | E38: 100 | L38: =L37+1 -> 35 | M38: =IF(A38<>"", A38, "") -> 30-34
A39: 35-39 | E39: 100 | L39: =L38+1 -> 36 | M39: =IF(A39<>"", A39, "") -> 35-39
A40: 40-44 | E40: 100 | L40: =L39+1 -> 37 | M40: =IF(A40<>"", A40, "") -> 40-44
A41: 45-49 | E41: 100 | L41: =L40+1 -> 38 | M41: =IF(A41<>"", A41, "") -> 45-49
A42: 50-54 | E42: 100 | L42: =L41+1 -> 39 | M42: =IF(A42<>"", A42, "") -> 50-54
A43: 55-59 | E43: 100 | L43: =L42+1 -> 40 | M43: =IF(A43<>"", A43, "") -> 55-59
A44: 60-64 | E44: 100 | L44: =L43+1 -> 41 | M44: =IF(A44<>"", A44, "") -> 60-64
A45: 65+ | E45: 100 | L45: =L44+1 -> 42 | M45: 65+
L46: =L45+1 -> 43 | M46: =IF(A46<>"", A46, "")
A47: Total 15-24 | E47: 100 | L47: =L46+1 -> 44 | M47: =IF(A47<>"", A47, "") -> Total 15-24
A48: Total 15-49 | E48: 100 | L48: =L47+1 -> 45 | M48: =IF(A48<>"", A48, "") -> Total 15-49
A49: Total 50-[UPPER AGE LIMIT] | E49: 100 | L49: =L48+1 -> 46 | M49: =IF(A49<>"", A49, "") -> Total 50-[UPPER AGE LIMIT]
A50: Total 15-[UPPER AGE LIMIT] | E50: 100 | L50: =L49+1 -> 47 | M50: =IF(A50<>"", A50, "") -> Total 15-[UPPER AGE LIMIT]
A51: 1Relates to Global AIDS Monitoring [2020 / 2021] indicator 1.2: People living with HIV on ART; and PEPFAR indicator TX_CURR_NAT / SUBNAT: Percentage of adults and children currently receiving ART. Note: Education categories refer to the highest level of education attended, whether or not that level was completed.
A52: Return to TOC
A55: Datasets and variables used
A56: Dataset | B56: adultbio, adultind
A57: Subset | B57: hivstatusfinal = 1 and bt_status = 1 and gender = 2 and awareart = 1, 2, 3
A58: Analytic Variables | B58: awareart
A59: Row stratification variables | B59: urban
B60: subnational area (region, province, stratum, etc.)
B61: married
B62: education*
B63: wealthquintile
B64: agegroup
B65: age15_24, age15_49, age50_up, age15_up (age)
A66: Column stratification variables | B66: <none>
A67: Weight variables | B67: btwt0, btwt001, …., btwt[MAX]

Sheet 7.2.C
A1: Table 7.2.C: HIV diagnosis and treatment status: Total
A2: Percent distribution of HIV-positive adults, aged [15 years and older / 15-[UPPER AGE LIMIT] years], diagnosed and on treatment based on self-reported HIV status and antiretroviral therapy (ART) use (adjusted by detection of an antiretroviral in blood), by selected demographic characteristics, [SURVEY ACRONYM] [YEAR(S)] | L2: [SURVEY ACRONYM, FIRST YEAR]_Table7_2_C.sas7bdat
A3: Characteristic | B3: Unaware of HIV status | C3: Aware of HIV status and not on ART | D3: Aware of HIV status and on ART1 | E3: Total | F3: Number | L3: Order | M3: Row | N3: UnawareHIVP | O3: NotOnARTP | P3: OnARTP | Q3: TotalP | R3: TotalN | S3: MissingN | T3: UnawareHIVJKseP | U3: NotOnARTJKseP | V3: OnARTJKseP | W3: UnawareHIVNoverN | X3: NotOnARTNoverN | Y3: OnARTNoverN | Z3: UnawareHIVJKLCLP | AA3: UnawareHIVJKUCLP | AB3: NotOnARTJKLCLP | AC3: NotOnARTJKUCLP | AD3: OnARTJKLCLP | AE3: OnARTJKUCLP
A4: Residence | L4: 1 | M4: =IF(A4<>"", A4, "") -> Residence
A5: Urban | E5: 100 | L5: =L4+1 -> 2 | M5: =IF(A5<>"", A5, "") -> Urban
A6: Rural | E6: 100 | L6: =L5+1 -> 3 | M6: =IF(A6<>"", A6, "") -> Rural
L7: =L6+1 -> 4 | M7: =IF(A7<>"", A7, "")
A8: [SUBNATIONAL AREA] | L8: =L7+1 -> 5 | M8: =IF(A8<>"", A8, "") -> [SUBNATIONAL AREA]
A9: [SNA 1] | E9: 100 | L9: =L8+1 -> 6 | M9: =IF(A9<>"", A9, "") -> [SNA 1]
A10: [SNA 2] | E10: 100 | L10: =L9+1 -> 7 | M10: =IF(A10<>"", A10, "") -> [SNA 2]
A11: [SNA 3] | E11: 100 | L11: =L10+1 -> 8 | M11: =IF(A11<>"", A11, "") -> [SNA 3]
A12: [SNA 4] | E12: 100 | L12: =L11+1 -> 9 | M12: =IF(A12<>"", A12, "") -> [SNA 4]
A13: [SNA 5] | E13: 100 | L13: =L12+1 -> 10 | M13: =IF(A13<>"", A13, "") -> [SNA 5]
L14: =L13+1 -> 11 | M14: =IF(A14<>"", A14, "")
A15: Marital status | L15: =L14+1 -> 12 | M15: =IF(A15<>"", A15, "") -> Marital status
A16: Never married | E16: 100 | L16: =L15+1 -> 13 | M16: =IF(A16<>"", A16, "") -> Never married
A17: Married or living together | E17: 100 | L17: =L16+1 -> 14 | M17: =IF(A17<>"", A17, "") -> Married or living together
A18: Divorced or separated | E18: 100 | L18: =L17+1 -> 15 | M18: =IF(A18<>"", A18, "") -> Divorced or separated
A19: Widowed | E19: 100 | L19: =L18+1 -> 16 | M19: =IF(A19<>"", A19, "") -> Widowed
L20: =L19+1 -> 17 | M20: =IF(A20<>"", A20, "")
A21: Education | L21: =L20+1 -> 18 | M21: =IF(A21<>"", A21, "") -> Education
A22: No education | E22: 100 | L22: =L21+1 -> 19 | M22: =IF(A22<>"", A22, "") -> No education
A23: Primary | E23: 100 | L23: =L22+1 -> 20 | M23: =IF(A23<>"", A23, "") -> Primary
A24: Secondary | E24: 100 | L24: =L23+1 -> 21 | M24: =IF(A24<>"", A24, "") -> Secondary
A25: More than secondary | E25: 100 | L25: =L24+1 -> 22 | M25: =IF(A25<>"", A25, "") -> More than secondary
L26: =L25+1 -> 23 | M26: =IF(A26<>"", A26, "")
A27: Wealth quintile | L27: =L26+1 -> 24 | M27: =IF(A27<>"", A27, "") -> Wealth quintile
A28: Lowest | E28: 100 | L28: =L27+1 -> 25 | M28: =IF(A28<>"", A28, "") -> Lowest
A29: Second | E29: 100 | L29: =L28+1 -> 26 | M29: =IF(A29<>"", A29, "") -> Second
A30: Middle | E30: 100 | L30: =L29+1 -> 27 | M30: =IF(A30<>"", A30, "") -> Middle
A31: Fourth | E31: 100 | L31: =L30+1 -> 28 | M31: =IF(A31<>"", A31, "") -> Fourth
A32: Highest | E32: 100 | L32: =L31+1 -> 29 | M32: =IF(A32<>"", A32, "") -> Highest
L33: =L32+1 -> 30 | M33: =IF(A33<>"", A33, "")
A34: Age | L34: =L33+1 -> 31 | M34: =IF(A34<>"", A34, "") -> Age
A35: 15-19 | E35: 100 | L35: =L34+1 -> 32 | M35: =IF(A35<>"", A35, "") -> 15-19
A36: 20-24 | E36: 100 | L36: =L35+1 -> 33 | M36: =IF(A36<>"", A36, "") -> 20-24
A37: 25-29 | E37: 100 | L37: =L36+1 -> 34 | M37: =IF(A37<>"", A37, "") -> 25-29
A38: 30-34 | E38: 100 | L38: =L37+1 -> 35 | M38: =IF(A38<>"", A38, "") -> 30-34
A39: 35-39 | E39: 100 | L39: =L38+1 -> 36 | M39: =IF(A39<>"", A39, "") -> 35-39
A40: 40-44 | E40: 100 | L40: =L39+1 -> 37 | M40: =IF(A40<>"", A40, "") -> 40-44
A41: 45-49 | E41: 100 | L41: =L40+1 -> 38 | M41: =IF(A41<>"", A41, "") -> 45-49
A42: 50-54 | E42: 100 | L42: =L41+1 -> 39 | M42: =IF(A42<>"", A42, "") -> 50-54
A43: 55-59 | E43: 100 | L43: =L42+1 -> 40 | M43: =IF(A43<>"", A43, "") -> 55-59
A44: 60-64 | E44: 100 | L44: =L43+1 -> 41 | M44: =IF(A44<>"", A44, "") -> 60-64
A45: 65+ | E45: 100 | L45: =L44+1 -> 42 | M45: 65+
L46: =L45+1 -> 43 | M46: =IF(A46<>"", A46, "")
A47: Total 15-24 | E47: 100 | L47: =L46+1 -> 44 | M47: =IF(A47<>"", A47, "") -> Total 15-24
A48: Total 15-49 | E48: 100 | L48: =L47+1 -> 45 | M48: =IF(A48<>"", A48, "") -> Total 15-49
A49: Total 50-[UPPER AGE LIMIT] | E49: 100 | L49: =L48+1 -> 46 | M49: =IF(A49<>"", A49, "") -> Total 50-[UPPER AGE LIMIT]
A50: Total 15-[UPPER AGE LIMIT] | E50: 100 | L50: =L49+1 -> 47 | M50: =IF(A50<>"", A50, "") -> Total 15-[UPPER AGE LIMIT]
A51: 1Relates to Global AIDS Monitoring [2020 / 2021] indicator 1.2: People living with HIV on ART; and PEPFAR indicator TX_CURR_NAT / SUBNAT: Percentage of adults and children currently receiving ART. Note: Education categories refer to the highest level of education attended, whether or not that level was completed.
A52: Return to TOC
A54: Datasets and variables used
A55: Dataset | B55: adultbio, adultind
A56: Subset | B56: hivstatusfinal = 1 and bt_status = 1 and awareart = 1, 2, 3
A57: Analytic Variables | B57: awareart
A58: Row stratification variables | B58: urban
B59: subnational area (region, province, stratum, etc.)
B60: married
B61: education*
B62: wealthquintile
B63: agegroup
B64: age15_24, age15_49, age50_up, age15_up (age)
A65: Column stratification variables | B65: <none>
A66: Weight variables | B66: btwt0, btwt001, …., btwt[MAX]

Sheet 7.3.A
A1: Table 7.3.A: Concordance of self-reported treatment status versus presence of detectable antiretrovirals: Men
A2: Percent distribution of HIV-positive men aged [15 years and older / 15-[UPPER AGE LIMIT] years] by presence of detectable antiretrovirals (ARVs) versus self-reported HIV treatment status, [SURVEY ACRONYM] [YEAR(S)]
B3: ARV status | L3: [SURVEY ACRONYM, FIRST YEAR]_Table7_3_A.sas7bdat
A4: Characteristic | B4: Not detectable | C4: Detectable | D4: Total | E4: Number | L4: Order | M4: row | N4: NotDetP | O4: DetP | P4: TotalP | Q4: ARVN | R4: NotDetJKSeP | S4: DetJKseP | T4: NotDetNoverN | U4: DetNoverN | V4: NotDetJKLCLP | W4: NotDetJKUCLP | X4: DetJKLCLP | Y4: DetJKUCLP
A5: Self-reported treatment status | L5: 1 | M5: Self-reported treatment status
A6: Not previously diagnosed | D6: 100 | L6: 2 | M6: Not previously diagnosed
A7: Previously diagnosed, not on ART | D7: 100 | L7: 3 | M7: Previously diagnosed, not on ART
A8: Previously diagnosed, on ART | D8: 100 | L8: 4 | M8: Previously diagnosed, on ART
L9: 5
A10: Total 15-24 | D10: 100 | L10: 6 | M10: Total 15-24
A11: Total 15-49 | D11: 100 | L11: 7 | M11: Total 15-49
A12: Total 50-[UPPER AGE LIMIT] | D12: 100 | L12: 8 | M12: =A12 -> Total 50-[UPPER AGE LIMIT]
A13: Total 15-[UPPER AGE LIMIT] | D13: 100 | L13: 9 | M13: =A13 -> Total 15-[UPPER AGE LIMIT]
A14: Return to TOC
A17: Datasets and variables used
A18: Dataset | B18: adultbio
A19: Subset | B19: hivstatusfinal = 1 and bt_status = 1 and gender = 1 and tri90 = 1 and arvstatus = 1, 2
A20: Analytic Variables | B20: arvstatus
A21: Row stratification variables | B21: awareartselfreported
B22: age15_24, age15_49, age50_up, age15_up (age)
A23: Column stratification variables | B23: <none>
A24: Weight variables | B24: btwt0, btwt001, …., btwt[MAX]

Sheet 7.3.B
A1: Table 7.3.B: Concordance of self-reported treatment status versus presence of detectable antiretrovirals: Women
A2: Percent distribution of HIV-positive women aged [15 years and older / 15-[UPPER AGE LIMIT] years] by presence of detectable antiretrovirals (ARVs) versus self-reported HIV treatment status, [SURVEY ACRONYM] [YEAR(S)]
B3: ARV status | L3: [SURVEY ACRONYM, FIRST YEAR]_Table7_3_B.sas7bdat
A4: Characteristic | B4: Not detectable | C4: Detectable | D4: Total | E4: Number | L4: Order | M4: row | N4: NotDetP | O4: DetP | P4: TotalP | Q4: ARVN | R4: NotDetJKSeP | S4: DetJKseP | T4: NotDetNoverN | U4: DetNoverN | V4: NotDetJKLCLP | W4: NotDetJKUCLP | X4: DetJKLCLP | Y4: DetJKUCLP
A5: Self-reported treatment status | L5: 1 | M5: Self-reported treatment status
A6: Not previously diagnosed | D6: 100 | L6: 2 | M6: Not previously diagnosed
A7: Previously diagnosed, not on ART | D7: 100 | L7: 3 | M7: Previously diagnosed, not on ART
A8: Previously diagnosed, on ART | D8: 100 | L8: 4 | M8: Previously diagnosed, on ART
L9: 5
A10: Total 15-24 | D10: 100 | L10: 6 | M10: Total 15-24
A11: Total 15-49 | D11: 100 | L11: 7 | M11: Total 15-49
A12: Total 50-[UPPER AGE LIMIT] | D12: 100 | L12: 8 | M12: Total 50+
A13: Total 15-[UPPER AGE LIMIT] | D13: 100 | L13: 9 | M13: Total 15+
A14: Return to TOC
A17: Datasets and variables used
A18: Dataset | B18: adultbio
A19: Subset | B19: hivstatusfinal = 1 and bt_status = 1 and gender = 2 and tri90 = 1 and arvstatus = 1, 2
A20: Analytic Variables | B20: arvstatus
A21: Row stratification variables | B21: awareartselfreported
B22: age15_24, age15_49, age50_up, age15_up (age)
A23: Column stratification variables | B23: <none>
A24: Weight variables | B24: btwt0, btwt001, …., btwt[MAX]

Sheet 7.3.C
A1: Table 7.3.C: Concordance of self-reported treatment status versus presence of detectable antiretrovirals: Total
A2: Percent distribution of HIV-positive adults aged [15 years and older / 15-[UPPER AGE LIMIT] years] by presence of detectable antiretrovirals (ARVs) versus self-reported HIV treatment status, [SURVEY ACRONYM] [YEAR(S)]
B3: ARV status | L3: [SURVEY ACRONYM, FIRST YEAR]_Table7_3_C.sas7bdat
A4: Characteristic | B4: Not detectable | C4: Detectable | D4: Total | E4: Number | L4: Order | M4: row | N4: NotDetP | O4: DetP | P4: TotalP | Q4: ARVN | R4: NotDetJKSeP | S4: DetJKseP | T4: NotDetNoverN | U4: DetNoverN | V4: NotDetJKLCLP | W4: NotDetJKUCLP | X4: DetJKLCLP | Y4: DetJKUCLP
A5: Self-reported treatment status | L5: 1 | M5: Self-reported treatment status
A6: Not previously diagnosed | D6: 100 | L6: 2 | M6: Not previously diagnosed
A7: Previously diagnosed, not on ART | D7: 100 | L7: 3 | M7: Previously diagnosed, not on ART
A8: Previously diagnosed, on ART | D8: 100 | L8: 4 | M8: Previously diagnosed, on ART
L9: 5
A10: Total 15-24 | D10: 100 | L10: 6 | M10: Total 15-24
A11: Total 15-49 | D11: 100 | L11: 7 | M11: Total 15-49
A12: Total 50-[UPPER AGE LIMIT] | D12: 100 | L12: 8 | M12: Total 50+
A13: Total 15-[UPPER AGE LIMIT] | D13: 100 | L13: 9 | M13: Total 15+
A14: Return to TOC
A17: Datasets and variables used
A18: Dataset | B18: adultbio
A19: Subset | B19: hivstatusfinal = 1 and bt_status = 1 and tri90 = 1 and arvstatus = 1, 2
A20: Analytic Variables | B20: arvstatus
A21: Row stratification variables | B21: awareartselfreported
B22: age15_24, age15_49, age50_up, age15_up (age)
A23: Column stratification variables | B23: <none>
A24: Weight variables | B24: btwt0, btwt001, …., btwt[MAX]

Sheet 8.1
A1: Table 8.1: Viral load suppression (HIV RNA < 1,000 copies per milliliter) by demographic characteristics
A2: Among HIV-positive adults aged [15 years and older / 15-[UPPER AGE LIMIT] years], percentage with viral load suppression (VLS), by sex, self-reported HIV diagnosis and antiretroviral therapy (ART) use (adjusted by antiretroviral [ARV] biomarker testing), and selected demographic characteristics, [SURVEY ACRONYM] [YEAR(S)]
B3: Men | E3: Women | H3: Total | L3: [SURVEY ACRONYM, FIRST YEAR]_Table8_1.sas7bdat
A4: Characteristic | B4: Percentage with VLS1 | C4: Number | E4: Percentage with VLS1 | F4: Number | H4: Percentage with VLS1 | I4: Number | L4: Order | M4: Row | N4: MaleP | O4: MaleN | P4: FemaleP | Q4: FemaleN | R4: TotalP | S4: TotalN | T4: MaleJKseP | U4: FemaleJKseP | V4: TotalJKseP | W4: MaleNoverN | X4: FemaleNoverN | Y4: TotalNoverN | Z4: MaleJKLCLP | AA4: MaleJKUCLP | AB4: FemaleJKLCLP | AC4: FemaleJKUCLP | AD4: TotalJKLCLP | AE4: TotalJKUCLP
A5: HIV diagnosis and treatment status2 | L5: 1 | M5: =IF(A5<>"", A5, "") -> HIV diagnosis and treatment status2
A6: Unaware of HIV status | L6: =L5+1 -> 2 | M6: =IF(A6<>"", A6, "") -> Unaware of HIV status
A7: Aware of HIV status and not on ART | L7: =L6+1 -> 3 | M7: =IF(A7<>"", A7, "") -> Aware of HIV status and not on ART
A8: Aware of HIV status and on ART | L8: =L7+1 -> 4 | M8: =IF(A8<>"", A8, "") -> Aware of HIV status and on ART
L9: =L8+1 -> 5 | M9: =IF(A9<>"", A9, "")
A10: Residence | L10: =L9+1 -> 6 | M10: =IF(A10<>"", A10, "") -> Residence
A11: Urban | L11: =L10+1 -> 7 | M11: =IF(A11<>"", A11, "") -> Urban
A12: Rural | L12: =L11+1 -> 8 | M12: =IF(A12<>"", A12, "") -> Rural
L13: =L12+1 -> 9 | M13: =IF(A13<>"", A13, "")
A14: [SUBNATIONAL AREA] | L14: =L13+1 -> 10 | M14: =IF(A14<>"", A14, "") -> [SUBNATIONAL AREA]
A15: [SNA 1] | L15: =L14+1 -> 11 | M15: =IF(A15<>"", A15, "") -> [SNA 1]
A16: [SNA 2] | L16: =L15+1 -> 12 | M16: =IF(A16<>"", A16, "") -> [SNA 2]
A17: [SNA 3] | L17: =L16+1 -> 13 | M17: =IF(A17<>"", A17, "") -> [SNA 3]
A18: [SNA 4] | L18: =L17+1 -> 14 | M18: =IF(A18<>"", A18, "") -> [SNA 4]
A19: [SNA 5] | L19: =L18+1 -> 15 | M19: =IF(A19<>"", A19, "") -> [SNA 5]
L20: =L19+1 -> 16 | M20: =IF(A20<>"", A20, "")
A21: Marital status | L21: =L20+1 -> 17 | M21: =IF(A21<>"", A21, "") -> Marital status
A22: Never married | L22: =L21+1 -> 18 | M22: =IF(A22<>"", A22, "") -> Never married
A23: Married or living together | L23: =L22+1 -> 19 | M23: =IF(A23<>"", A23, "") -> Married or living together
A24: Divorced or separated | L24: =L23+1 -> 20 | M24: =IF(A24<>"", A24, "") -> Divorced or separated
A25: Widowed | L25: =L24+1 -> 21 | M25: =IF(A25<>"", A25, "") -> Widowed
L26: =L25+1 -> 22 | M26: =IF(A26<>"", A26, "")
A27: Education | L27: =L26+1 -> 23 | M27: =IF(A27<>"", A27, "") -> Education
A28: No education | L28: =L27+1 -> 24 | M28: =IF(A28<>"", A28, "") -> No education
A29: Primary | L29: =L28+1 -> 25 | M29: =IF(A29<>"", A29, "") -> Primary
A30: Secondary | L30: =L29+1 -> 26 | M30: =IF(A30<>"", A30, "") -> Secondary
A31: More than secondary | L31: =L30+1 -> 27 | M31: =IF(A31<>"", A31, "") -> More than secondary
L32: =L31+1 -> 28 | M32: =IF(A32<>"", A32, "")
A33: Wealth quintile | L33: =L32+1 -> 29 | M33: =IF(A33<>"", A33, "") -> Wealth quintile
A34: Lowest | L34: =L33+1 -> 30 | M34: =IF(A34<>"", A34, "") -> Lowest
A35: Second | L35: =L34+1 -> 31 | M35: =IF(A35<>"", A35, "") -> Second
A36: Middle | L36: =L35+1 -> 32 | M36: =IF(A36<>"", A36, "") -> Middle
A37: Fourth | L37: =L36+1 -> 33 | M37: =IF(A37<>"", A37, "") -> Fourth
A38: Highest | L38: =L37+1 -> 34 | M38: =IF(A38<>"", A38, "") -> Highest
L39: =L38+1 -> 35 | M39: =IF(A39<>"", A39, "")
A40: Total 15-24 | L40: =L39+1 -> 36 | M40: =IF(A40<>"", A40, "") -> Total 15-24
A41: Total 15-49 | L41: =L40+1 -> 37 | M41: =IF(A41<>"", A41, "") -> Total 15-49
A42: Total 50-[UPPER AGE LIMIT] | L42: =L41+1 -> 38 | M42: =IF(A42<>"", A42, "") -> Total 50-[UPPER AGE LIMIT]
A43: Total 15-[UPPER AGE LIMIT] | L43: =L42+1 -> 39 | M43: =IF(A43<>"", A43, "") -> Total 15-[UPPER AGE LIMIT]
A44: 1Relates to Global AIDS Monitoring [2020 / 2021] indicator 1.3: People living with HIV who have suppressed viral loads. 2Both awareness of HIV-positive status and on treatment status were based upon self-report or having a detectable ARV in the blood. Note: Education categories refer to the highest level of education attended, whether or not that level was completed.
A45: Return to TOC
A48: Datasets and variables used
A49: Dataset | B49: adultbio, adultind
A50: Subset | B50: hivstatusfinal = 1 and bt_status = 1 and vls = 1, 2
A51: Analytic Variables | B51: vls
A52: Row stratification variables | B52: awareart
B53: urban
B54: subnational area (region, province, stratum, etc.)
B55: married
B56: education
B57: wealthquintile
B58: age15_24, age15_49, age50_up, age15_up (age)
A59: Column stratification variables | B59: gender
A60: Weight variables | B60: btwt0, btwt001, …., btwt[MAX]

Sheet 8.2
A1: Table 8.2: Viral load suppression (HIV RNA < 1,000 copies per milliliter) by age and sex
A2: Among HIV-positive adults aged [15 years and older / 15-[UPPER AGE LIMIT] years], percentage with viral load suppression (VLS) by sex and age, [SURVEY ACRONYM] [YEAR(S)]
B3: Men | E3: Women | H3: Total | L3: [SURVEY ACRONYM, FIRST YEAR]_Table8_2.sas7bdat
A4: Age | B4: Percentage with VLS1 | C4: Number | E4: Percentage with VLS1 | F4: Number | H4: Percentage with VLS1 | I4: Number | L4: Order | M4: Row | N4: MaleP | O4: MaleN | P4: FemaleP | Q4: FemaleN | R4: TotalP | S4: TotalN | T4: MaleJKseP | U4: FemaleJKseP | V4: TotalJKseP | W4: MaleNoverN | X4: FemaleNoverN | Y4: TotalNoverN | Z4: MaleJKLCLP | AA4: MaleJKUCLP | AB4: FemaleJKLCLP | AC4: FemaleJKUCLP | AD4: TotalJKLCLP | AE4: TotalJKUCLP
A5: 15-19 | L5: 1 | M5: =IF(A5<>"", A5, "") -> 15-19
A6: 20-24 | L6: =L5+1 -> 2 | M6: =IF(A6<>"", A6, "") -> 20-24
A7: 25-29 | L7: =L6+1 -> 3 | M7: =IF(A7<>"", A7, "") -> 25-29
A8: 30-34 | L8: =L7+1 -> 4 | M8: =IF(A8<>"", A8, "") -> 30-34
A9: 35-39 | L9: =L8+1 -> 5 | M9: =IF(A9<>"", A9, "") -> 35-39
A10: 40-44 | L10: =L9+1 -> 6 | M10: =IF(A10<>"", A10, "") -> 40-44
A11: 45-49 | L11: =L10+1 -> 7 | M11: =IF(A11<>"", A11, "") -> 45-49
A12: 50-54 | L12: =L11+1 -> 8 | M12: =IF(A12<>"", A12, "") -> 50-54
A13: 55-59 | L13: =L12+1 -> 9 | M13: =IF(A13<>"", A13, "") -> 55-59
A14: 60-64 | L14: =L13+1 -> 10 | M14: =IF(A14<>"", A14, "") -> 60-64
A15: 65+ | L15: =L14+1 -> 11 | M15: =IF(A15<>"", A15, "") -> 65+
L16: =L15+1 -> 12 | M16: =IF(A16<>"", A16, "")
A17: 15-24 | L17: =L16+1 -> 13 | M17: =IF(A17<>"", A17, "") -> 15-24
A18: 25-34 | L18: =L17+1 -> 14 | M18: =IF(A18<>"", A18, "") -> 25-34
A19: 35-44 | L19: =L18+1 -> 15 | M19: =IF(A19<>"", A19, "") -> 35-44
A20: 45-54 | L20: =L19+1 -> 16 | M20: =IF(A20<>"", A20, "") -> 45-54
A21: 55-64 | L21: =L20+1 -> 17 | M21: =IF(A21<>"", A21, "") -> 55-64
L22: =L21+1 -> 18 | M22: =IF(A22<>"", A22, "")
A23: Total 15-49 | L23: =L22+1 -> 19 | M23: =IF(A23<>"", A23, "") -> Total 15-49
A24: Total 50-[UPPER AGE LIMIT] | L24: =L23+1 -> 20 | M24: =IF(A24<>"", A24, "") -> Total 50-[UPPER AGE LIMIT]
A25: Total 15-[UPPER AGE LIMIT] | L25: =L24+1 -> 21 | M25: =IF(A25<>"", A25, "") -> Total 15-[UPPER AGE LIMIT]
A26: 1Relates to Global AIDS Monitoring [2020 / 2021] indicator 1.3: People living with HIV who have suppressed viral loads.
A27: Return to TOC
A30: Datasets and variables used
A31: Dataset | B31: adultbio
A32: Subset | B32: hivstatusfinal = 1 and bt_status = 1 and vls = 1, 2
A33: Analytic Variables | B33: vls
A34: Row stratification variables | B34: agegroup
B35: agegroup10alt
B36: age15_24, age15_49, age50_up, age15_up (age)
A37: Column stratification variables | B37: gender
A38: Weight variables | B38: btwt0, btwt001, …., btwt[MAX]

Sheet 8.3
A1: Table 8.3: Population viremia among the adult population in [COUNTRY], by [SUBNATIONAL AREA]
A2: Population viremia1 (unsuppressed viral load [VL], defined as HIV RNA ≥ 1,000 copies per milliliter) among adults aged 15 years and older, by [SUBNATIONAL AREA], [SURVEY ACRONYM] [YEAR(S)] | L2: [SURVEY ACRONYM, FIRST YEAR]_Table_8_3.sas7bdat
B3: Percentage with VL ≥ 1,000 copies/mL1 | C3: Number of adults tested for HIV | D3: Mean log10 VL | E3: Number of HIV-positive individuals with VL results | L3: Order | M3: Row | N3: TotalP | O3: TotalN | P3: Meanlog10VL | Q3: DetectableN
A4: [SUBNATIONAL AREA] | L4: 1 | M4: =IF(A4<>"", A4, "") -> [SUBNATIONAL AREA]
A5: [SNA 1] | L5: 2 | M5: =IF(A5<>"", A5, "") -> [SNA 1]
A6: [SNA 2] | L6: 3 | M6: =IF(A6<>"", A6, "") -> [SNA 2]
A7: [SNA 3] | L7: 4 | M7: =IF(A7<>"", A7, "") -> [SNA 3]
A8: [SNA 4] | L8: 5 | M8: =IF(A8<>"", A8, "") -> [SNA 4]
A9: [SNA 5] | L9: 6 | M9: =IF(A9<>"", A9, "") -> [SNA 5]
L10: 7 | M10: =IF(A10<>"", A10, "")
A11: Total 15+ | L11: 8 | M11: =IF(A11<>"", A11, "") -> Total 15+
A12: 1Population viremia is defined with a numerator of those with unsuppressed VL (≥1,000 copies/mL) and denominator of all adults tested (regardless of HIV status).
A13: Return to TOC
A16: Datasets and variables used
A17: Dataset | B17: adultbio
A18: Subset | B18: bt_status = 1
B19: viralload ≠ missing "."
A20: Analytic Variables | B20: vls
B21: viralload
A22: Row stratification variables | B22: subnational area (region, province, stratum, etc.)
B23: age15_up (age)
A24: Column stratification variables | B24: <none>
A25: Weight variables | B25: btwt0

Sheet 8.4
A1: Table 8.4: Viral load < 200 HIV RNA copies per milliliter by demographic and treatment characteristics
A2: Among HIV-positive adults aged [15 years and older / 15-[UPPER AGE LIMIT] years], percentage with a viral load (VL) < 200 copies per milliliter, by sex, self-reported diagnosis and antiretroviral therapy (ART) use (adjusted by antiretroviral [ARV] biomarker testing), and selected demographic characteristics, [SURVEY ACRONYM] [YEAR(S)]
B3: Men | E3: Women | H3: Total | L3: [SURVEY ACRONYM, FIRST YEAR]_Table8_4.sas7bdat
A4: Characteristic | B4: Percentage with VL < 200 copies/mL | C4: Number | E4: Percentage with VL < 200 copies/mL | F4: Number | H4: Percentage with VL < 200 copies/mL | I4: Number | L4: Order | M4: Row | N4: MaleP | O4: MaleN | P4: FemaleP | Q4: FemaleN | R4: TotalP | S4: TotalN | T4: MaleJKseP | U4: FemaleJKseP | V4: TotalJKseP | W4: MaleNoverN | X4: FemaleNoverN | Y4: TotalNoverN | Z4: MaleJKLCLP | AA4: MaleJKUCLP | AB4: FemaleJKLCLP | AC4: FemaleJKUCLP | AD4: TotalJKLCLP | AE4: TotalJKUCLP
A5: HIV diagnosis and treatment status1 | L5: 1 | M5: =IF(A5<>"", A5, "") -> HIV diagnosis and treatment status1
A6: Unaware of HIV status | L6: =L5+1 -> 2 | M6: =IF(A6<>"", A6, "") -> Unaware of HIV status
A7: Aware of HIV status and not on ART | L7: =L6+1 -> 3 | M7: =IF(A7<>"", A7, "") -> Aware of HIV status and not on ART
A8: Aware of HIV status and on ART | L8: =L7+1 -> 4 | M8: =IF(A8<>"", A8, "") -> Aware of HIV status and on ART
L9: =L8+1 -> 5 | M9: =IF(A9<>"", A9, "")
A10: Number of years since initiating ART | L10: =L9+1 -> 6 | M10: =IF(A10<>"", A10, "") -> Number of years since initiating ART
A11: Less than 12 months | L11: =L10+1 -> 7 | M11: =IF(A11<>"", A11, "") -> Less than 12 months
A12: 12 months or more | L12: =L11+1 -> 8 | M12: =IF(A12<>"", A12, "") -> 12 months or more
A13: 1 to less than 5 years | L13: =L12+1 -> 9 | M13: =IF(A13<>"", A13, "") -> 1 to less than 5 years
A14: 5 to less than 10 years | L14: =L13+1 -> 10 | M14: =IF(A14<>"", A14, "") -> 5 to less than 10 years
A15: 10 years or more | L15: =L14+1 -> 11 | M15: =IF(A15<>"", A15, "") -> 10 years or more
L16: =L15+1 -> 12 | M16: =IF(A16<>"", A16, "")
A17: Residence | L17: =L16+1 -> 13 | M17: =IF(A17<>"", A17, "") -> Residence
A18: Urban | L18: =L17+1 -> 14 | M18: =IF(A18<>"", A18, "") -> Urban
A19: Rural | L19: =L18+1 -> 15 | M19: =IF(A19<>"", A19, "") -> Rural
L20: =L19+1 -> 16 | M20: =IF(A20<>"", A20, "")
A21: [SUBNATIONAL AREA] | L21: =L20+1 -> 17 | M21: =IF(A21<>"", A21, "") -> [SUBNATIONAL AREA]
A22: [SNA 1] | L22: =L21+1 -> 18 | M22: =IF(A22<>"", A22, "") -> [SNA 1]
A23: [SNA 2] | L23: =L22+1 -> 19 | M23: =IF(A23<>"", A23, "") -> [SNA 2]
A24: [SNA 3] | L24: =L23+1 -> 20 | M24: =IF(A24<>"", A24, "") -> [SNA 3]
A25: [SNA 4] | L25: =L24+1 -> 21 | M25: =IF(A25<>"", A25, "") -> [SNA 4]
A26: [SNA 5] | L26: =L25+1 -> 22 | M26: =IF(A26<>"", A26, "") -> [SNA 5]
L27: =L26+1 -> 23 | M27: =IF(A27<>"", A27, "")
A28: Marital status | L28: =L27+1 -> 24 | M28: =IF(A28<>"", A28, "") -> Marital status
A29: Never married | L29: =L28+1 -> 25 | M29: =IF(A29<>"", A29, "") -> Never married
A30: Married or living together | L30: =L29+1 -> 26 | M30: =IF(A30<>"", A30, "") -> Married or living together
A31: Divorced or separated | L31: =L30+1 -> 27 | M31: =IF(A31<>"", A31, "") -> Divorced or separated
A32: Widowed | L32: =L31+1 -> 28 | M32: =IF(A32<>"", A32, "") -> Widowed
L33: =L32+1 -> 29 | M33: =IF(A33<>"", A33, "")
A34: Education | L34: =L33+1 -> 30 | M34: =IF(A34<>"", A34, "") -> Education
A35: No education | L35: =L34+1 -> 31 | M35: =IF(A35<>"", A35, "") -> No education
A36: Primary | L36: =L35+1 -> 32 | M36: =IF(A36<>"", A36, "") -> Primary
A37: Secondary | L37: =L36+1 -> 33 | M37: =IF(A37<>"", A37, "") -> Secondary
A38: More than secondary | L38: =L37+1 -> 34 | M38: =IF(A38<>"", A38, "") -> More than secondary
L39: =L38+1 -> 35 | M39: =IF(A39<>"", A39, "")
A40: Wealth quintile | L40: =L39+1 -> 36 | M40: =IF(A40<>"", A40, "") -> Wealth quintile
A41: Lowest | L41: =L40+1 -> 37 | M41: =IF(A41<>"", A41, "") -> Lowest
A42: Second | L42: =L41+1 -> 38 | M42: =IF(A42<>"", A42, "") -> Second
A43: Middle | L43: =L42+1 -> 39 | M43: =IF(A43<>"", A43, "") -> Middle
A44: Fourth | L44: =L43+1 -> 40 | M44: =IF(A44<>"", A44, "") -> Fourth
A45: Highest | L45: =L44+1 -> 41 | M45: =IF(A45<>"", A45, "") -> Highest
L46: =L45+1 -> 42 | M46: =IF(A46<>"", A46, "")
A47: Age | L47: =L46+1 -> 43 | M47: =IF(A47<>"", A47, "") -> Age
A48: 15-19 | L48: =L47+1 -> 44 | M48: =IF(A48<>"", A48, "") -> 15-19
A49: 20-24 | L49: =L48+1 -> 45 | M49: =IF(A49<>"", A49, "") -> 20-24
A50: 25-29 | L50: =L49+1 -> 46 | M50: =IF(A50<>"", A50, "") -> 25-29
A51: 30-34 | L51: =L50+1 -> 47 | M51: =IF(A51<>"", A51, "") -> 30-34
A52: 35-39 | L52: =L51+1 -> 48 | M52: =IF(A52<>"", A52, "") -> 35-39
A53: 40-44 | L53: =L52+1 -> 49 | M53: =IF(A53<>"", A53, "") -> 40-44
A54: 45-49 | L54: =L53+1 -> 50 | M54: =IF(A54<>"", A54, "") -> 45-49
A55: 50-54 | L55: =L54+1 -> 51 | M55: =IF(A55<>"", A55, "") -> 50-54
A56: 55-59 | L56: =L55+1 -> 52 | M56: =IF(A56<>"", A56, "") -> 55-59
A57: 60-64 | L57: =L56+1 -> 53 | M57: =IF(A57<>"", A57, "") -> 60-64
A58: 65+ | L58: =L57+1 -> 54 | M58: =IF(A58<>"", A58, "") -> 65+
L59: =L58+1 -> 55 | M59: =IF(A59<>"", A59, "")
A60: Total 15-24 | L60: =L59+1 -> 56 | M60: =IF(A60<>"", A60, "") -> Total 15-24
A61: Total 15-49 | L61: =L60+1 -> 57 | M61: =IF(A61<>"", A61, "") -> Total 15-49
A62: Total 50-[UPPER AGE LIMIT] | L62: =L61+1 -> 58 | M62: =IF(A62<>"", A62, "") -> Total 50-[UPPER AGE LIMIT]
A63: Total 15-[UPPER AGE LIMIT] | L63: =L62+1 -> 59 | M63: =IF(A63<>"", A63, "") -> Total 15-[UPPER AGE LIMIT]
A64: 1Both awareness of HIV-positive status and on treatment status were based upon self-report or having a detectable ARV in the blood. Note: Education categories refer to the highest level of education attended, whether or not that level was completed.
A65: Return to TOC
A68: Datasets and variables used
A69: Dataset | B69: adultbio
A70: Subset | B70: hivstatusfinal = 1 and bt_status = 1 and vlunder200 = 1, 2
A71: Analytic Variables | B71: vlunder200
A72: Row stratification variables | B72: awareart
B73: artinitiated12months
B74: yearsonart
B75: urban
B76: subnational area (region, province, stratum, etc.)
B77: married
B78: education
B79: wealthquintile
B80: agegroup
B81: age15_24, age15_49, age50_up, age15_up (age)
A82: Column stratification variables | B82: gender
A83: Weight variables | B83: btwt0, btwt001, …., btwt[MAX]

Sheet 8.5
A1: Table 8.5: Self-reported viral load testing
A2: Percentage of HIV-positive adults aged [15 years and older / 15-[UPPER AGE LIMIT] years] who reported they had ever had a viral load (VL) test, and among those who had a VL test, percentage who reported that they received VL results from their last test, by selected demographic characteristics, [SURVEY ACRONYM] [YEAR(S)]
A3: Characteristic | B3: Among all HIV-positive adults receiving HIV care | E3: Among adults who had ever had a VL test | L3: [SURVEY ACRONYM, FIRST YEAR]_Table8_5.sas7bdat
B4: Percentage who had ever had a VL test | C4: Number | E4: Percentage who received VL results from their last test | F4: Number | L4: Order | M4: row | N4: VLTestP | O4: TotalN | P4: VLResultP | Q4: VLTestN | R4: VLTestJKseP | S4: VLResultJKseP | T4: VLTestNoverN | U4: VLResultNoverN | V4: VLTestJKUCLP | W4: VLTestJKLCLP | X4: VLResultJKLCLP | Y4: VLResultJKUCLP
A5: Sex | L5: 1 | M5: =IF(A5<>"", A5, "") -> Sex
A6: Male | L6: =L5+1 -> 2 | M6: =IF(A6<>"", A6, "") -> Male
A7: Female | L7: =L6+1 -> 3 | M7: =IF(A7<>"", A7, "") -> Female
L8: =L7+1 -> 4 | M8: =IF(A8<>"", A8, "")
A9: Residence | L9: =L8+1 -> 5 | M9: =IF(A9<>"", A9, "") -> Residence
A10: Urban | L10: =L9+1 -> 6 | M10: =IF(A10<>"", A10, "") -> Urban
A11: Rural | L11: =L10+1 -> 7 | M11: =IF(A11<>"", A11, "") -> Rural
L12: =L11+1 -> 8 | M12: =IF(A12<>"", A12, "")
A13: [SUBNATIONAL AREA] | L13: =L12+1 -> 9 | M13: =IF(A13<>"", A13, "") -> [SUBNATIONAL AREA]
A14: [SNA 1] | L14: =L13+1 -> 10 | M14: =IF(A14<>"", A14, "") -> [SNA 1]
A15: [SNA 2] | L15: =L14+1 -> 11 | M15: =IF(A15<>"", A15, "") -> [SNA 2]
A16: [SNA 3] | L16: =L15+1 -> 12 | M16: =IF(A16<>"", A16, "") -> [SNA 3]
A17: [SNA 4] | L17: =L16+1 -> 13 | M17: =IF(A17<>"", A17, "") -> [SNA 4]
A18: [SNA 5] | L18: =L17+1 -> 14 | M18: =IF(A18<>"", A18, "") -> [SNA 5]
L19: =L18+1 -> 15 | M19: =IF(A19<>"", A19, "")
A20: Marital status | L20: =L19+1 -> 16 | M20: =IF(A20<>"", A20, "") -> Marital status
A21: Never married | L21: =L20+1 -> 17 | M21: =IF(A21<>"", A21, "") -> Never married
A22: Married or living together | L22: =L21+1 -> 18 | M22: =IF(A22<>"", A22, "") -> Married or living together
A23: Divorced or separated | L23: =L22+1 -> 19 | M23: =IF(A23<>"", A23, "") -> Divorced or separated
A24: Widowed | L24: =L23+1 -> 20 | M24: =IF(A24<>"", A24, "") -> Widowed
L25: =L24+1 -> 21 | M25: =IF(A25<>"", A25, "")
A26: Education | L26: =L25+1 -> 22 | M26: =IF(A26<>"", A26, "") -> Education
A27: No education | L27: =L26+1 -> 23 | M27: =IF(A27<>"", A27, "") -> No education
A28: Primary | L28: =L27+1 -> 24 | M28: =IF(A28<>"", A28, "") -> Primary
A29: Secondary | L29: =L28+1 -> 25 | M29: =IF(A29<>"", A29, "") -> Secondary
A30: More than secondary | L30: =L29+1 -> 26 | M30: =IF(A30<>"", A30, "") -> More than secondary
L31: =L30+1 -> 27 | M31: =IF(A31<>"", A31, "")
A32: Wealth quintile | L32: =L31+1 -> 28 | M32: =IF(A32<>"", A32, "") -> Wealth quintile
A33: Lowest | L33: =L32+1 -> 29 | M33: =IF(A33<>"", A33, "") -> Lowest
A34: Second | L34: =L33+1 -> 30 | M34: =IF(A34<>"", A34, "") -> Second
A35: Middle | L35: =L34+1 -> 31 | M35: =IF(A35<>"", A35, "") -> Middle
A36: Fourth | L36: =L35+1 -> 32 | M36: =IF(A36<>"", A36, "") -> Fourth
A37: Highest | L37: =L36+1 -> 33 | M37: =IF(A37<>"", A37, "") -> Highest
L38: =L37+1 -> 34 | M38: =IF(A38<>"", A38, "")
A39: Age | L39: =L38+1 -> 35 | M39: =IF(A39<>"", A39, "") -> Age
A40: 15-19 | L40: =L39+1 -> 36 | M40: =IF(A40<>"", A40, "") -> 15-19
A41: 20-24 | L41: =L40+1 -> 37 | M41: =IF(A41<>"", A41, "") -> 20-24
A42: 25-29 | L42: =L41+1 -> 38 | M42: =IF(A42<>"", A42, "") -> 25-29
A43: 30-34 | L43: =L42+1 -> 39 | M43: =IF(A43<>"", A43, "") -> 30-34
A44: 35-39 | L44: =L43+1 -> 40 | M44: =IF(A44<>"", A44, "") -> 35-39
A45: 40-44 | L45: =L44+1 -> 41 | M45: =IF(A45<>"", A45, "") -> 40-44
A46: 45-49 | L46: =L45+1 -> 42 | M46: =IF(A46<>"", A46, "") -> 45-49
A47: 50-54 | L47: =L46+1 -> 43 | M47: =IF(A47<>"", A47, "") -> 50-54
A48: 55-59 | L48: =L47+1 -> 44 | M48: =IF(A48<>"", A48, "") -> 55-59
A49: 60-64 | L49: =L48+1 -> 45 | M49: =IF(A49<>"", A49, "") -> 60-64
A50: 65+ | L50: =L49+1 -> 46 | M50: =IF(A50<>"", A50, "") -> 65+
L51: =L50+1 -> 47 | M51: =IF(A51<>"", A51, "")
A52: Total 15-24 | L52: =L51+1 -> 48 | M52: =IF(A52<>"", A52, "") -> Total 15-24
A53: Total 15-49 | L53: =L52+1 -> 49 | M53: =IF(A53<>"", A53, "") -> Total 15-49
A54: Total 50-[UPPER AGE LIMIT] | L54: =L53+1 -> 50 | M54: =IF(A54<>"", A54, "") -> Total 50-[UPPER AGE LIMIT]
A55: Total 15-[UPPER AGE LIMIT] | L55: =L54+1 -> 51 | M55: =IF(A55<>"", A55, "") -> Total 15-[UPPER AGE LIMIT]
A56: Note: Education categories refer to the highest level of education attended, whether or not that level was completed.
A57: Return to TOC
A60: Datasets and variables used
A61: Dataset | B61: adultind, adultbio
A62: Subset | B62: hivstatusfinal = 1 and bt_status = 1 and hivcare = 1 and vltest = 1, 2 and vltestresult = 1, 2
B63: hivstatusfinal = 1 and bt_status = 1 and hivcare = 1 and vltest = 1 and vltestresult = 1, 2
A64: Analytic Variables | B64: vltest
B65: vltestresult
A66: Row stratification variables | B66: gender
B67: urban
B68: subnational area (region, province, stratum, etc.)
B69: married
B70: education
B71: wealthquintile
B72: agegroup
B73: age15_24, age15_49, age50_up, age15_up (age)
A74: Column stratification variables | B74: <none>
A75: Weight variables | B75: btwt0, btwt001, …., btwt[MAX]

Sheet 9.1.A
A1: Table 9.1.A: Adult [90-90-90 / 95-95-95] (self-reported and antiretroviral biomarker data); overall percentages
A2: [90-90-90 / 95-95-95] targets among people living with HIV aged [15 years and older / 15-[UPPER AGE LIMIT] based upon their self-reported HIV status and antiretroviral (ART) use, both adjusted for having a detectable antiretroviral (ARV) in blood, by sex and age, [SURVEY ACRONYM] [YEAR(S)]
B3: Diagnosed
B4: Men | E4: Women | H4: Total | L4: [SURVEY ACRONYM, FIRST YEAR]_Table9_1_A.sas7bdat
A5: Age | B5: Percentage aware of HIV status1, 2 | C5: Number | E5: Percentage aware of HIV status1, 2 | F5: Number | H5: Percentage aware of HIV status1, 2 | I5: Number | L5: Order | M5: Row | N5: MaleSRPosP | O5: MaleSRPosN | P5: FemaleSRPosP | Q5: FemaleSRPosN | R5: TotalSRPosP | S5: TotalSRPosN | T5: MaleSRArtP | U5: MaleSRArtN | V5: FemaleSRArtP | W5: FemaleSRArtN | X5: TotalSRArtP | Y5: TotalSRArtN | Z5: MaleVsP | AA5: MaleVsN | AB5: FemaleVsP | AC5: FemaleVsN | AD5: TotalVsP | AE5: TotalVsN | AF5: MaleSRPosJKseP | AG5: FemaleSRPosJKseP | AH5: TotalSRPosJKseP | AI5: MaleSRArtJKseP | AJ5: FemaleSRArtJKseP | AK5: TotalSRArtJKseP | AL5: MaleVsJKseP | AM5: FemaleVsJKseP | AN5: TotalVsJKseP | AO5: MaleSRPosNoverN | AP5: FemaleSRPosNoverN | AQ5: TotalSRPosNoverN | AR5: MaleSRArtNoverN | AS5: FemaleSRArtNoverN | AT5: TotalSRArtNoverN | AU5: MaleVsNoverN | AV5: FemaleVsNoverN | AW5: TotalVsNoverN | AX5: MaleSRPosJKLCLP | AY5: MaleSRPosJKUCLP | AZ5: FemaleSRPosJKLCLP | BA5: FemaleSRPosJKUCLP | BB5: TotalSRPosJKLCLP | BC5: TotalSRPosJKUCLP | BD5: MaleSRArtJKLCLP | BE5: MaleSRArtJKUCLP | BF5: FemaleSRArtJKLCLP | BG5: FemaleSRArtJKUCLP | BH5: TotalSRArtJKLCLP | BI5: TotalSRArtJKUCLP | BJ5: MaleVsJKLCLP | BK5: MaleVsJKUCLP | BL5: FemaleVsJKLCLP | BM5: FemaleVsJKUCLP | BN5: TotalVsJKLCLP | BO5: TotalVsJKUCLP
A6: 15-24 | L6: 1 | M6: 15-24
A7: 25-34 | L7: 2 | M7: 25-34
A8: 35-49 | L8: 3 | M8: 35-49
A9: 50-[UPPER AGE LIMIT] | L9: 4 | M9: =A9 -> 50-[UPPER AGE LIMIT]
A11: 15-49 | L11: 5 | M11: 15-49
A12: 15-[UPPER AGE LIMIT] | L12: 6 | M12: =A12 -> 15-[UPPER AGE LIMIT]
B13: On Treatment
B14: Men | E14: Women | H14: Total
A15: Age | B15: Percentage on ART1,3 | C15: Number | E15: Percentage on ART1,3 | F15: Number | H15: Percentage on ART1,3 | I15: Number
A16: 15-24
A17: 25-34
A18: 35-49
A19: 50-[UPPER AGE LIMIT]
A21: 15-49
A22: 15-[UPPER AGE LIMIT]
B23: Viral Load Suppression (VLS) on Treatment
B24: Men | E24: Women | H24: Total
A25: Age | B25: Percentage with VLS4 | C25: Number | E25: Percentage with VLS4 | F25: Number | H25: Percentage with VLS4 | I25: Number
A26: 15-24
A27: 25-34
A28: 35-49
A29: 50-[UPPER AGE LIMIT]
A31: 15-49
A32: 15-[UPPER AGE LIMIT]
A33: 1Both awareness of HIV-positive status and on treatment status were based upon self-report or having a detectable ARV in the blood. 2Relates to Global AIDS Monitoring indicator [2020 / 2021] (GAM [2020 / 2021]) 1.1: People living with HIV who know their HIV status; and PEPFAR indicator DIAGNOSED_NAT: Percentage of adults and children living with HIV who know their status (have been diagnosed). 3Relates to GAM [2020 / 2021] 1.2: People living with HIV on ART; and PEPFAR indicator TX_CURR_NAT / SUBNAT: Number of adults and children currently receiving ART. 4Relates to GAM [2020 / 2021] 1.3: People living with HIV who have suppressed viral loads; and PEPFAR indicator VL_SUPPRESSION_NAT: Percentage of people living with HIV on ART with a suppressed viral load.
A34: Return to TOC
A37: Datasets and variables used
A38: Dataset | B38: adultbio
A39: Subset | B39: hivstatusfinal = 1 and bt_status = 1 and tri90 = 1
A40: Analytic Variables | B40: tri90aware
B41: tri90art
B42: tri90vls
A43: Row stratification variables | B43: age
A44: Column stratification variables | B44: gender
A45: Weight variables | B45: btwt0, btwt001, …., btwt[MAX]

Sheet 9.1.B
A1: Table 9.1.B: Adult [90-90-90 / 95-95-95] (self-reported and antiretroviral biomarker data); conditional percentages
A2: [90-90-90 / 95-95-95] targets among people living with HIV aged [15 years and older / 15-[UPPER AGE LIMIT] based upon their self-reported HIV status and antiretroviral (ART) use, both adjusted for having a detectable antiretroviral (ARV) in blood, by sex and age, [SURVEY ACRONYM] [YEAR(S)]
B3: Diagnosed
B4: Men | E4: Women | H4: Total | L4: [SURVEY ACRONYM, FIRST YEAR]_Table9_1_B.sas7bdat
A5: Age | B5: Percentage aware of HIV status1, 2 | C5: Number | E5: Percentage aware of HIV status1, 2 | F5: Number | H5: Percentage aware of HIV status1, 2 | I5: Number | L5: Order | M5: Row | N5: MenSRPosP | O5: MenSRPosN | P5: WomenSRPosP | Q5: WomenSRPosN | R5: TotalSRPosP | S5: TotalSRPosN | T5: MenSRArtP | U5: MenSRArtN | V5: WomenSRArtP | W5: WomenSRArtN | X5: TotalSRArtP | Y5: TotalSRArtN | Z5: MenVsP | AA5: MenVsN | AB5: WomenVsP | AC5: WomenVsN | AD5: TotalVsP | AE5: TotalVsN | AF5: MenSRPosJKseP | AG5: WomenSRPosJKseP | AH5: TotalSRPosJKseP | AI5: MenSRArtJKseP | AJ5: WomenSRArtJKseP | AK5: TotalSRArtJKseP | AL5: MenVsJKseP | AM5: WomenVsJKseP | AN5: TotalVsJKseP | AO5: MenSRPosNoverN | AP5: WomenSRPosNoverN | AQ5: TotalSRPosNoverN | AR5: MenSRArtNoverN | AS5: WomenSRArtNoverN | AT5: TotalSRArtNoverN | AU5: MenVsNoverN | AV5: WomenVsNoverN | AW5: TotalVsNoverN | AX5: MenSRPosJKLCLP | AY5: MenSRPosJKUCLP | AZ5: WomenSRPosJKLCLP | BA5: WomenSRPosJKUCLP | BB5: TotalSRPosJKLCLP | BC5: TotalSRPosJKUCLP | BD5: MenSRArtJKLCLP | BE5: MenSRArtJKUCLP | BF5: WomenSRArtJKLCLP | BG5: WomenSRArtJKUCLP | BH5: TotalSRArtJKLCLP | BI5: TotalSRArtJKUCLP | BJ5: MenVsJKLCLP | BK5: MenVsJKUCLP | BL5: WomenVsJKLCLP | BM5: WomenVsJKUCLP | BN5: TotalVsJKLCLP | BO5: TotalVsJKUCLP
A6: 15-24 | L6: 1 | M6: 15-24
A7: 25-34 | L7: 2 | M7: 25-34
A8: 35-49 | L8: 3 | M8: 35-49
A9: 50-[UPPER AGE LIMIT] | L9: 4 | M9: =A9 -> 50-[UPPER AGE LIMIT]
A11: 15-49 | L11: 5 | M11: =A11 -> 15-49
A12: 15-[UPPER AGE LIMIT] | L12: 6 | M12: =A12 -> 15-[UPPER AGE LIMIT]
B13: On Treatment Among Those Diagnosed
B14: Men | E14: Women | H14: Total
A15: Age | B15: Percentage on ART1,3 | C15: Number | E15: Percentage on ART1,3 | F15: Number | H15: Percentage on ART1,3 | I15: Number
A16: 15-24
A17: 25-34
A18: 35-49
A19: 50-[UPPER AGE LIMIT]
A21: 15-49
A22: 15-[UPPER AGE LIMIT]
B23: Viral Load Suppression (VLS) Among Those on Treatment
B24: Men | E24: Women | H24: Total
A25: Age | B25: Percentage with VLS4 | C25: Number | E25: Percentage with VLS4 | F25: Number | H25: Percentage with VLS4 | I25: Number
A26: 15-24
A27: 25-34
A28: 35-49
A29: 50-[UPPER AGE LIMIT]
A31: 15-49
A32: 15-[UPPER AGE LIMIT]
A33: 1Both awareness of HIV-positive status and on treatment status were based upon self-report or having a detectable ARV in the blood. 2Relates to Global AIDS Monitoring indicator [2020 / 2021] (GAM [2020 / 2021]) 1.1: People living with HIV who know their HIV status; and PEPFAR indicator DIAGNOSED_NAT: Percentage of adults and children living with HIV who know their status (have been diagnosed). 3Relates to GAM [2020 / 2021] 1.2: People living with HIV on ART; and PEPFAR indicator TX_CURR_NAT / SUBNAT: Number of adults and children currently receiving ART. 4Relates to GAM [2020 / 2021] 1.3: People living with HIV who have suppressed viral loads; and PEPFAR indicator VL_SUPPRESSION_NAT: Percentage of people living with HIV on ART with a suppressed viral load.
A34: Return to TOC
A37: Datasets and variables used
A38: Dataset | B38: adultbio
A39: Subset | B39: hivstatusfinal = 1 and bt_status = 1 and tri90 = 1
A40: Analytic Variables | B40: tri90aware
B41: tri90art
B42: tri90vls
A43: Row stratification variables | B43: age
A44: Column stratification variables | B44: gender
A45: Weight variables | B45: btwt0, btwt001, …., btwt[MAX]

Sheet 9.2.A
A1: Table 9.2.A: Adult [90-90-90 / 95-95-95] (self-reported data adjusted for a viral load < 200 HIV RNA copies per milliliter); overall percentages
A2: [90-90-90 / 95-95-95] targets among adults living with HIV aged [15 years and older / 15-[UPPER AGE LIMIT], based upon their self-reported HIV status and antiretroviral therapy (ART) use, both adjusted for having a viral load (VL) < 200 copies per milliliter, by sex and age, [SURVEY ACRONYM] [YEAR(S)]
B3: Diagnosed
B4: Men | E4: Women | H4: Total | L4: [SURVEY ACRONYM, FIRST YEAR]_Table9_1_B.sas7bdat
A5: Age | B5: Percentage aware of HIV status1, 2 | C5: Number | E5: Percentage aware of HIV status1, 2 | F5: Number | H5: Percentage aware of HIV status1, 2 | I5: Number | L5: Order | M5: Row | N5: MaleSRPosP | O5: MaleSRPosN | P5: FemaleSRPosP | Q5: FemaleSRPosN | R5: TotalSRPosP | S5: TotalSRPosN | T5: MaleSRArtP | U5: MaleSRArtN | V5: FemaleSRArtP | W5: FemaleSRArtN | X5: TotalSRArtP | Y5: TotalSRArtN | Z5: MaleVsP | AA5: MaleVsN | AB5: FemaleVsP | AC5: FemaleVsN | AD5: TotalVsP | AE5: TotalVsN | AF5: MaleSRPosJKseP | AG5: FemaleSRPosJKseP | AH5: TotalSRPosJKseP | AI5: MaleSRArtJKseP | AJ5: FemaleSRArtJKseP | AK5: TotalSRArtJKseP | AL5: MaleVsJKseP | AM5: FemaleVsJKseP | AN5: TotalVsJKseP | AO5: MaleSRPosNoverN | AP5: FemaleSRPosNoverN | AQ5: TotalSRPosNoverN | AR5: MaleSRArtNoverN | AS5: FemaleSRArtNoverN | AT5: TotalSRArtNoverN | AU5: MaleVsNoverN | AV5: FemaleVsNoverN | AW5: TotalVsNoverN | AX5: MaleSRPosJKLCLP | AY5: MaleSRPosJKUCLP | AZ5: FemaleSRPosJKLCLP | BA5: FemaleSRPosJKUCLP | BB5: TotalSRPosJKLCLP | BC5: TotalSRPosJKUCLP | BD5: MaleSRArtJKLCLP | BE5: MaleSRArtJKUCLP | BF5: FemaleSRArtJKLCLP | BG5: FemaleSRArtJKUCLP | BH5: TotalSRArtJKLCLP | BI5: TotalSRArtJKUCLP | BJ5: MaleVsJKLCLP | BK5: MaleVsJKUCLP | BL5: FemaleVsJKLCLP | BM5: FemaleVsJKUCLP | BN5: TotalVsJKLCLP | BO5: TotalVsJKUCLP
A6: 15-24 | L6: 1 | M6: 15-24
A7: 25-34 | L7: 2 | M7: 25-34
A8: 35-49 | L8: 3 | M8: 35-49
A9: 50-[UPPER AGE LIMIT] | L9: 4 | M9: =A9 -> 50-[UPPER AGE LIMIT]
A11: 15-49 | L11: 5 | M11: =A11 -> 15-49
A12: 15-[UPPER AGE LIMIT] | L12: 6 | M12: =A12 -> 15-[UPPER AGE LIMIT]
B13: On Treatment
B14: Men | E14: Women | H14: Total
A15: Age | B15: Percentage on ART1,3 | C15: Number | E15: Percentage on ART1,3 | F15: Number | H15: Percentage on ART1,3 | I15: Number
A16: 15-24
A17: 25-34
A18: 35-49
A19: 50-[UPPER AGE LIMIT]
A21: 15-49
A22: 15-[UPPER AGE LIMIT]
B23: Viral Load Suppression (VLS) on Treatment
B24: Men | E24: Women | H24: Total
A25: Age | B25: Percentage with VLS4 | C25: Number | E25: Percentage with VLS4 | F25: Number | H25: Percentage with VLS4 | I25: Number
A26: 15-24
A27: 25-34
A28: 35-49
A29: 50-[UPPER AGE LIMIT]
A31: 15-49
A32: 15-[UPPER AGE LIMIT]
A33: 1Both awareness of HIV-positive status and on treatment status were based upon self-report or having a VL < 200 copies/mL; 2Relates to Global AIDS Monitoring indicator [2020 / 2021] (GAM [2020 / 2021]) 1.1: People living with HIV who know their HIV status and PEPFAR Indicator DIAGNOSED_NAT: The percentage of adults and children living with HIV who know their status (have been diagnosed); 3Relates to GAM [2020 / 2021] 1.2: People living with HIV on antiretroviral therapy and PEPFAR TX_CURR_NAT / SUBNAT: Percentage of adults and children receiving antiretroviral therapy; 4Relates to GAM [2020 / 2021] 1.3: People living with HIV who have suppressed viral loads and PEPFAR Indicator VL_SUPPRESSION_NAT: Percentage of people living with HIV on ART with a suppressed viral load.
A34: Return to TOC
A37: Datasets and variables used
A38: Dataset | B38: adultbio
A39: Subset | B39: hivstatusfinal = 1 and bt_status = 1 and tri90vl = 1
A40: Analytic Variables | B40: tri90vlaware
B41: tri90vlart
B42: tri90vlvls
A43: Row stratification variables | B43: age
A44: Column stratification variables | B44: gender
A45: Weight variables | B45: btwt0, btwt001, …., btwt[MAX]

Sheet 9.2.B
A1: Table 9.2.B: Adult [90-90-90 / 95-95-95] (self-reported data adjusted for viral load < 200 HIV RNA copies per milliliter); conditional percentages
A2: [90-90-90 / 95-95-95] targets among adults living with HIV aged [15 years and older / 15-[UPPER AGE LIMIT], based upon their self-reported HIV status and antiretroviral therapy (ART) use, both adjusted for having a viral load (VL) < 200 copies per milliliter, by sex and age, [SURVEY ACRONYM] [YEAR(S)]
B3: Diagnosed
B4: Men | E4: Women | H4: Total | L4: [SURVEY ACRONYM, FIRST YEAR]_Table9_2_B.sas7bdat
A5: Age | B5: Percentage aware of HIV status1,2 | C5: Number | E5: Percentage aware of HIV status1, 2 | F5: Number | H5: Percentage aware of HIV status1,2 | I5: Number | L5: Order | M5: Row | N5: MaleSRPosP | O5: MaleSRPosN | P5: FemaleSRPosP | Q5: FemaleSRPosN | R5: TotalSRPosP | S5: TotalSRPosN | T5: MaleSRArtP | U5: MaleSRArtN | V5: FemaleSRArtP | W5: FemaleSRArtN | X5: TotalSRArtP | Y5: TotalSRArtN | Z5: MaleVsP | AA5: MaleVsN | AB5: FemaleVsP | AC5: FemaleVsN | AD5: TotalVsP | AE5: TotalVsN | AF5: MaleSRPosJKseP | AG5: FemaleSRPosJKseP | AH5: TotalSRPosJKseP | AI5: MaleSRArtJKseP | AJ5: FemaleSRArtJKseP | AK5: TotalSRArtJKseP | AL5: MaleVsJKseP | AM5: FemaleVsJKseP | AN5: TotalVsJKseP | AO5: MaleSRPosNoverN | AP5: FemaleSRPosNoverN | AQ5: TotalSRPosNoverN | AR5: MaleSRArtNoverN | AS5: FemaleSRArtNoverN | AT5: TotalSRArtNoverN | AU5: MaleVsNoverN | AV5: FemaleVsNoverN | AW5: TotalVsNoverN | AX5: MaleSRPosJKLCLP | AY5: MaleSRPosJKUCLP | AZ5: FemaleSRPosJKLCLP | BA5: FemaleSRPosJKUCLP | BB5: TotalSRPosJKLCLP | BC5: TotalSRPosJKUCLP | BD5: MaleSRArtJKLCLP | BE5: MaleSRArtJKUCLP | BF5: FemaleSRArtJKLCLP | BG5: FemaleSRArtJKUCLP | BH5: TotalSRArtJKLCLP | BI5: TotalSRArtJKUCLP | BJ5: MaleVsJKLCLP | BK5: MaleVsJKUCLP | BL5: FemaleVsJKLCLP | BM5: FemaleVsJKUCLP | BN5: TotalVsJKLCLP | BO5: TotalVsJKUCLP
A6: 15-24 | L6: 1 | M6: 15-24
A7: 25-34 | L7: 2 | M7: 25-34
A8: 35-49 | L8: 3 | M8: 35-49
A9: 50-[UPPER AGE LIMIT] | L9: 4 | M9: =A9 -> 50-[UPPER AGE LIMIT]
A11: 15-49 | L11: 5 | M11: =A11 -> 15-49
A12: 15-[UPPER AGE LIMIT] | L12: 6 | M12: =A12 -> 15-[UPPER AGE LIMIT]
B13: On Treatment Among Those Diagnosed
B14: Men | E14: Women | H14: Total
A15: Age | B15: Percentage on ART1,3 | C15: Number | E15: Percentage on ART1,3 | F15: Number | H15: Percentage on ART1,3 | I15: Number
A16: 15-24
A17: 25-34
A18: 35-49
A19: 50-[UPPER AGE LIMIT]
A21: 15-49
A22: 15-[UPPER AGE LIMIT]
B23: Viral Load Suppression (VLS) Among Those On Treatment
B24: Men | E24: Women | H24: Total
A25: Age | B25: Percentage with VLS4 | C25: Number | E25: Percentage with VLS4 | F25: Number | H25: Percentage with VLS4 | I25: Number
A26: 15-24
A27: 25-34
A28: 35-49
A29: 50-[UPPER AGE LIMIT]
A31: 15-49
A32: 15-[UPPER AGE LIMIT] | K32: .
A33: 1Both awareness of HIV-positive status and on treatment status were based upon self-report or having a VL < 200 copies/mL; 2Relates to Global AIDS Monitoring indicator [2020 / 2021] (GAM [2020 / 2021]) 1.1: People living with HIV who know their HIV status and PEPFAR Indicator DIAGNOSED_NAT: The percentage of adults and children living with HIV who know their status (have been diagnosed); 3Relates to GAM [2020 / 2021] 1.2: People living with HIV on antiretroviral therapy and PEPFAR TX_CURR_NAT / SUBNAT: Percentage of adults and children receiving antiretroviral therapy; 4Relates to GAM [2020 / 2021] 1.3: People living with HIV who have suppressed viral loads and PEPFAR Indicator VL_SUPPRESSION_NAT: Percentage of people living with HIV on ART with a suppressed viral load.
A36: Return to TOC
A39: Datasets and variables used
A40: Dataset | B40: adultbio
A41: Subset | B41: hivstatusfinal = 1 and bt_status = 1 and tri90vl = 1
A42: Analytic Variables | B42: tri90vlaware
B43: tri90vlart
B44: tri90vlvls
A45: Row stratification variables | B45: age
A46: Column stratification variables | B46: gender
A47: Weight variables | B47: btwt0, btwt001, …., btwt[MAX]

Sheet 9.3.A
A1: Table 9.3.A: Adult [90-90-90 / 95-95-95] by geography (self-reported and antiretroviral biomarker data); overall percentages
A2: [90-90-90 / 95-95-95] targets among people living with HIV aged [15 years and older / 15-[UPPER AGE LIMIT] based upon their self-reported HIV status and antiretroviral therapy (ART) use, both adjusted for having a detectable antiretroviral (ARV) in blood, by sex, residence, and [SUBNATIONAL AREA], [SURVEY ACRONYM] [YEAR(S)]
B3: Diagnosed
B4: Men | E4: Women | H4: Total | L4: [SURVEY ACRONYM, FIRST YEAR]_Table9_3_A.sas7bdat
A5: Geography | B5: Percentage aware of HIV status1, 2 | C5: Number | E5: Percentage aware of HIV status1, 2 | F5: Number | H5: Percentage aware of HIV status1, 2 | I5: Number | L5: Order | M5: Row | N5: MaleSRPosP | O5: MaleSRPosN | P5: FemaleSRPosP | Q5: FemaleSRPosN | R5: TotalSRPosP | S5: TotalSRPosN | T5: MaleSRArtP | U5: MaleSRArtN | V5: FemaleSRArtP | W5: FemaleSRArtN | X5: TotalSRArtP | Y5: TotalSRArtN | Z5: MaleVsP | AA5: MaleVsN | AB5: FemaleVsP | AC5: FemaleVsN | AD5: TotalVsP | AE5: TotalVsN | AF5: MaleSRPosJKseP | AG5: FemaleSRPosJKseP | AH5: TotalSRPosJKseP | AI5: MaleSRArtJKseP | AJ5: FemaleSRArtJKseP | AK5: TotalSRArtJKseP | AL5: MaleVsJKseP | AM5: FemaleVsJKseP | AN5: TotalVsJKseP | AO5: MaleSRPosNoverN | AP5: FemaleSRPosNoverN | AQ5: TotalSRPosNoverN | AR5: MaleSRArtNoverN | AS5: FemaleSRArtNoverN | AT5: TotalSRArtNoverN | AU5: MaleVsNoverN | AV5: FemaleVsNoverN | AW5: TotalVsNoverN | AX5: MaleSRPosJKLCLP | AY5: MaleSRPosJKUCLP | AZ5: FemaleSRPosJKLCLP | BA5: FemaleSRPosJKUCLP | BB5: TotalSRPosJKLCLP | BC5: TotalSRPosJKUCLP | BD5: MaleSRArtJKLCLP | BE5: MaleSRArtJKUCLP | BF5: FemaleSRArtJKLCLP | BG5: FemaleSRArtJKUCLP | BH5: TotalSRArtJKLCLP | BI5: TotalSRArtJKUCLP | BJ5: MaleVsJKLCLP | BK5: MaleVsJKUCLP | BL5: FemaleVsJKLCLP | BM5: FemaleVsJKUCLP | BN5: TotalVsJKLCLP | BO5: TotalVsJKUCLP
A6: Residence | L6: 1 | M6: =A6 -> Residence
A7: Urban | L7: =L6+1 -> 2 | M7: =A7 -> Urban
A8: Rural | L8: =L7+1 -> 3 | M8: =A8 -> Rural
L9: =L8+1 -> 4
A10: [SUBNATIONAL AREA] | L10: =L9+1 -> 5 | M10: [SUBNATIONAL AREA]
A11: [SNA 1] | L11: =L10+1 -> 6 | M11: [SNA 1]
A12: [SNA 2] | L12: =L11+1 -> 7 | M12: [SNA 2]
A13: [SNA 3] | L13: =L12+1 -> 8 | M13: [SNA 3]
A14: [SNA 4] | L14: =L13+1 -> 9 | M14: [SNA 4]
A15: [SNA 5] | L15: =L14+1 -> 10 | M15: [SNA 5]
B16: On Treatment
B17: Men | E17: Women | H17: Total
A18: Georgraphy | B18: Percentage on ART1,3 | C18: Number | E18: Percentage on ART1,3 | F18: Number | H18: Percentage on ART1,3 | I18: Number
A19: Residence
A20: Urban
A21: Rural
A23: [SUBNATIONAL AREA]
A24: [SNA 1]
A25: [SNA 2]
A26: [SNA 3]
A27: [SNA 4]
A28: [SNA 5]
B29: Viral Load Suppression (VLS) on Treatment
B30: Men | E30: Women | H30: Total
A31: Geography | B31: Percentage with VLS4 | C31: Number | E31: Percentage with VLS4 | F31: Number | H31: Percentage with VLS4 | I31: Number
A32: Residence
A33: Urban
A34: Rural
A36: [SUBNATIONAL AREA]
A37: [SNA 1]
A38: [SNA 2]
A39: [SNA 3]
A40: [SNA 4]
A41: [SNA 5]
A42: 1 Both awareness of HIV-positive status and on treatment status were based upon self-report or having a detectable ARV in the blood. 2 Relates to Global AIDS Monitoring indicator [2020 / 2021] (GAM [2020 / 2021]) 1.1: People living with HIV who know their HIV status; and PEPFAR indicator DIAGNOSED_NAT: The percentage of adults and children living with HIV who know their status (have been diagnosed). 3 Relates to GAM [2020 / 2021] 1.2: People living with HIV on ART; and PEPFAR indicator TX_CURR_NAT / SUBNAT: Percentage of adults and children currently receiving ART. 4 Relates to GAM [2020 / 2021] 1.3: People living with HIV who have suppressed viral loads; and PEPFAR indicator VL_SUPPRESSION_NAT: Percentage of people living with HIV on ART with a suppressed viral load.
A43: Return to TOC
A46: Datasets and variables used
A47: Dataset | B47: adultbio
A48: Subset | B48: hivstatusfinal = 1 and bt_status = 1 and tri90 = 1
A49: Analytic Variables | B49: tri90aware
B50: tri90art
B51: tri90vls
A52: Row stratification variables | B52: urban
B53: subnational area (region, province, stratum, etc.)
A54: Column stratification variables | B54: gender
A55: Weight variables | B55: btwt0, btwt001, …., btwt[MAX]

Sheet 9.3.B
A1: Table 9.3.B: Adult [90-90-90 / 95-95-95] by geography (self-reported and antiretroviral biomarker data); conditional percentages
A2: [90-90-90 / 95-95-95] targets among people living with HIV aged [15 years and older / 15-[UPPER AGE LIMIT] based upon their self-reported HIV status and antiretroviral therapy (ART) use, both adjusted for having a detectable antiretroviral (ARV) in blood, by sex, residence, and [SUBNATIONAL AREA], [SURVEY ACRONYM] [YEAR(S)]
B3: Diagnosed
B4: Men | E4: Women | H4: Total | L4: [SURVEY ACRONYM, FIRST YEAR]_Table9_3_B.sas7bdat
A5: Geography | B5: Percentage aware of HIV status1, 2 | C5: Number | E5: Percentage aware of HIV status1, 2 | F5: Number | H5: Percentage aware of HIV status1, 2 | I5: Number | L5: Order | M5: Row | N5: MaleSRPosP | O5: MaleSRPosN | P5: FemaleSRPosP | Q5: FemaleSRPosN | R5: TotalSRPosP | S5: TotalSRPosN | T5: MaleSRArtP | U5: MaleSRArtN | V5: FemaleSRArtP | W5: FemaleSRArtN | X5: TotalSRArtP | Y5: TotalSRArtN | Z5: MaleVsP | AA5: MaleVsN | AB5: FemaleVsP | AC5: FemaleVsN | AD5: TotalVsP | AE5: TotalVsN | AF5: MaleSRPosJKseP | AG5: FemaleSRPosJKseP | AH5: TotalSRPosJKseP | AI5: MaleSRArtJKseP | AJ5: FemaleSRArtJKseP | AK5: TotalSRArtJKseP | AL5: MaleVsJKseP | AM5: FemaleVsJKseP | AN5: TotalVsJKseP | AO5: MaleSRPosNoverN | AP5: FemaleSRPosNoverN | AQ5: TotalSRPosNoverN | AR5: MaleSRArtNoverN | AS5: FemaleSRArtNoverN | AT5: TotalSRArtNoverN | AU5: MaleVsNoverN | AV5: FemaleVsNoverN | AW5: TotalVsNoverN | AX5: MaleSRPosJKLCLP | AY5: MaleSRPosJKUCLP | AZ5: FemaleSRPosJKLCLP | BA5: FemaleSRPosJKUCLP | BB5: TotalSRPosJKLCLP | BC5: TotalSRPosJKUCLP | BD5: MaleSRArtJKLCLP | BE5: MaleSRArtJKUCLP | BF5: FemaleSRArtJKLCLP | BG5: FemaleSRArtJKUCLP | BH5: TotalSRArtJKLCLP | BI5: TotalSRArtJKUCLP | BJ5: MaleVsJKLCLP | BK5: MaleVsJKUCLP | BL5: FemaleVsJKLCLP | BM5: FemaleVsJKUCLP | BN5: TotalVsJKLCLP | BO5: TotalVsJKUCLP
A6: Residence | L6: 1 | M6: =A6 -> Residence
A7: Urban | L7: =L6+1 -> 2 | M7: =A7 -> Urban
A8: Rural | L8: =L7+1 -> 3 | M8: =A8 -> Rural
L9: =L8+1 -> 4
A10: [SUBNATIONAL AREA] | L10: =L9+1 -> 5 | M10: =A10 -> [SUBNATIONAL AREA]
A11: [SNA 1] | L11: =L10+1 -> 6 | M11: =A11 -> [SNA 1]
A12: [SNA 2] | L12: =L11+1 -> 7 | M12: =A12 -> [SNA 2]
A13: [SNA 3] | L13: =L12+1 -> 8 | M13: =A13 -> [SNA 3]
A14: [SNA 4] | L14: =L13+1 -> 9 | M14: =A14 -> [SNA 4]
A15: [SNA 5] | L15: =L14+1 -> 10 | M15: =A15 -> [SNA 5]
B16: On Treatment Among Those Diagnosed1
B17: Men | E17: Women | H17: Total
A18: Geography | B18: Percentage on ART1,3 | C18: Number | E18: Percentage on ART1,3 | F18: Number | H18: Percentage on ART1,3 | I18: Number
A19: Residence
A20: Urban
A21: Rural
A23: [SUBNATIONAL AREA]
A24: [SNA 1]
A25: [SNA 2]
A26: [SNA 3]
A27: [SNA 4]
A28: [SNA 5]
B29: Viral Load Suppression (VLS) Among Those on Treatment1
B30: Men | E30: Women | H30: Total
A31: Geography | B31: Percentage with VLS4 | C31: Number | E31: Percentage with VLS4 | F31: Number | H31: Percentage with VLS4 | I31: Number
A32: Residence
A33: Urban
A34: Rural
A36: [SUBNATIONAL AREA]
A37: [SNA 1]
A38: [SNA 2]
A39: [SNA 3]
A40: [SNA 4]
A41: [SNA 5]
A42: 1 Both awareness of HIV-positive status and on treatment status were based upon self-report or having a detectable ARV in the blood. 2 Relates to Global AIDS Monitoring indicator [2020 / 2021] (GAM [2020 / 2021]) 1.1: People living with HIV who know their HIV status; and PEPFAR indicator DIAGNOSED_NAT: The percentage of adults and children living with HIV who know their status (have been diagnosed). 3 Relates to GAM [2020 / 2021] 1.2: People living with HIV on ART; and PEPFAR indicator TX_CURR_NAT / SUBNAT: Percentage of adults and children currently receiving ART. 4 Relates to GAM [2020 / 2021] 1.3: People living with HIV who have suppressed viral loads; and PEPFAR indicator VL_SUPPRESSION_NAT: Percentage of people living with HIV on ART with a suppressed viral load.
A43: Return to TOC
A46: Datasets and variables used
A47: Dataset | B47: adultbio
A48: Subset | B48: hivstatusfinal = 1 and bt_status = 1 and tri90 = 1
A49: Analytic Variables | B49: tri90aware
B50: tri90art
B51: tri90vls
A52: Row stratification variables | B52: urban
B53: subnational area (region, province, stratum, etc.)
A54: Column stratification variables | B54: gender
A55: Weight variables | B55: btwt0, btwt001, …., btwt[MAX]

Sheet 10.1
A1: Table 10.1: Median CD4 count by HIV diagnosis and antiretroviral therapy status
A2: Among HIV-positive adults aged [15 years and older / 15-[UPPER AGE LIMIT] years], median (quartile 1 [Q1], quartile 3 [Q3]) CD4 count (cells per microliter), by sex, and HIV diagnosis and treatment status based upon self-reported HIV-status and current antiretroviral therapy (ART) use, both adjusted for having a detectable antiretroviral (ARV) in blood, [SURVEY ACRONYM] [YEAR(S)] | P2: [SURVEY ACRONYM, FIRST YEAR]_Table10_1.sas7bdat
B3: Men | F3: Women | J3: Total | P3: Order | Q3: Row | R3: MaleMQ1Q3 | S3: MaleRange | T3: MaleN | U3: FemaleMQ1Q3 | V3: FemaleRange | W3: FemaleN | X3: TotalMQ1Q3 | Y3: TotalRange | Z3: TotalN | AA3: MaleM | AB3: MaleQ1 | AC3: MaleQ3 | AD3: MaleMax | AE3: MaleMin | AF3: FemaleM | AG3: FemaleQ1 | AH3: FemaleQ3 | AI3: FemaleMax | AJ3: FemaleMin | AK3: TotalM | AL3: TotalQ1 | AM3: TotalQ3 | AN3: TotalMax | AO3: TotalMin
A4: Characteristic | B4: Median (Q1, Q3) | C4: Range | D4: Number | F4: Median (Q1, Q3) | G4: Range | H4: Number | J4: Median (Q1, Q3) | K4: Range | L4: Number | P4: 1 | Q4: =IF(A4<>"", A4, "") -> Characteristic
A5: HIV diagnosis and treatment status1 | P5: 2 | Q5: =IF(A5<>"", A5, "") -> HIV diagnosis and treatment status1
A6: Unaware of HIV status | P6: 3 | Q6: =IF(A6<>"", A6, "") -> Unaware of HIV status
A7: Aware of HIV status and not on ART | P7: 4 | Q7: =IF(A7<>"", A7, "") -> Aware of HIV status and not on ART
A8: Aware of HIV status and on ART | P8: 5 | Q8: =IF(A8<>"", A8, "") -> Aware of HIV status and on ART
P9: 6 | Q9: =IF(A9<>"", A9, "")
A10: Total 15-24 | P10: 7 | Q10: =IF(A10<>"", A10, "") -> Total 15-24
A11: Total 15-49 | P11: 8 | Q11: =IF(A11<>"", A11, "") -> Total 15-49
A12: Total 50-[UPPER AGE LIMIT] | P12: 9 | Q12: =IF(A12<>"", A12, "") -> Total 50-[UPPER AGE LIMIT]
A13: Total 15-[UPPER AGE LIMIT] | P13: 10 | Q13: =IF(A13<>"", A13, "") -> Total 15-[UPPER AGE LIMIT]
A14: 1Both awareness of HIV-positive status and on treatment status were based upon self-report or having a detectable ARV in the blood.
A15: Return to TOC
A18: Datasets and variables used
A19: Dataset | B19: adultbio
A20: Subset | B20: hivstatusfinal = 1 and bt_status = 1 and cd4count ≠ missing "."
A21: Analytic Variables | B21: cd4count
A22: Row stratification variables | B22: awareart
B23: age
A24: Column stratification variables | B24: gender
A25: Weight variables | B25: btwt0, btwt001, …., btwt[MAX]

Sheet 10.2
A1: Table 10.2: CD4 count distribution
A2: Percent distribution of CD4 count among adults aged [15 years and older / 15-[UPPER AGE LIMIT] years] who tested HIV positive in the survey but reported an HIV-negative status and had no antiretroviral detectable in blood, by sex and selected demographic characteristics, [SURVEY ACRONYM] [YEAR(S)]
B3: CD4 Count | G3: Number | L3: [SURVEY ACRONYM, FIRST YEAR]_Table10_2.sas7bdat
A4: Characteristic | B4: < 200 cells/μL1 | C4: 200-349 cells/μL | D4: 350-499 cells/μL | E4: ≥ 500 cells/μL | L4: Order | M4: Row | N4: CD4Lt200P | O4: CD4200_349P | P4: CD4350_499P | Q4: CD4Ge500P | R4: TotalN | S4: CD4Lt200JKseP | T4: CD4200_349JKseP | U4: CD4350_499JKseP | V4: CD4Ge500JKseP | W4: CD4Lt200NoverN | X4: CD4200_349NoverN | Y4: CD4350_499NoverN | Z4: CD4Ge500NoverN | AA4: CD4Lt200JKUCLP | AB4: CD4Lt200JKLCLP | AC4: CD4200_349JKUCLP | AD4: CD4200_349JKLCLP | AE4: CD4350_499JKUCLP | AF4: CD4350_499JKLCLP | AG4: CD4Ge500JKUCLP | AH4: CD4Ge500JKLCLP
A5: Sex | L5: 1 | M5: =IF(A5<>"", A5, "") -> Sex
A6: Men | L6: =L5+1 -> 2 | M6: =IF(A6<>"", A6, "") -> Men
A7: Women | L7: =L6+1 -> 3 | M7: =IF(A7<>"", A7, "") -> Women
L8: =L7+1 -> 4 | M8: =IF(A8<>"", A8, "")
A9: Residence | L9: =L8+1 -> 5 | M9: =IF(A9<>"", A9, "") -> Residence
A10: Urban | L10: =L9+1 -> 6 | M10: =IF(A10<>"", A10, "") -> Urban
A11: Rural | L11: =L10+1 -> 7 | M11: =IF(A11<>"", A11, "") -> Rural
L12: =L11+1 -> 8 | M12: =IF(A12<>"", A12, "")
A13: [SUBNATIONAL AREA] | L13: =L12+1 -> 9 | M13: =IF(A13<>"", A13, "") -> [SUBNATIONAL AREA]
A14: [SNA 1] | L14: =L13+1 -> 10 | M14: =IF(A14<>"", A14, "") -> [SNA 1]
A15: [SNA 2] | L15: =L14+1 -> 11 | M15: =IF(A15<>"", A15, "") -> [SNA 2]
A16: [SNA 3] | L16: =L15+1 -> 12 | M16: =IF(A16<>"", A16, "") -> [SNA 3]
A17: [SNA 4] | L17: =L16+1 -> 13 | M17: =IF(A17<>"", A17, "") -> [SNA 4]
A18: [SNA 5] | L18: =L17+1 -> 14 | M18: =IF(A18<>"", A18, "") -> [SNA 5]
L19: =L18+1 -> 15 | M19: =IF(A19<>"", A19, "")
A20: Age | L20: =L19+1 -> 16 | M20: =IF(A20<>"", A20, "") -> Age
A21: 15-24 | L21: =L20+1 -> 17 | M21: =IF(A21<>"", A21, "") -> 15-24
A22: 25-34 | L22: =L21+1 -> 18 | M22: =IF(A22<>"", A22, "") -> 25-34
A23: 35-44 | L23: =L22+1 -> 19 | M23: =IF(A23<>"", A23, "") -> 35-44
A24: 45-54 | L24: =L23+1 -> 20 | M24: =IF(A24<>"", A24, "") -> 45-54
A25: 55-64 | L25: =L24+1 -> 21 | M25: =IF(A25<>"", A25, "") -> 55-64
A26: 65+ | L26: =L25+1 -> 22 | M26: =IF(A26<>"", A26, "") -> 65+
L27: =L26+1 -> 23 | M27: =IF(A27<>"", A27, "")
A28: Total 15-24 | L28: =L27+1 -> 24 | M28: =IF(A28<>"", A28, "") -> Total 15-24
A29: Total 15-49 | L29: =L28+1 -> 25 | M29: =IF(A29<>"", A29, "") -> Total 15-49
A30: Total 50-[UPPER AGE LIMIT] | L30: =L29+1 -> 26 | M30: =IF(A30<>"", A30, "") -> Total 50-[UPPER AGE LIMIT]
A31: Total 15-[UPPER AGE LIMIT] | L31: =L30+1 -> 27 | M31: =IF(A31<>"", A31, "") -> Total 15-[UPPER AGE LIMIT]
A32: 1Relates to Global AIDS Monitoring indicator 2020 1.4: Late HIV Diagnosis
A33: Return to TOC
A36: Datasets and variables used
A37: Dataset | B37: adultbio
A38: Subset | B38: hivstatusfinal = 1 and bt_status = 1 and tri90aware = 2 and cd4cat ≠ 99
A39: Analytic Variables | B39: cd4cat (combine 1 & 2 in first category)
A40: Row stratification variables | B40: gender
B41: urban
B42: subnational area (region, province, stratum, etc.)
B43: married
B44: education
B45: wealthquintile
B46: agegroup
B47: age15_24, age15_49, age50_up, age15_up (age)
A48: Column stratification variables | B48: <none>
A49: Weight variables | B49: btwt0, btwt001, …., btwt[MAX]

Sheet 10.3
A1: Table 10.3: Retention on antiretroviral therapy
A2: Among HIV-positive adults aged [15 years and older / 15-[UPPER AGE LIMIT] years] who reported initiating antiretroviral therapy (ART), percentage who reported they were still taking ART, by sex and years since initiating ART, [SURVEY ACRONYM] [YEAR(S)]
B3: Men | E3: Women | H3: Total | L3: [SURVEY ACRONYM, FIRST YEAR]_Table10_3.sas7bdat
A4: Characteristic | B4: Percentage still taking ART | C4: Number | E4: Percentage still taking ART | F4: Number | H4: Percentage still taking ART | I4: Number | L4: Order | M4: Row | N4: MaleP | O4: MaleN | P4: FemaleP | Q4: FemaleN | R4: TotalP | S4: TotalN | T4: MaleJKseP | U4: FemaleJKseP | V4: TotalJKseP | W4: MaleNoverN | X4: FemaleNoverN | Y4: TotalNoverN | Z4: MaleJKLCLP | AA4: MaleJKUCLP | AB4: FemaleJKLCLP | AC4: FemaleJKUCLP | AD4: TotalJKLCLP | AE4: TotalJKUCLP
A5: Number of years since initiating ART | L5: 1 | M5: =IF(A5<>"", A5, "") -> Number of years since initiating ART
A6: Less than 12 months | L6: 2 | M6: =IF(A6<>"", A6, "") -> Less than 12 months
A7: 12 months or more | L7: 3 | M7: =IF(A7<>"", A7, "") -> 12 months or more
A8: 1 to less than 5 years | L8: 4 | M8: =IF(A8<>"", A8, "") -> 1 to less than 5 years
A9: 5 to less than 10 years | L9: 5 | M9: =IF(A9<>"", A9, "") -> 5 to less than 10 years
A10: 10 years or more | L10: 6 | M10: =IF(A10<>"", A10, "") -> 10 years or more
L11: =L10+1 -> 7 | M11: =IF(A11<>"", A11, "")
A12: Total 15-24 | L12: =L11+1 -> 8 | M12: =A12 -> Total 15-24
A13: Total 15-49 | L13: =L12+1 -> 9 | M13: =A13 -> Total 15-49
A14: Total 50-[UPPER AGE LIMIT] | L14: =L13+1 -> 10 | M14: =A14 -> Total 50-[UPPER AGE LIMIT]
A15: Total 15-[UPPER AGE LIMIT] | L15: =L14+1 -> 11 | M15: =A15 -> Total 15-[UPPER AGE LIMIT]
A17: Return to TOC
A20: Datasets and variables used
A21: Dataset | B21: adultbio, adultind
A22: Subset | B22: hivstatusfinal = 1 and bt_status = 1 and initiatedartselfreported = 1 and artselfreported = 1, 2
A23: Analytic Variables | B23: artselfreported
A24: Row stratification variables | B24: artinitiated12months
B25: yearsonart
B26: age15_24, age15_49, age50_up, age15_up (age)
A27: Column stratification variables | B27: gender
A28: Weight variables | B28: btwt0, btwt001, …., btwt[MAX]

Sheet 10.4
A1: Table 10.4: HIV care and treatment status by extended stay away from home
A2: Among HIV-positive adults aged [15 years and older / 15-[UPPER AGE LIMIT] years], percent distribution of HIV care and antiretroviral therapy (ART) status and receipt characteristics, by extended stay away from home, based upon self-report, [SURVEY ACRONYM] [YEAR(S)]
B3: Lived away from home for more than one month at a time in the year before the survey | L3: [SURVEY ACRONYM, FIRST YEAR]_Table10_4.sas7bdat
A4: Characteristic | B4: Yes | C4: Number | D4: No | E4: Number | L4: Order | M4: Row | N4: YesP | O4: YesN | P4: NoP | Q4: NoN | R4: YesJKseP | S4: NoJKseP | T4: YesNoverN | U4: NoNoverN | V4: YesJKLCLP | W4: YesJKUCLP | X4: NoJKLCLP | Y4: NoJKUCLP
A5: HIV diagnosis and treatment status1 | L5: 1 | M5: =IF(A5<>"", A5, "") -> HIV diagnosis and treatment status1
A6: Unaware of HIV status | L6: 2 | M6: =IF(A6<>"", A6, "") -> Unaware of HIV status
A7: Aware of HIV status and not on ART | L7: 3 | M7: =IF(A7<>"", A7, "") -> Aware of HIV status and not on ART
A8: Aware of HIV status and on ART | L8: 4 | M8: =IF(A8<>"", A8, "") -> Aware of HIV status and on ART
L9: 5 | M9: =IF(A9<>"", A9, "")
A10: Viral load suppression (VLS) | L10: 6 | M10: =IF(A10<>"", A10, "") -> Viral load suppression (VLS)
A11: Yes | L11: 7 | M11: =IF(A11<>"", A11, "") -> Yes
A12: No | L12: 8 | M12: =IF(A12<>"", A12, "") -> No
L13: 9 | M13: =IF(A13<>"", A13, "")
A14: Treatment interrupted | L14: 10 | M14: =IF(A14<>"", A14, "") -> Treatment interrupted
A15: Yes | D15: n/a | E15: n/a | L15: 11 | M15: =IF(A15<>"", A15, "") -> Yes
A16: No | D16: n/a | E16: n/a | L16: 12 | M16: =IF(A16<>"", A16, "") -> No
A17: Never on ART | D17: n/a | E17: n/a | L17: 13 | M17: =IF(A17<>"", A17, "") -> Never on ART
L18: 14 | M18: =IF(A18<>"", A18, "")
A19: Was ART changed | L19: 15 | M19: =IF(A19<>"", A19, "") -> Was ART changed
A20: Yes | L20: 16 | M20: =IF(A20<>"", A20, "") -> Yes
A21: No | L21: 17 | M21: =IF(A21<>"", A21, "") -> No
A22: Never on ART | L22: 18 | M22: =IF(A22<>"", A22, "") -> Never on ART
L23: 19 | M23: =IF(A23<>"", A23, "")
A24: How normally receive ART | L24: 20 | M24: =IF(A24<>"", A24, "") -> How normally receive ART
A25: Pick up at local clinic | L25: 21 | M25: =IF(A25<>"", A25, "") -> Pick up at local clinic
A26: Pick up at hospital | L26: 22 | M26: =IF(A26<>"", A26, "") -> Pick up at hospital
A27: From the community support group/adherence club | L27: 23 | M27: =IF(A27<>"", A27, "") -> From the community support group/adherence club
A28: Delivery | L28: 24 | M28: =IF(A28<>"", A28, "") -> Delivery
A29: A family member or friend collects them | L29: 25 | M29: =IF(A29<>"", A29, "") -> A family member or friend collects them
A30: Not currently on ART | L30: 26 | M30: =IF(A30<>"", A30, "") -> Not currently on ART
L31: 27 | M31: =IF(A31<>"", A31, "")
A32: Total 15-[UPPER AGE LIMIT] | B32: 100 | D32: 100 | L32: 28 | M32: =IF(A32<>"", A32, "") -> Total 15-[UPPER AGE LIMIT]
A33: 1Both awareness of HIV-positive status and on treatment status were based upon self-report or having a detectable antiretroviral in the blood.
A34: Return to TOC
A37: Datasets and variables used
A38: Dataset | B38: adultind, adultbio
A39: Subset | B39: hivstatusfinal = 1 and bt_status = 1 and age ≥ 15 and monthoutyear = 1, 2
A40: Analytic Variables | B40: awareart
B41: vls
B42: arvinterralt
B43: arvswitchalt
B44: arvlocalt
B45: age15_up (age)
A46: Row stratification variables | B46: <none>
A47: Column stratification variables | B47: monthoutyear
A48: Weight variables | B48: btwt0, btwt001, …., btwt[MAX]
A50: Note: This is a column percentage table.

Sheet 10.5
A1: Table 10.5: Mental health and HIV care and treatment
A2: Percent distribution of care and treatment outcomes among HIV positive adults by mental health screening symptoms, [SURVEY ACRONYM] [YEAR(S)]
B3: Screened likely for depressive symptoms2 | E3: Did not screen likely for depressive symptoms | H3: Screened likely for generalized anxiety symptoms3 | K3: Did not screen likely for generalized anxiety symptoms | O3: [SURVEY ACRONYM, FIRST YEAR]_Table10_5.sas7bdat
A4: Characteristic | B4: Percentage | C4: Number | E4: Percentage | F4: Number | H4: Percentage | I4: Number | K4: Percentage | L4: Number | O4: Order | P4: Row | Q4: DepYesP | R4: DepYesN | S4: DepNoP | T4: DepNoN | U4: AnxYesP | V4: AnxYesN | W4: AnxNoP | X4: AnxNoN | Y4: DepYesJKseP | Z4: DepNoJKseP | AA4: AnxYesJKseP | AB4: AnxNoJKseP | AC4: DepYesNoverN | AD4: DepNoNoverN | AE4: AnxYesNoverN | AF4: AnxNoNoverN | AG4: DepYesJKLCLP | AH4: DepYesJKUCLP | AI4: DepNoJKLCLP | AJ4: DepNoJKUCLP | AK4: AnxYesJKLCLP | AL4: AnxYesJKUCLP | AM4: AnxNoJKLCLP | AN4: AnxNoJKUCLP
A5: HIV diagnosis and treatment status1 | O5: 1 | P5: =IF(A5<>"", A5, "") -> HIV diagnosis and treatment status1
A6: Unaware of HIV status | O6: 2 | P6: =IF(A6<>"", A6, "") -> Unaware of HIV status
A7: Aware of HIV status and not on antiretroviral therapy (ART) | O7: 3 | P7: =IF(A7<>"", A7, "") -> Aware of HIV status and not on antiretroviral therapy (ART)
A8: Aware of HIV status and on ART | O8: 4 | P8: =IF(A8<>"", A8, "") -> Aware of HIV status and on ART
O9: =O8+1 -> 5 | P9: =IF(A9<>"", A9, "")
A10: Presence of a detectable antiretroviral (ARV) | O10: =O9+1 -> 6 | P10: =IF(A10<>"", A10, "") -> Presence of a detectable antiretroviral (ARV)
A11: Detectable | O11: =O10+1 -> 7 | P11: =IF(A11<>"", A11, "") -> Detectable
A12: Not detectable | O12: =O11+1 -> 8 | P12: =IF(A12<>"", A12, "") -> Not detectable
O13: =O12+1 -> 9 | P13: =IF(A13<>"", A13, "")
A14: Viral load suppression (VLS) | O14: =O13+1 -> 10 | P14: =IF(A14<>"", A14, "") -> Viral load suppression (VLS)
A15: Yes | O15: =O14+1 -> 11 | P15: =IF(A15<>"", A15, "") -> Yes
A16: No | O16: =O15+1 -> 12 | P16: =IF(A16<>"", A16, "") -> No
O17: =O16+1 -> 13 | P17: =IF(A17<>"", A17, "")
A18: Ever on ART | O18: =O17+1 -> 14 | P18: =IF(A18<>"", A18, "") -> Ever on ART
A19: Yes | O19: =O18+1 -> 15 | P19: =IF(A19<>"", A19, "") -> Yes
A20: No | O20: =O19+1 -> 16 | P20: =IF(A20<>"", A20, "") -> No
O21: =O20+1 -> 17 | P21: =IF(A21<>"", A21, "")
A22: Retention (among those who reported ever initiating ART) | O22: =O21+1 -> 18 | P22: =IF(A22<>"", A22, "") -> Retention (among those who reported ever initiating ART)
A23: Reported current ART use1 | O23: =O22+1 -> 19 | P23: =IF(A23<>"", A23, "") -> Reported current ART use1
A24: Reported initiating but not on ART at time of the survey1 | O24: =O23+1 -> 20 | P24: =IF(A24<>"", A24, "") -> Reported initiating but not on ART at time of the survey1
O25: =O24+1 -> 21 | P25: =IF(A25<>"", A25, "")
A26: Adherence (among those who reported current ART use) | O26: =O25+1 -> 22 | P26: =IF(A26<>"", A26, "") -> Adherence (among those who reported current ART use)
A27: Adherent | O27: =O26+1 -> 23 | P27: =IF(A27<>"", A27, "") -> Adherent
A28: Non-adherent | O28: =O27+1 -> 24 | P28: =IF(A28<>"", A28, "") -> Non-adherent
O29: =O28+1 -> 25 | P29: =IF(A29<>"", A29, "")
A30: Total 15-[UPPER AGE LIMIT] | B30: 100 | E30: 100 | H30: 100 | K30: 100 | O30: =O29+1 -> 26 | P30: =IF(A30<>"", A30, "") -> Total 15-[UPPER AGE LIMIT]
A31: 1Both awareness of HIV-positive status and on treatment status were based upon self-report or having a detectable ARV in the blood. 2Patient Health Questionnaire 2 score over 3 indicating depressive symptoms. 3Generalized Anxiety Disorder 2-item score over 3 indicating generalized anxiety symptoms.
A32: Return to TOC
A35: Datasets and variables used
A36: Dataset | B36: adultind, adultbio
A37: Subset | B37: hivstatusfinal = 1 and bt_status = 1 and age ≥ 15 and phq2scoreoverthree = 1, 2
B38: hivstatusfinal = 1 and bt_status = 1 and age ≥ 15 and gad2scoreoverthree = 1, 2
A39: Analytic Variables | B39: awareart, vls, adherent95p, initiatedartselfreported, arvscurrent
A40: Row stratification variables | B40: <none>
A41: Column stratification variables | B41: phq2scoreoverthree
B42: gad2scoreoverthree
A43: Weight variables | B43: btwt0, btwt001, …., btwt[MAX]
A45: Note: This is a column percentage table.

Sheet 11.1
A1: Table 11.1: Antenatal care
A2: Among women aged 15-49 years who delivered in the three years before the survey, percentage who reported attending at least one antenatal care (ANC) visit for her most recent birth, by selected demographic characteristics, [SURVEY ACRONYM] [YEAR(S)] | L2: [SURVEY ACRONYM, FIRST YEAR]_Table11_5.sas7bdat
A3: Characteristic | B3: Percentage who attended at least one ANC visit | C3: Number | L3: Order | M3: Row | N3: AtLeast1ANCP | O3: ANCN | P3: AtLeast1ANCJKseP | Q3: AtLeast1ANCNoverN | R3: AtLeast1ANCJKLCLP | S3: AtLeast1ANCJKUCLP
A4: Residence | L4: 1 | M4: Residence
A5: Urban | L5: =L4+1 -> 2 | M5: =IF(A5<>"", A5, "") -> Urban
A6: Rural | L6: =L5+1 -> 3 | M6: =IF(A6<>"", A6, "") -> Rural
L7: =L6+1 -> 4 | M7: =IF(A7<>"", A7, "")
A8: [SUBNATIONAL AREA] | L8: =L7+1 -> 5 | M8: =IF(A8<>"", A8, "") -> [SUBNATIONAL AREA]
A9: [SNA 1] | L9: =L8+1 -> 6 | M9: =IF(A9<>"", A9, "") -> [SNA 1]
A10: [SNA 2] | L10: =L9+1 -> 7 | M10: =IF(A10<>"", A10, "") -> [SNA 2]
A11: [SNA 3] | L11: =L10+1 -> 8 | M11: =IF(A11<>"", A11, "") -> [SNA 3]
A12: [SNA 4] | L12: =L11+1 -> 9 | M12: =IF(A12<>"", A12, "") -> [SNA 4]
A13: [SNA 5] | L13: =L12+1 -> 10 | M13: =IF(A13<>"", A13, "") -> [SNA 5]
L14: =L13+1 -> 11 | M14: =IF(A14<>"", A14, "")
A15: Marital status | L15: =L14+1 -> 12 | M15: =IF(A15<>"", A15, "") -> Marital status
A16: Never married | L16: =L15+1 -> 13 | M16: =IF(A16<>"", A16, "") -> Never married
A17: Married or living together | L17: =L16+1 -> 14 | M17: =IF(A17<>"", A17, "") -> Married or living together
A18: Divorced or separated | L18: =L17+1 -> 15 | M18: =IF(A18<>"", A18, "") -> Divorced or separated
A19: Widowed | L19: =L18+1 -> 16 | M19: =IF(A19<>"", A19, "") -> Widowed
L20: =L19+1 -> 17 | M20: =IF(A20<>"", A20, "")
A21: Education | L21: =L20+1 -> 18 | M21: =IF(A21<>"", A21, "") -> Education
A22: No education | L22: =L21+1 -> 19 | M22: =IF(A22<>"", A22, "") -> No education
A23: Primary | L23: =L22+1 -> 20 | M23: =IF(A23<>"", A23, "") -> Primary
A24: Secondary | L24: =L23+1 -> 21 | M24: =IF(A24<>"", A24, "") -> Secondary
A25: More than secondary | L25: =L24+1 -> 22 | M25: =IF(A25<>"", A25, "") -> More than secondary
L26: =L25+1 -> 23 | M26: =IF(A26<>"", A26, "")
A27: Wealth quintile | L27: =L26+1 -> 24 | M27: =IF(A27<>"", A27, "") -> Wealth quintile
A28: Lowest | L28: =L27+1 -> 25 | M28: =IF(A28<>"", A28, "") -> Lowest
A29: Second | L29: =L28+1 -> 26 | M29: =IF(A29<>"", A29, "") -> Second
A30: Middle | L30: =L29+1 -> 27 | M30: =IF(A30<>"", A30, "") -> Middle
A31: Fourth | L31: =L30+1 -> 28 | M31: =IF(A31<>"", A31, "") -> Fourth
A32: Highest | L32: =L31+1 -> 29 | M32: =IF(A32<>"", A32, "") -> Highest
L33: =L32+1 -> 30 | M33: =IF(A33<>"", A33, "")
A34: Age | L34: =L33+1 -> 31 | M34: =IF(A34<>"", A34, "") -> Age
A35: 15-19 | L35: =L34+1 -> 32 | M35: =IF(A35<>"", A35, "") -> 15-19
A36: 20-24 | L36: =L35+1 -> 33 | M36: =IF(A36<>"", A36, "") -> 20-24
A37: 25-29 | L37: =L36+1 -> 34 | M37: =IF(A37<>"", A37, "") -> 25-29
A38: 30-34 | L38: =L37+1 -> 35 | M38: =IF(A38<>"", A38, "") -> 30-34
A39: 35-39 | L39: =L38+1 -> 36 | M39: =IF(A39<>"", A39, "") -> 35-39
A40: 40-44 | L40: =L39+1 -> 37 | M40: =IF(A40<>"", A40, "") -> 40-44
A41: 45-49 | L41: =L40+1 -> 38 | M41: =IF(A41<>"", A41, "") -> 45-49
L42: =L41+1 -> 39 | M42: =IF(A42<>"", A42, "")
A43: Total 15-24 | L43: =L42+1 -> 40 | M43: =IF(A43<>"", A43, "") -> Total 15-24
A44: Total 15-49 | L44: =L43+1 -> 41 | M44: =IF(A44<>"", A44, "") -> Total 15-49
A45: Note: Education categories refer to the highest level of education attended, whether or not that level was completed.
A46: Return to TOC
A48: Datasets and variables used
A49: Dataset | B49: adultind
A50: Subset | B50: indstatus = 1 and gender = 2 and age ≤ 49 and delivered3years = 1 and anclastchild = 1, 2
A51: Analytic Variables | B51: anclastchild
A52: Row stratification variables | B52: urban
B53: subnational area (region, province, stratum, etc.)
B54: married
B55: education
B56: wealthquintile
B57: agegroup
B58: age15_24, age15_49 (age)
A59: Column stratification variables | B59: <none>
A60: Weight variables | B60: intwt0, intwt001, …., intwt[MAX]

Sheet 11.2
A1: Table 11.2: Prevention of mother-to-child transmission: Known HIV status
A2: Among women aged 15-49 years who gave birth within the [12 months before the survey or country specific cutoff up to 3 years], percentage who reported that they were tested for HIV during antenatal care (ANC) and received their results or that they already knew they were HIV positive during their last pregnancy, by selected demographic characteristics, [SURVEY ACRONYM] [YEAR(S)]
B3: Tested for HIV during ANC and received results | D3: Percentage who already knew they were HIV positive | E3: Total percentage with known HIV status1 | F3: Number of women who gave birth within the 12 months before the survey | L3: [SURVEY ACRONYM, FIRST YEAR]_Table11_1.sas7bdat
A4: Characteristic | B4: Percentage who tested HIV positive | C4: Percentage who tested HIV negative | L4: Order | M4: Row | N4: HIVTestedPosPgP | O4: HIVTestedNegPgP | P4: HIVPosBeforePgP | Q4: HIVKnownStatusPgP | R4: Delivered12moN | S4: HIVTestedPosPgJKseP | T4: HIVTestedNegPgJKseP | U4: HIVPosBeforePgJKseP | V4: HIVKnownStatusPgJKseP | W4: HIVTestedPosPgNoverN | X4: HIVTestedNegPgNoverN | Y4: HIVPosBeforePgNoverN | Z4: HIVKnownStatusPgNoverN | AA4: HIVTestedPosPgJKLCLP | AB4: HIVTestedPosPgJKUCLP | AC4: HIVTestedNegPgJKLCLP | AD4: HIVTestedNegPgJKUCLP | AE4: HIVPosBeforePgJKLCLP | AF4: HIVPosBeforePgJKUCLP | AG4: HIVKnownStatusPgJKLCLP | AH4: HIVKnownStatusPgJKUCLP
A5: Residence | L5: 1 | M5: Residence
A6: Urban | L6: =L5+1 -> 2 | M6: =IF(A6<>"", A6, "") -> Urban
A7: Rural | L7: =L6+1 -> 3 | M7: =IF(A7<>"", A7, "") -> Rural
L8: =L7+1 -> 4 | M8: =IF(A8<>"", A8, "")
A9: [SUBNATIONAL AREA] | L9: =L8+1 -> 5 | M9: =IF(A9<>"", A9, "") -> [SUBNATIONAL AREA]
A10: [SNA 1] | L10: =L9+1 -> 6 | M10: =IF(A10<>"", A10, "") -> [SNA 1]
A11: [SNA 2] | L11: =L10+1 -> 7 | M11: =IF(A11<>"", A11, "") -> [SNA 2]
A12: [SNA 3] | L12: =L11+1 -> 8 | M12: =IF(A12<>"", A12, "") -> [SNA 3]
A13: [SNA 4] | L13: =L12+1 -> 9 | M13: =IF(A13<>"", A13, "") -> [SNA 4]
A14: [SNA 5] | L14: =L13+1 -> 10 | M14: =IF(A14<>"", A14, "") -> [SNA 5]
L15: =L14+1 -> 11 | M15: =IF(A15<>"", A15, "")
A16: Marital status | L16: =L15+1 -> 12 | M16: =IF(A16<>"", A16, "") -> Marital status
A17: Never married | L17: =L16+1 -> 13 | M17: =IF(A17<>"", A17, "") -> Never married
A18: Married or living together | L18: =L17+1 -> 14 | M18: =IF(A18<>"", A18, "") -> Married or living together
A19: Divorced or separated | L19: =L18+1 -> 15 | M19: =IF(A19<>"", A19, "") -> Divorced or separated
A20: Widowed | L20: =L19+1 -> 16 | M20: =IF(A20<>"", A20, "") -> Widowed
L21: =L20+1 -> 17 | M21: =IF(A21<>"", A21, "")
A22: Education | L22: =L21+1 -> 18 | M22: =IF(A22<>"", A22, "") -> Education
A23: No education | L23: =L22+1 -> 19 | M23: =IF(A23<>"", A23, "") -> No education
A24: Primary | L24: =L23+1 -> 20 | M24: =IF(A24<>"", A24, "") -> Primary
A25: Secondary | L25: =L24+1 -> 21 | M25: =IF(A25<>"", A25, "") -> Secondary
A26: More than secondary | L26: =L25+1 -> 22 | M26: =IF(A26<>"", A26, "") -> More than secondary
L27: =L26+1 -> 23 | M27: =IF(A27<>"", A27, "")
A28: Wealth quintile | L28: =L27+1 -> 24 | M28: =IF(A28<>"", A28, "") -> Wealth quintile
A29: Lowest | L29: =L28+1 -> 25 | M29: =IF(A29<>"", A29, "") -> Lowest
A30: Second | L30: =L29+1 -> 26 | M30: =IF(A30<>"", A30, "") -> Second
A31: Middle | L31: =L30+1 -> 27 | M31: =IF(A31<>"", A31, "") -> Middle
A32: Fourth | L32: =L31+1 -> 28 | M32: =IF(A32<>"", A32, "") -> Fourth
A33: Highest | L33: =L32+1 -> 29 | M33: =IF(A33<>"", A33, "") -> Highest
L34: =L33+1 -> 30 | M34: =IF(A34<>"", A34, "")
A35: Age | L35: =L34+1 -> 31 | M35: =IF(A35<>"", A35, "") -> Age
A36: 15-19 | L36: =L35+1 -> 32 | M36: =IF(A36<>"", A36, "") -> 15-19
A37: 20-24 | L37: =L36+1 -> 33 | M37: =IF(A37<>"", A37, "") -> 20-24
A38: 25-29 | L38: =L37+1 -> 34 | M38: =IF(A38<>"", A38, "") -> 25-29
A39: 30-34 | L39: =L38+1 -> 35 | M39: =IF(A39<>"", A39, "") -> 30-34
A40: 35-39 | L40: =L39+1 -> 36 | M40: =IF(A40<>"", A40, "") -> 35-39
A41: 40-44 | L41: =L40+1 -> 37 | M41: =IF(A41<>"", A41, "") -> 40-44
A42: 45-49 | L42: =L41+1 -> 38 | M42: =IF(A42<>"", A42, "") -> 45-49
L43: =L42+1 -> 39 | M43: =IF(A43<>"", A43, "")
A44: Total 15-24 | L44: =L43+1 -> 40 | M44: =IF(A44<>"", A44, "") -> Total 15-24
A45: Total 15-49 | L45: =L44+1 -> 41 | M45: =IF(A45<>"", A45, "") -> Total 15-49
A46: 1Relates to PEPFAR indicator PMTCT_STAT_NAT / SUBNAT: Percentage of pregnant women with known HIV status and Global AIDS Monitoring indicator 2020 2.6: HIV testing in pregnant women.
A47: Note: Education categories refer to the highest level of education attended, whether or not that level was completed.
A48: Return to TOC
A50: Datasets and variables used
A51: Dataset | B51: adultind
A52: Subset | B52: indstatus = 1 and gender = 2 and age ≤ 49 and delivered12months = 1 and testedpregawaredetail = 1, 2, 3, 4, 5
A53: Analytic Variables | B53: testedpregawaredetail
A54: Row stratification variables | B54: urban
B55: subnational area (region, province, stratum, etc.)
B56: married
B57: education
B58: wealthquintile
B59: agegroup
B60: age15_24, age15_49 (age)
A61: Column stratification variables | B61: <none>
A62: Weight variables | B62: intwt0, intwt001, …., intwt[MAX]

Sheet 11.3
A1: Table 11.3: Prevention of mother-to-child transmission: HIV-positive pregnant women who received antiretroviral therapy
A2: Among self-reported HIV-positive women aged 15-49 years who gave birth within the [12 months before the survey or country specific cutoff up to 3 years], percentage who reported they had received antiretroviral therapy (ART) during their last pregnancy to reduce the risk of mother-to-child-transmission by selected demographic characteristics, [SURVEY ACRONYM] [YEAR(S)] | L2: [SURVEY ACRONYM, FIRST YEAR]_Table11_2.sas7bdat
A3: Characteristic | B3: Percentage who were already on ART prior to pregnancy | C3: Percentage who were newly initiated on ART during pregnancy or labor and delivery | D3: Total percentage who received ART1 | E3: Number of HIV-positive women who gave birth within the 12 months before the survey | L3: Order | M3: Row | N3: ARVsBeforePgP | O3: ARVsInitiatedPgP | P3: ARVsPgP | Q3: Delivered12moN | R3: ARVsBeforePgJKseP | S3: ARVsInitiatedPgJKseP | T3: ARVsPgJKseP | U3: ARVsBeforePgNoverN | V3: ARVsInitiatedPgNoverN | W3: ARVsPgNoverN | X3: ARVsBeforePgJKLCLP | Y3: ARVsBeforePgJKUCLP | Z3: ARVsInitiatedPgJKLCLP | AA3: ARVsInitiatedPgJKUCLP | AB3: ARVsPgJKLCLP | AC3: ARVsPgJKUCLP
A4: Residence | L4: 1 | M4: Residence
A5: Urban | L5: =L4+1 -> 2 | M5: =IF(A5<>"", A5, "") -> Urban
A6: Rural | L6: =L5+1 -> 3 | M6: =IF(A6<>"", A6, "") -> Rural
L7: =L6+1 -> 4 | M7: =IF(A7<>"", A7, "")
A8: [SUBNATIONAL AREA] | L8: =L7+1 -> 5 | M8: =IF(A8<>"", A8, "") -> [SUBNATIONAL AREA]
A9: [SNA 1] | L9: =L8+1 -> 6 | M9: =IF(A9<>"", A9, "") -> [SNA 1]
A10: [SNA 2] | L10: =L9+1 -> 7 | M10: =IF(A10<>"", A10, "") -> [SNA 2]
A11: [SNA 3] | L11: =L10+1 -> 8 | M11: =IF(A11<>"", A11, "") -> [SNA 3]
A12: [SNA 4] | L12: =L11+1 -> 9 | M12: =IF(A12<>"", A12, "") -> [SNA 4]
A13: [SNA 5] | L13: =L12+1 -> 10 | M13: =IF(A13<>"", A13, "") -> [SNA 5]
L14: =L13+1 -> 11 | M14: =IF(A14<>"", A14, "")
A15: Marital status | L15: =L14+1 -> 12 | M15: =IF(A15<>"", A15, "") -> Marital status
A16: Never married | L16: =L15+1 -> 13 | M16: =IF(A16<>"", A16, "") -> Never married
A17: Married or living together | L17: =L16+1 -> 14 | M17: =IF(A17<>"", A17, "") -> Married or living together
A18: Divorced or separated | L18: =L17+1 -> 15 | M18: =IF(A18<>"", A18, "") -> Divorced or separated
A19: Widowed | L19: =L18+1 -> 16 | M19: =IF(A19<>"", A19, "") -> Widowed
L20: =L19+1 -> 17 | M20: =IF(A20<>"", A20, "")
A21: Education | L21: =L20+1 -> 18 | M21: =IF(A21<>"", A21, "") -> Education
A22: No education | L22: =L21+1 -> 19 | M22: =IF(A22<>"", A22, "") -> No education
A23: Primary | L23: =L22+1 -> 20 | M23: =IF(A23<>"", A23, "") -> Primary
A24: Secondary | L24: =L23+1 -> 21 | M24: =IF(A24<>"", A24, "") -> Secondary
A25: More than secondary | L25: =L24+1 -> 22 | M25: =IF(A25<>"", A25, "") -> More than secondary
L26: =L25+1 -> 23 | M26: =IF(A26<>"", A26, "")
A27: Wealth quintile | L27: =L26+1 -> 24 | M27: =IF(A27<>"", A27, "") -> Wealth quintile
A28: Lowest | L28: =L27+1 -> 25 | M28: =IF(A28<>"", A28, "") -> Lowest
A29: Second | L29: =L28+1 -> 26 | M29: =IF(A29<>"", A29, "") -> Second
A30: Middle | L30: =L29+1 -> 27 | M30: =IF(A30<>"", A30, "") -> Middle
A31: Fourth | L31: =L30+1 -> 28 | M31: =IF(A31<>"", A31, "") -> Fourth
A32: Highest | L32: =L31+1 -> 29 | M32: =IF(A32<>"", A32, "") -> Highest
L33: =L32+1 -> 30 | M33: =IF(A33<>"", A33, "")
A34: Age | L34: =L33+1 -> 31 | M34: =IF(A34<>"", A34, "") -> Age
A35: 15-19 | L35: =L34+1 -> 32 | M35: =IF(A35<>"", A35, "") -> 15-19
A36: 20-24 | L36: =L35+1 -> 33 | M36: =IF(A36<>"", A36, "") -> 20-24
A37: 25-29 | L37: =L36+1 -> 34 | M37: =IF(A37<>"", A37, "") -> 25-29
A38: 30-34 | L38: =L37+1 -> 35 | M38: =IF(A38<>"", A38, "") -> 30-34
A39: 35-39 | L39: =L38+1 -> 36 | M39: =IF(A39<>"", A39, "") -> 35-39
A40: 40-44 | L40: =L39+1 -> 37 | M40: =IF(A40<>"", A40, "") -> 40-44
A41: 45-49 | L41: =L40+1 -> 38 | M41: =IF(A41<>"", A41, "") -> 45-49
L42: =L41+1 -> 39 | M42: =IF(A42<>"", A42, "")
A43: Total 15-24 | L43: =L42+1 -> 40 | M43: =IF(A43<>"", A43, "") -> Total 15-24
A44: Total 15-49 | L44: =L43+1 -> 41 | M44: =IF(A44<>"", A44, "") -> Total 15-49
A45: 1Relates to Global AIDS Monitoring [2020 / 2021] indicator 2.3: Preventing mother-to-child transmission of HIV; and PEPFAR indicator PMTCT_ARV_NAT / SUBNAT: Number and percentage of HIV-positive pregnant women who received antiretroviral medicine during pregnancy to reduce the risk of mother-to-child transmission.
A46: Note: Education categories refer to the highest level of education attended, whether or not that level was completed.
A47: Return to TOC
A49: Datasets and variables used
A50: Dataset | B50: adultind
A51: Subset | B51: indstatus = 1 and gender = 2 and age ≤ 49 and delivered12months = 1 and hivstatuslastpregnancy = 1 and arvspregnancydetail = 1, 2, 3
A52: Analytic Variables | B52: arvspregnancydetail
A53: Row stratification variables | B53: urban
B54: subnational area (region, province, stratum, etc.)
B55: married
B56: education
B57: wealthquintile
B58: agegroup
B59: age15_24, age15_49 (age)
A60: Column stratification variables | B60: <none>
A61: Weight variables | B61: intwt0, intwt001, …., intwt[MAX]

Sheet 11.4
A1: Table 11.4: Breastfeeding status by child's age and mother's HIV status
A2: Percent distribution of last-born children born to women aged 15-49 years in the three years before the survey by breastfeeding status reported by their mothers, by child's age and mother's HIV status, [SURVEY ACRONYM] [YEAR(S)] | L2: [SURVEY ACRONYM, FIRST YEAR]_Table11_4.sas7bdat
A3: Characteristic | B3: Never breastfed | C3: Ever breastfed, but not currently breastfeeding | D3: Currently breastfeeding | E3: Total | F3: Number | L3: Order | M3: Row | N3: NotBreastFedP | O3: EverNotCurBreastFedP | P3: CurBreastFedP | Q3: TotalBreastFedP | R3: LastBornN | S3: NotBreastFedJKseP | T3: EverNotCurBreastFedJKseP | U3: CurBreastFedJKseP | V3: NotBreastFedNoverN | W3: EverNotCurBreastFedNoverN | X3: CurBreastFedNoverN | Y3: NotBreastFedJKLCLP | Z3: NotBreastFedJKUCLP | AA3: EverNotCurBreastFedJKLCLP | AB3: EverNotCurBreastFedJKUCLP | AC3: CurBreastFedJKLCLP | AD3: CurBreastFedJKUCLP
A4: Child's age (months) | L4: 1 | M4: Child's age (months)
A5: 0-1 | E5: 100 | L5: 2 | M5: 0-1
A6: 2-3 | E6: 100 | L6: 3 | M6: 2-3
A7: 4-5 | E7: 100 | L7: 4 | M7: 4-5
A8: 6-8 | E8: 100 | L8: 5 | M8: 6-8
A9: 9-11 | E9: 100 | L9: 6 | M9: 9-11
A10: 12-17 | E10: 100 | L10: 7 | M10: 12-17
A11: 18-23 | E11: 100 | L11: 8 | M11: 18-23
A12: 24-36 | E12: 100 | L12: 9 | M12: 24-36
L13: =L12+1 -> 10
A14: Result of mother's [SURVEY ACRONYM] HIV test | L14: =L13+1 -> 11 | M14: Result of mother's [SURVEY ACRONYM] HIV test
A15: HIV positive | E15: 100 | L15: =L14+1 -> 12 | M15: HIV positive
A16: HIV negative | E16: 100 | L16: =L15+1 -> 13 | M16: HIV negative
A17: Not tested | E17: 100 | L17: =L16+1 -> 14 | M17: Not tested
L18: =L17+1 -> 15
A19: Total | E19: 100 | L19: =L18+1 -> 16 | M19: Total
A20: Return to TOC
A22: Datasets and variables used
A23: Dataset | B23: adultind
A24: Subset | B24: indstatus = 1 and gender = 2 and age ≤ 49 and delivered3years = 1 and breastfedlastchild = 1, 2, 3
A25: Analytic Variables | B25: breastfedlastchild
A26: Row stratification variables | B26: agegroupmonthslastchild
B27: hivstatusfinal
A28: Column stratification variables | B28: <none>
A29: Weight variables | B29: intwt0, intwt001, …., intwt[MAX]

Sheet 11.5
A1: Table 11.5: Prevention of mother-to-child transmission: Early infant testing
A2: Among self-reported HIV-positive women aged 15-49 years who delivered in the 3 years before the survey, percentage who reported their last-born infant had an HIV test done within 2 months of birth and within 12 months of birth, by result of infant's HIV test, [SURVEY ACRONYM] [YEAR(S)] | L2: [SURVEY ACRONYM, FIRST YEAR]_Table11_3.sas7bdat
A3: Characteristic | B3: Percentage of infants who had an HIV test done at 2 months or less1,2 | C3: Percentage of infants who had an HIV test done between 3 and 11 months of age2 | D3: Number of infants born in the 3 years before the survey to HIV-positive women3 | L3: Order | M3: Row | N3: InfHIVTest2moP | O3: InfHIVTest12moP | P3: Delivered36moN | Q3: InfHIVTest2moJKseP | R3: InfHIVTest12moJKseP | S3: InfHIVTest2moNoverN | T3: InfHIVTest12moNoverN | U3: InfHIVTest2moJKLCLP | V3: InfHIVTest2moJKUCLP | W3: InfHIVTest12moJKLCLP | X3: InfHIVTest12moJKUCLP
A4: Result of infant's HIV test | L4: 1 | M4: Result of infant's HIV test
A5: HIV positive | L5: 2 | M5: HIV positive
A6: HIV negative | L6: 3 | M6: HIV negative
A7: Don't know/other | L7: 4 | M7: Don't know/other
L8: 5
A9: Total | L9: 6 | M9: Total
A10: 1Relates to Global AIDS Monitoring indicator [2020 / 2021] 2.1: Early infant diagnosis. 2Relates to PEPFAR indicator PMTCT_EID: Percentage of infants born to HIV-positive women who received a first virologic HIV test (sample collected) by 12 months of age. 3Includes only last-born infants.
A11: Return to TOC
A13: Datasets and variables used
A14: Dataset | B14: adultind
A15: Subset | B15: indstatus = 1 and gender = 2 and age ≤ 49 and delivered3years = 1 and hivstatuslastpregnancy = 1 and lastborntestedbirthdetail = 1, 2, 3, 5
A16: Analytic Variables | B16: lastborntestedbirthdetail
A17: Row stratification variables | B17: lastbornhivstatus
A18: Column stratification variables | B18: <none>
A19: Weight variables | B19: intwt0, intwt001, …., intwt[MAX]

Sheet 11.6
A1: Table 11.6: Viral load suppression in HIV-positive women of childbearing age (ages 15-49 years), by pregnancy status and postpartum-related characteristics
A2: Among HIV-positive women aged 15-49 years, percentage with viral load suppression (VLS) (HIV RNA < 1,000 copies per milliliter), by self-reported pregnancy and postpartum-related characteristics, [SURVEY ACRONYM] [YEAR(S)]
B3: Women | L3: [SURVEY ACRONYM, FIRST YEAR]_Table11_6.sas7bdat
A4: Characteristic | B4: Percentage wth VLS | C4: Number | L4: Order | M4: Row | N4: FemaleP | O4: FemaleN | P4: FemaleJKseP | Q4: FemaleNoverN | R4: FemaleJKLCLP | S4: FemaleJKUCLP
A5: Ever Pregnant | L5: 1 | M5: =IF(A5<>"", A5, "") -> Ever Pregnant
A6: Yes | L6: =L5+1 -> 2 | M6: =IF(A6<>"", A6, "") -> Yes
A7: No | L7: =L6+1 -> 3 | M7: =IF(A7<>"", A7, "") -> No
L8: =L7+1 -> 4 | M8: =IF(A8<>"", A8, "")
A9: Pregnancy status | L9: =L8+1 -> 5 | M9: =IF(A9<>"", A9, "") -> Pregnancy status
A10: Pregnant at time of the survey | L10: =L9+1 -> 6 | M10: =IF(A10<>"", A10, "") -> Pregnant at time of the survey
A11: Not pregnant at time of the survey | L11: =L10+1 -> 7 | M11: =IF(A11<>"", A11, "") -> Not pregnant at time of the survey
L12: =L11+1 -> 8 | M12: =IF(A12<>"", A12, "")
A13: Delivered in the 12 months before the survey | L13: =L12+1 -> 9 | M13: =IF(A13<>"", A13, "") -> Delivered in the 12 months before the survey
A14: Delivered in the 12 months before the survey | L14: =L13+1 -> 10 | M14: =IF(A14<>"", A14, "") -> Delivered in the 12 months before the survey
A15: Did not deliver in the 12 months before the survey | L15: =L14+1 -> 11 | M15: =IF(A15<>"", A15, "") -> Did not deliver in the 12 months before the survey
L16: =L15+1 -> 12 | M16: =IF(A16<>"", A16, "")
A17: Delivered in the 3 years before the survey | L17: =L16+1 -> 13 | M17: =IF(A17<>"", A17, "") -> Delivered in the 3 years before the survey
A18: Delivered in the 3 years before the survey | L18: =L17+1 -> 14 | M18: =IF(A18<>"", A18, "") -> Delivered in the 3 years before the survey
A19: Did not deliver in the 3 years before the survey | L19: =L18+1 -> 15 | M19: =IF(A19<>"", A19, "") -> Did not deliver in the 3 years before the survey
L20: =L19+1 -> 16 | M20: =IF(A20<>"", A20, "")
A21: Breastfeeding status | L21: =L20+1 -> 17 | M21: =IF(A21<>"", A21, "") -> Breastfeeding status
A22: Never breastfed | L22: =L21+1 -> 18 | M22: =IF(A22<>"", A22, "") -> Never breastfed
A23: Ever breastfed, but not currently breastfeeding | L23: =L22+1 -> 19 | M23: =IF(A23<>"", A23, "") -> Ever breastfed, but not currently breastfeeding
A24: Currently breastfeeding | L24: =L23+1 -> 20 | M24: =IF(A24<>"", A24, "") -> Currently breastfeeding
A25: Return to TOC
A27: Datasets and variables used
A28: Dataset | B28: adultbio, adultind
A29: Subset | B29: hivstatusfinal = 1 and bt_status = 1 and gender = 2 and 15 <= age <= 49 and vls = 1, 2
A30: Analytic Variables | B30: vls
A31: Row stratification variables | B31: everpregnant
B32: pregnancystatus
B33: delivered12months
B34: delivered3years
B35: breastfedlastchild
A36: Column stratification variables | B36: <none>
A37: Weight variables | B37: btwt0, btwt001, …., btwt[MAX]

Sheet 12.1
A1: Table 12.1: Sexual behavior by demographic characteristics
A2: Percent distribution of self-reported sexual behavior characteristics among adults aged [15 years and older / 15-[UPPER AGE LIMIT] years] by sex, [SURVEY ACRONYM] [YEAR(S)]
B3: Men | E3: Women | H3: Total | L3: [SURVEY ACRONYM, FIRST YEAR]_Table12_1.sas7bdat
A4: Characteristic | B4: Percentage | C4: Number | E4: Percentage | F4: Number | H4: Percentage | I4: Number | L4: Order | M4: Row | N4: MaleP | O4: MaleN | P4: FemaleP | Q4: FemaleN | R4: TotalP | S4: TotalN | T4: MaleJKseP | U4: FemaleJKseP | V4: TotalJKseP | W4: MaleNoverN | X4: FemaleNoverN | Y4: TotalNoverN | Z4: MaleJKLCLP | AA4: MaleJKUCLP | AB4: FemaleJKLCLP | AC4: FemaleJKUCLP | AD4: TotalJKLCLP | AE4: TotalJKUCLP
A5: Ever had sex | L5: 1 | M5: Age at first sexual intercourse
A6: Yes | L6: =L5+1 -> 2 | M6: =IF(A6<>"", A6, "") -> Yes
A7: No | L7: =L6+1 -> 3 | M7: =IF(A7<>"", A7, "") -> No
L8: =L7+1 -> 4 | M8: =IF(A8<>"", A8, "")
A9: Had sex in the 12 months before the survey | L9: =L8+1 -> 5 | M9: =IF(A9<>"", A9, "") -> Had sex in the 12 months before the survey
A10: Yes | L10: =L9+1 -> 6 | M10: =IF(A10<>"", A10, "") -> Yes
A11: No | L11: =L10+1 -> 7 | M11: =IF(A11<>"", A11, "") -> No
A12: Never had sex | L12: =L11+1 -> 8 | M12: =IF(A12<>"", A12, "") -> Never had sex
L13: =L12+1 -> 9 | M13: =IF(A13<>"", A13, "")
A14: Had sexual intercourse before the age of 15 years | L14: =L13+1 -> 10 | M14: =IF(A14<>"", A14, "") -> Had sexual intercourse before the age of 15 years
A15: Yes | L15: =L14+1 -> 11 | M15: =IF(A15<>"", A15, "") -> Yes
A16: No | L16: =L15+1 -> 12 | M16: =IF(A16<>"", A16, "") -> No
A17: Never had sex | L17: =L16+1 -> 13 | M17: =IF(A17<>"", A17, "") -> Never had sex
L18: =L17+1 -> 14 | M18: =IF(A18<>"", A18, "")
A19: Total 15-24 | L19: =L18+1 -> 15 | M19: =IF(A19<>"", A19, "") -> Total 15-24
A20: Total 15-49 | L20: =L19+1 -> 16 | M20: =IF(A20<>"", A20, "") -> Total 15-49
A21: Total 50-[UPPER AGE LIMIT] | L21: =L20+1 -> 17 | M21: =IF(A21<>"", A21, "") -> Total 50-[UPPER AGE LIMIT]
A22: Total 15-[UPPER AGE LIMIT] | L22: =L21+1 -> 18 | M22: =IF(A22<>"", A22, "") -> Total 15-[UPPER AGE LIMIT]
A24: Return to TOC
A26: Datasets and variables used
A27: Dataset | B27: adultind
A28: Subset | B28: indstatus = 1
A29: Analytic Variables | B29: sexever
B30: sex12months
B31: firstsexbefore15
B32: age
A33: Row stratification variables | B33: <none>
A34: Column stratification variables | B34: gender
A35: Weight variables | B35: intwt0, intwt001, …., intwt[MAX]
A37: Note: This is a column percentage table.

Sheet 12.2
A1: Table 12.2: HIV prevalence by sexual behavior
A2: Prevalence of HIV among adults aged [15 years and older / 15-[UPPER AGE LIMIT] years] by sex and self-reported sexual behavior characteristics, [SURVEY ACRONYM] [YEAR(S)]
B3: Men | E3: Women | H3: Total | L3: [SURVEY ACRONYM, FIRST YEAR]_Table12_2.sas7bdat
A4: Characteristic | B4: Percentage HIV positive | C4: Number | E4: Percentage HIV positive | F4: Number | H4: Percentage HIV positive | I4: Number | L4: Order | M4: Row | N4: MaleP | O4: MaleN | P4: FemaleP | Q4: FemaleN | R4: TotalP | S4: TotalN | T4: MaleJKseP | U4: FemaleJKseP | V4: TotalJKseP | W4: MaleNoverN | X4: FemaleNoverN | Y4: TotalNoverN | Z4: MaleJKLCLP | AA4: MaleJKUCLP | AB4: FemaleJKLCLP | AC4: FemaleJKUCLP | AD4: TotalJKLCLP | AE4: TotalJKUCLP
A5: Age at first sexual intercourse | L5: 1 | M5: Age at first sexual intercourse
A6: Under 15 | L6: =L5+1 -> 2 | M6: =IF(A6<>"", A6, "") -> Under 15
A7: 15-19 | L7: =L6+1 -> 3 | M7: =IF(A7<>"", A7, "") -> 15-19
A8: 20-24 | L8: =L7+1 -> 4 | M8: =IF(A8<>"", A8, "") -> 20-24
A9: 25+ | L9: =L8+1 -> 5 | M9: =IF(A9<>"", A9, "") -> 25+
L10: =L9+1 -> 6 | M10: =IF(A10<>"", A10, "")
A11: Number of lifetime sexual partners | L11: =L10+1 -> 7 | M11: =IF(A11<>"", A11, "") -> Number of lifetime sexual partners
A12: 0 | L12: =L11+1 -> 8 | M12: =IF(A12<>"", A12, "") -> 0
A13: 1 | L13: =L12+1 -> 9 | M13: =IF(A13<>"", A13, "") -> 1
A14: 2+ | L14: =L13+1 -> 10 | M14: =IF(A14<>"", A14, "") -> 2+
L15: =L14+1 -> 11 | M15: =IF(A15<>"", A15, "")
A16: Number of sexual partners in the 12 months before the survey | L16: =L15+1 -> 12 | M16: =IF(A16<>"", A16, "") -> Number of sexual partners in the 12 months before the survey
A17: 0 | L17: =L16+1 -> 13 | M17: =IF(A17<>"", A17, "") -> 0
A18: 1 | L18: =L17+1 -> 14 | M18: =IF(A18<>"", A18, "") -> 1
A19: 2+ | L19: =L18+1 -> 15 | M19: =IF(A19<>"", A19, "") -> 2+
L20: =L19+1 -> 16 | M20: =IF(A20<>"", A20, "")
A21: Condom use at last sexual intercourse in the 12 months before the survey | L21: =L20+1 -> 17 | M21: =IF(A21<>"", A21, "") -> Condom use at last sexual intercourse in the 12 months before the survey
A22: Used condom | L22: =L21+1 -> 18 | M22: =IF(A22<>"", A22, "") -> Used condom
A23: Did not use condom | L23: =L22+1 -> 19 | M23: =IF(A23<>"", A23, "") -> Did not use condom
A24: No sexual intercourse in the 12 months before the survey | L24: =L23+1 -> 20 | M24: =IF(A24<>"", A24, "") -> No sexual intercourse in the 12 months before the survey
L25: =L24+1 -> 21 | M25: =IF(A25<>"", A25, "")
A26: Total 15-24 | L26: =L25+1 -> 22 | M26: =IF(A26<>"", A26, "") -> Total 15-24
A27: Total 15-49 | L27: =L26+1 -> 23 | M27: =IF(A27<>"", A27, "") -> Total 15-49
A28: Total 50-[UPPER AGE LIMIT] | L28: =L27+1 -> 24 | M28: =IF(A28<>"", A28, "") -> Total 50-[UPPER AGE LIMIT]
A29: Total 15-[UPPER AGE LIMIT] | L29: =L28+1 -> 25 | M29: =IF(A29<>"", A29, "") -> Total 15-[UPPER AGE LIMIT]
A31: Return to TOC
A33: Datasets and variables used
A34: Dataset | B34: adultbio, adultind
A35: Subset | B35: bt_status = 1 and age >= 15
A36: Analytic Variables | B36: hivstatusfinal
A37: Row stratification variables | B37: agegroupfirstsexalt
B38: sexpartnersever
B39: sexpartners12months
B40: condomlastsex12months
B41: age15_24, age15_49, age50_up, age15_up (age)
A42: Column stratification variables | B42: gender
A43: Weight variables | B43: btwt0, btwt001, …., btwt[MAX]

Sheet 12.3
A1: Table 12.3: Sex before the age of 15 years
A2: Percentage of young people aged 15-24 years who reported that they had sexual intercourse before the age of 15 years by sex and selected demographic characteristics, [SURVEY ACRONYM] [YEAR(S)]
B3: Men | E3: Women | H3: Total | L3: [SURVEY ACRONYM, FIRST YEAR]_Table12_3.sas7bdat
A4: Characteristic | B4: Percentage who had sex before the age of 15 years | C4: Number | E4: Percentage who had sex before the age of 15 years | F4: Number | H4: Percentage who had sex before the age of 15 years | I4: Number | L4: Order | M4: Row | N4: MaleP | O4: MaleN | P4: FemaleP | Q4: FemaleN | R4: TotalP | S4: TotalN | T4: MaleJKseP | U4: FemaleJKseP | V4: TotalJKseP | W4: MaleNoverN | X4: FemaleNoverN | Y4: TotalNoverN | Z4: MaleJKLCLP | AA4: MaleJKUCLP | AB4: FemaleJKLCLP | AC4: FemaleJKUCLP | AD4: TotalJKLCLP | AE4: TotalJKUCLP
A5: Residence | L5: 1 | M5: =IF(A5<>"", A5, "") -> Residence
A6: Urban | L6: =L5+1 -> 2 | M6: =IF(A6<>"", A6, "") -> Urban
A7: Rural | L7: =L6+1 -> 3 | M7: =IF(A7<>"", A7, "") -> Rural
L8: =L7+1 -> 4 | M8: =IF(A8<>"", A8, "")
A9: [SUBNATIONAL AREA] | L9: =L8+1 -> 5 | M9: =IF(A9<>"", A9, "") -> [SUBNATIONAL AREA]
A10: [SNA 1] | L10: =L9+1 -> 6 | M10: =IF(A10<>"", A10, "") -> [SNA 1]
A11: [SNA 2] | L11: =L10+1 -> 7 | M11: =IF(A11<>"", A11, "") -> [SNA 2]
A12: [SNA 3] | L12: =L11+1 -> 8 | M12: =IF(A12<>"", A12, "") -> [SNA 3]
A13: [SNA 4] | L13: =L12+1 -> 9 | M13: =IF(A13<>"", A13, "") -> [SNA 4]
A14: [SNA 5] | L14: =L13+1 -> 10 | M14: =IF(A14<>"", A14, "") -> [SNA 5]
L15: =L14+1 -> 11 | M15: =IF(A15<>"", A15, "")
A16: Marital status | L16: =L15+1 -> 12 | M16: =IF(A16<>"", A16, "") -> Marital status
A17: Never married | L17: =L16+1 -> 13 | M17: =IF(A17<>"", A17, "") -> Never married
A18: Married or living together | L18: =L17+1 -> 14 | M18: =IF(A18<>"", A18, "") -> Married or living together
A19: Divorced or separated | L19: =L18+1 -> 15 | M19: =IF(A19<>"", A19, "") -> Divorced or separated
A20: Widowed | L20: =L19+1 -> 16 | M20: =IF(A20<>"", A20, "") -> Widowed
L21: =L20+1 -> 17 | M21: =IF(A21<>"", A21, "")
A22: Education | L22: =L21+1 -> 18 | M22: =IF(A22<>"", A22, "") -> Education
A23: No education | L23: =L22+1 -> 19 | M23: =IF(A23<>"", A23, "") -> No education
A24: Primary | L24: =L23+1 -> 20 | M24: =IF(A24<>"", A24, "") -> Primary
A25: Secondary | L25: =L24+1 -> 21 | M25: =IF(A25<>"", A25, "") -> Secondary
A26: More than secondary | L26: =L25+1 -> 22 | M26: =IF(A26<>"", A26, "") -> More than secondary
L27: =L26+1 -> 23 | M27: =IF(A27<>"", A27, "")
A28: Wealth quintile | L28: =L27+1 -> 24 | M28: =IF(A28<>"", A28, "") -> Wealth quintile
A29: Lowest | L29: =L28+1 -> 25 | M29: =IF(A29<>"", A29, "") -> Lowest
A30: Second | L30: =L29+1 -> 26 | M30: =IF(A30<>"", A30, "") -> Second
A31: Middle | L31: =L30+1 -> 27 | M31: =IF(A31<>"", A31, "") -> Middle
A32: Fourth | L32: =L31+1 -> 28 | M32: =IF(A32<>"", A32, "") -> Fourth
A33: Highest | L33: =L32+1 -> 29 | M33: =IF(A33<>"", A33, "") -> Highest
L34: =L33+1 -> 30 | M34: =IF(A34<>"", A34, "")
A35: Age | L35: =L34+1 -> 31 | M35: =IF(A35<>"", A35, "") -> Age
A36: 15-19 | L36: =L35+1 -> 32 | M36: =IF(A36<>"", A36, "") -> 15-19
A37: 20-24 | L37: =L36+1 -> 33 | M37: =IF(A37<>"", A37, "") -> 20-24
L38: =L37+1 -> 34 | M38: =IF(A38<>"", A38, "")
A39: Total 15-24 | L39: =L38+1 -> 35 | M39: =IF(A39<>"", A39, "") -> Total 15-24
A40: Note: Education categories refer to the highest level of education attended, whether or not that level was completed.
A41: Return to TOC
A43: Datasets and variables used
A44: Dataset | B44: adultind
A45: Subset | B45: instatus = 1 and 15 ≤ age ≤ 24
A46: Analytic Variables | B46: firstsexbefore15
A47: Row stratification variables | B47: urban
B48: subnational area (region, province, stratum, etc.)
B49: married
B50: education
B51: wealthquintile
B52: agegroup
B53: age15_24 (age)
A54: Column stratification variables | B54: gender
A55: Weight variables | B55: intwt0, intwt001, …., intwt[MAX]

Sheet 12.4.A
A1: Table 12.4.A: Condom use at last sex with a nonmarital, noncohabitating partner: Men
A2: Among men aged [15 years and older / 15-[UPPER AGE LIMIT] years], self-reported condom use with nonmarital, noncohabitating partners in the 12 months before the survey by selected demographic characteristics, [SURVEY ACRONYM] [YEAR(S)]
B3: Among men who reported having sex in the 12 months before the survey | E3: Among men who reported having sex with a nonmarital, noncohabitating partner in the 12 months before the survey | L3: [SURVEY ACRONYM, FIRST YEAR]_Table12_4_A.sas7bdat
A4: Characteristic | B4: Percentage who reported having sex with a nonmarital, noncohabitating partner in the 12 months before the survey1 | C4: Number | E4: Percentage who reported using a condom the last time they had sex with such a partner2 | F4: Number | L4: Order | M4: Row | N4: MaleNMarNCo12moP | O4: MaleN | P4: MaleCondomP | Q4: MaleNMarNCo12moN | R4: MaleNMarNCo12moJKseP | S4: MaleCondomJKseP | T4: MaleNMarNCo12moNoverN | U4: MaleCondomNoverN | V4: MaleNMarNCo12moJKLCLP | W4: MaleNMarNCo12moJKUCLP | X4: MaleCondomJKLCLP | Y4: MaleCondomJKUCLP
A5: Residence | L5: 1 | M5: =IF(A5<>"", A5, "") -> Residence
A6: Urban | L6: =L5+1 -> 2 | M6: =IF(A6<>"", A6, "") -> Urban
A7: Rural | L7: =L6+1 -> 3 | M7: =IF(A7<>"", A7, "") -> Rural
L8: =L7+1 -> 4 | M8: =IF(A8<>"", A8, "")
A9: [SUBNATIONAL AREA] | L9: =L8+1 -> 5 | M9: =IF(A9<>"", A9, "") -> [SUBNATIONAL AREA]
A10: [SNA 1] | L10: =L9+1 -> 6 | M10: =IF(A10<>"", A10, "") -> [SNA 1]
A11: [SNA 2] | L11: =L10+1 -> 7 | M11: =IF(A11<>"", A11, "") -> [SNA 2]
A12: [SNA 3] | L12: =L11+1 -> 8 | M12: =IF(A12<>"", A12, "") -> [SNA 3]
A13: [SNA 4] | L13: =L12+1 -> 9 | M13: =IF(A13<>"", A13, "") -> [SNA 4]
A14: [SNA 5] | L14: =L13+1 -> 10 | M14: =IF(A14<>"", A14, "") -> [SNA 5]
L15: =L14+1 -> 11 | M15: =IF(A15<>"", A15, "")
A16: Marital status | L16: =L15+1 -> 12 | M16: =IF(A16<>"", A16, "") -> Marital status
A17: Never married | L17: =L16+1 -> 13 | M17: =IF(A17<>"", A17, "") -> Never married
A18: Married or living together | L18: =L17+1 -> 14 | M18: =IF(A18<>"", A18, "") -> Married or living together
A19: Divorced or separated | L19: =L18+1 -> 15 | M19: =IF(A19<>"", A19, "") -> Divorced or separated
A20: Widowed | L20: =L19+1 -> 16 | M20: =IF(A20<>"", A20, "") -> Widowed
L21: =L20+1 -> 17 | M21: =IF(A21<>"", A21, "")
A22: Education | L22: =L21+1 -> 18 | M22: =IF(A22<>"", A22, "") -> Education
A23: No education | L23: =L22+1 -> 19 | M23: =IF(A23<>"", A23, "") -> No education
A24: Primary | L24: =L23+1 -> 20 | M24: =IF(A24<>"", A24, "") -> Primary
A25: Secondary | L25: =L24+1 -> 21 | M25: =IF(A25<>"", A25, "") -> Secondary
A26: More than secondary | L26: =L25+1 -> 22 | M26: =IF(A26<>"", A26, "") -> More than secondary
L27: =L26+1 -> 23 | M27: =IF(A27<>"", A27, "")
A28: Wealth quintile | L28: =L27+1 -> 24 | M28: =IF(A28<>"", A28, "") -> Wealth quintile
A29: Lowest | L29: =L28+1 -> 25 | M29: =IF(A29<>"", A29, "") -> Lowest
A30: Second | L30: =L29+1 -> 26 | M30: =IF(A30<>"", A30, "") -> Second
A31: Middle | L31: =L30+1 -> 27 | M31: =IF(A31<>"", A31, "") -> Middle
A32: Fourth | L32: =L31+1 -> 28 | M32: =IF(A32<>"", A32, "") -> Fourth
A33: Highest | L33: =L32+1 -> 29 | M33: =IF(A33<>"", A33, "") -> Highest
L34: =L33+1 -> 30 | M34: =IF(A34<>"", A34, "")
A35: Age | L35: =L34+1 -> 31 | M35: =IF(A35<>"", A35, "") -> Age
A36: 15-19 | L36: =L35+1 -> 32 | M36: =IF(A36<>"", A36, "") -> 15-19
A37: 20-24 | L37: =L36+1 -> 33 | M37: =IF(A37<>"", A37, "") -> 20-24
A38: 25-29 | L38: =L37+1 -> 34 | M38: =IF(A38<>"", A38, "") -> 25-29
A39: 30-34 | L39: =L38+1 -> 35 | M39: =IF(A39<>"", A39, "") -> 30-34
A40: 35-39 | L40: =L39+1 -> 36 | M40: =IF(A40<>"", A40, "") -> 35-39
A41: 40-44 | L41: =L40+1 -> 37 | M41: =IF(A41<>"", A41, "") -> 40-44
A42: 45-49 | L42: =L41+1 -> 38 | M42: =IF(A42<>"", A42, "") -> 45-49
A43: 50-54 | L43: =L42+1 -> 39 | M43: =IF(A43<>"", A43, "") -> 50-54
A44: 55-59 | L44: =L43+1 -> 40 | M44: =IF(A44<>"", A44, "") -> 55-59
A45: 60-64 | L45: =L44+1 -> 41 | M45: =IF(A45<>"", A45, "") -> 60-64
A46: 65+ | L46: =L45+1 -> 42 | M46: =IF(A46<>"", A46, "") -> 65+
L47: =L46+1 -> 43 | M47: =IF(A47<>"", A47, "")
A48: Total 15-24 | L48: =L47+1 -> 44 | M48: =IF(A48<>"", A48, "") -> Total 15-24
A49: Total 15-49 | L49: =L48+1 -> 45 | M49: =IF(A49<>"", A49, "") -> Total 15-49
A50: Total 50-[UPPER AGE LIMIT] | L50: =L49+1 -> 46 | M50: =IF(A50<>"", A50, "") -> Total 50-[UPPER AGE LIMIT]
A51: Total 15-[UPPER AGE LIMIT] | L51: =L50+1 -> 47 | M51: =IF(A51<>"", A51, "") -> Total 15-[UPPER AGE LIMIT]
A52: 1For individuals with more than three partners, having sex with a nonmarital, noncohabitiating partner is determined using information about the last three partners. 2Relates to Global AIDS Monitoring [2020 / 2021] indicator 3.18: Condom use at last high-risk sex. Note: Education categories refer to the highest level of education attended, whether or not that level was completed.
A53: Return to TOC
A55: Datasets and variables used
A56: Dataset | B56: adultind
A57: Subset | B57: indstatus = 1 and gender = 1 and part12monum > 0 and allpartspouselivein12mo = 1, 2
B58: indstatus = 1 and gender = 1 and part12monum > 0 and allpartspouselivein12mo = 2 and condomlastnonmarital12mo = 1, 2
A59: Analytic Variables | B59: allpartspouselivein12mo
B60: condomlastnonmarital12mo
A61: Row stratification variables | B61: urban
B62: subnational area (region, province, stratum, etc.)
B63: married
B64: education
B65: wealthquintile
B66: agegroup
B67: age15_24, age15_49, age50_up, age15_up (age)
A68: Column stratification variables | B68: <none>
A69: Weight variables | B69: intwt0, intwt001, …., intwt[MAX]

Sheet 12.4.B
A1: Table 12.4.B: Condom use at last sex with a nonmarital, noncohabitating partner: Women
A2: Among women aged [15 years and older / 15-[UPPER AGE LIMIT] years], self-reported condomuse with nonmarital, noncohabitating partners in the 12 months before the survey by selected demographic characteristics, [SURVEY ACRONYM] [YEAR(S)]
B3: Among women who reported having sex in the 12 months before the survey | E3: Among women who reported having sex with a nonmarital, noncohabitating partner in the 12 months before the survey | L3: [SURVEY ACRONYM, FIRST YEAR]_Table12_4_B.sas7bdat
A4: Characteristic | B4: Percentage who reported having sex with a nonmarital, noncohabitating partner in the 12 months before the survey1 | C4: Number | E4: Percentage who reported using a condom the last time they had sex with such a partner2 | F4: Number | L4: Order | M4: Row | N4: FemaleNMarNCo12moP | O4: FemaleN | P4: FemaleCondomP | Q4: FemaleNMarNCo12moN | R4: FemaleNMarNCo12moJKseP | S4: FemaleCondomJKseP | T4: FemaleNMarNCo12moNoverN | U4: FemaleCondomNoverN | V4: FemaleNMarNCo12moJKLCLP | W4: FemaleNMarNCo12moJKUCLP | X4: FemaleCondomJKLCLP | Y4: FemaleCondomJKUCLP
A5: Residence | L5: 1 | M5: =IF(A5<>"", A5, "") -> Residence
A6: Urban | L6: =L5+1 -> 2 | M6: =IF(A6<>"", A6, "") -> Urban
A7: Rural | L7: =L6+1 -> 3 | M7: =IF(A7<>"", A7, "") -> Rural
L8: =L7+1 -> 4 | M8: =IF(A8<>"", A8, "")
A9: [SUBNATIONAL AREA] | L9: =L8+1 -> 5 | M9: =IF(A9<>"", A9, "") -> [SUBNATIONAL AREA]
A10: [SNA 1] | L10: =L9+1 -> 6 | M10: =IF(A10<>"", A10, "") -> [SNA 1]
A11: [SNA 2] | L11: =L10+1 -> 7 | M11: =IF(A11<>"", A11, "") -> [SNA 2]
A12: [SNA 3] | L12: =L11+1 -> 8 | M12: =IF(A12<>"", A12, "") -> [SNA 3]
A13: [SNA 4] | L13: =L12+1 -> 9 | M13: =IF(A13<>"", A13, "") -> [SNA 4]
A14: [SNA 5] | L14: =L13+1 -> 10 | M14: =IF(A14<>"", A14, "") -> [SNA 5]
L15: =L14+1 -> 11 | M15: =IF(A15<>"", A15, "")
A16: Marital status | L16: =L15+1 -> 12 | M16: =IF(A16<>"", A16, "") -> Marital status
A17: Never married | L17: =L16+1 -> 13 | M17: =IF(A17<>"", A17, "") -> Never married
A18: Married or living together | L18: =L17+1 -> 14 | M18: =IF(A18<>"", A18, "") -> Married or living together
A19: Divorced or separated | L19: =L18+1 -> 15 | M19: =IF(A19<>"", A19, "") -> Divorced or separated
A20: Widowed | L20: =L19+1 -> 16 | M20: =IF(A20<>"", A20, "") -> Widowed
L21: =L20+1 -> 17 | M21: =IF(A21<>"", A21, "")
A22: Education | L22: =L21+1 -> 18 | M22: =IF(A22<>"", A22, "") -> Education
A23: No education | L23: =L22+1 -> 19 | M23: =IF(A23<>"", A23, "") -> No education
A24: Primary | L24: =L23+1 -> 20 | M24: =IF(A24<>"", A24, "") -> Primary
A25: Secondary | L25: =L24+1 -> 21 | M25: =IF(A25<>"", A25, "") -> Secondary
A26: More than secondary | L26: =L25+1 -> 22 | M26: =IF(A26<>"", A26, "") -> More than secondary
L27: =L26+1 -> 23 | M27: =IF(A27<>"", A27, "")
A28: Wealth quintile | L28: =L27+1 -> 24 | M28: =IF(A28<>"", A28, "") -> Wealth quintile
A29: Lowest | L29: =L28+1 -> 25 | M29: =IF(A29<>"", A29, "") -> Lowest
A30: Second | L30: =L29+1 -> 26 | M30: =IF(A30<>"", A30, "") -> Second
A31: Middle | L31: =L30+1 -> 27 | M31: =IF(A31<>"", A31, "") -> Middle
A32: Fourth | L32: =L31+1 -> 28 | M32: =IF(A32<>"", A32, "") -> Fourth
A33: Highest | L33: =L32+1 -> 29 | M33: =IF(A33<>"", A33, "") -> Highest
L34: =L33+1 -> 30 | M34: =IF(A34<>"", A34, "")
A35: Age | L35: =L34+1 -> 31 | M35: =IF(A35<>"", A35, "") -> Age
A36: 15-19 | L36: =L35+1 -> 32 | M36: =IF(A36<>"", A36, "") -> 15-19
A37: 20-24 | L37: =L36+1 -> 33 | M37: =IF(A37<>"", A37, "") -> 20-24
A38: 25-29 | L38: =L37+1 -> 34 | M38: =IF(A38<>"", A38, "") -> 25-29
A39: 30-34 | L39: =L38+1 -> 35 | M39: =IF(A39<>"", A39, "") -> 30-34
A40: 35-39 | L40: =L39+1 -> 36 | M40: =IF(A40<>"", A40, "") -> 35-39
A41: 40-44 | L41: =L40+1 -> 37 | M41: =IF(A41<>"", A41, "") -> 40-44
A42: 45-49 | L42: =L41+1 -> 38 | M42: =IF(A42<>"", A42, "") -> 45-49
A43: 50-54 | L43: =L42+1 -> 39 | M43: =IF(A43<>"", A43, "") -> 50-54
A44: 55-59 | L44: =L43+1 -> 40 | M44: =IF(A44<>"", A44, "") -> 55-59
A45: 60-64 | L45: =L44+1 -> 41 | M45: =IF(A45<>"", A45, "") -> 60-64
A46: 65+ | L46: =L45+1 -> 42 | M46: =IF(A46<>"", A46, "") -> 65+
L47: =L46+1 -> 43 | M47: =IF(A47<>"", A47, "")
A48: Total 15-24 | L48: =L47+1 -> 44 | M48: =IF(A48<>"", A48, "") -> Total 15-24
A49: Total 15-49 | L49: =L48+1 -> 45 | M49: =IF(A49<>"", A49, "") -> Total 15-49
A50: Total 50-[UPPER AGE LIMIT] | L50: =L49+1 -> 46 | M50: =IF(A50<>"", A50, "") -> Total 50-[UPPER AGE LIMIT]
A51: Total 15-[UPPER AGE LIMIT] | L51: =L50+1 -> 47 | M51: =IF(A51<>"", A51, "") -> Total 15-[UPPER AGE LIMIT]
A52: 1For individuals with more than three partners, having sex with a nonmarital, noncohabitiating partner is determined using information about the last three partners. 2Relates to Global AIDS Monitoring [2020 / 2021] indicator 3.18: Condom use at last high-risk sex. Note: Education categories refer to the highest level of education attended, whether or not that level was completed.
A53: Return to TOC
A55: Datasets and variables used
A56: Dataset | B56: adultind
A57: Subset | B57: indstatus = 1 and gender = 2 and part12monum > 0 and allpartspouselivein12mo = 1, 2
B58: indstatus = 1 and gender = 2 and part12monum > 0 and allpartspouselivein12mo = 2 and condomlastnonmarital12mo = 1, 2
A59: Analytic Variables | B59: allpartspouselivein12mo
B60: condomlastnonmarital12mo
A61: Row stratification variables | B61: urban
B62: subnational area (region, province, stratum, etc.)
B63: married
B64: education
B65: wealthquintile
B66: agegroup
B67: age15_24, age15_49, age50_up, age15_up (age)
A68: Column stratification variables | B68: <none>
A69: Weight variables | B69: intwt0, intwt001, …., intwt[MAX]

Sheet 12.4.C
A1: Table 12.4.C: Condom use at last sex with a nonmarital, noncohabitating partner: Total
A2: Among adults aged [15 years and older / 15-[UPPER AGE LIMIT] years], self-reported condom use with nonmarital, noncohabitating partners in the 12 months before the survey by selected demographic characteristics, [SURVEY ACRONYM] [YEAR(S)]
B3: Among persons who reported having sex in the 12 months before the survey | E3: Among persons who reported having sex with a nonmarital, noncohabitating partner in the 12 months before the survey | L3: [SURVEY ACRONYM, FIRST YEAR]_Table12_4_C.sas7bdat
A4: Characteristic | B4: Percentage who reported having sex with a nonmarital, noncohabitating partner in the 12 months before the survey1 | C4: Number | E4: Percentage who reported using a condom the last time they had sex with such a partner2 | F4: Number | L4: Order | M4: Row | N4: TotalNMarNCo12moP | O4: TotalN | P4: TotalCondomP | Q4: TotalNMarNCo12moN | R4: TotalNMarNCo12moJKseP | S4: TotalCondomJKseP | T4: TotalNMarNCo12moNoverN | U4: TotalCondomNoverN | V4: TotalNMarNCo12moJKLCLP | W4: TotalNMarNCo12moJKUCLP | X4: TotalCondomJKLCLP | Y4: TotalCondomJKUCLP
A5: Residence | L5: 1 | M5: =IF(A5<>"", A5, "") -> Residence
A6: Urban | L6: =L5+1 -> 2 | M6: =IF(A6<>"", A6, "") -> Urban
A7: Rural | L7: =L6+1 -> 3 | M7: =IF(A7<>"", A7, "") -> Rural
L8: =L7+1 -> 4 | M8: =IF(A8<>"", A8, "")
A9: [SUBNATIONAL AREA] | L9: =L8+1 -> 5 | M9: =IF(A9<>"", A9, "") -> [SUBNATIONAL AREA]
A10: [SNA 1] | L10: =L9+1 -> 6 | M10: =IF(A10<>"", A10, "") -> [SNA 1]
A11: [SNA 2] | L11: =L10+1 -> 7 | M11: =IF(A11<>"", A11, "") -> [SNA 2]
A12: [SNA 3] | L12: =L11+1 -> 8 | M12: =IF(A12<>"", A12, "") -> [SNA 3]
A13: [SNA 4] | L13: =L12+1 -> 9 | M13: =IF(A13<>"", A13, "") -> [SNA 4]
A14: [SNA 5] | L14: =L13+1 -> 10 | M14: =IF(A14<>"", A14, "") -> [SNA 5]
L15: =L14+1 -> 11 | M15: =IF(A15<>"", A15, "")
A16: Marital status | L16: =L15+1 -> 12 | M16: =IF(A16<>"", A16, "") -> Marital status
A17: Never married | L17: =L16+1 -> 13 | M17: =IF(A17<>"", A17, "") -> Never married
A18: Married or living together | L18: =L17+1 -> 14 | M18: =IF(A18<>"", A18, "") -> Married or living together
A19: Divorced or separated | L19: =L18+1 -> 15 | M19: =IF(A19<>"", A19, "") -> Divorced or separated
A20: Widowed | L20: =L19+1 -> 16 | M20: =IF(A20<>"", A20, "") -> Widowed
L21: =L20+1 -> 17 | M21: =IF(A21<>"", A21, "")
A22: Education | L22: =L21+1 -> 18 | M22: =IF(A22<>"", A22, "") -> Education
A23: No education | L23: =L22+1 -> 19 | M23: =IF(A23<>"", A23, "") -> No education
A24: Primary | L24: =L23+1 -> 20 | M24: =IF(A24<>"", A24, "") -> Primary
A25: Secondary | L25: =L24+1 -> 21 | M25: =IF(A25<>"", A25, "") -> Secondary
A26: More than secondary | L26: =L25+1 -> 22 | M26: =IF(A26<>"", A26, "") -> More than secondary
L27: =L26+1 -> 23 | M27: =IF(A27<>"", A27, "")
A28: Wealth quintile | L28: =L27+1 -> 24 | M28: =IF(A28<>"", A28, "") -> Wealth quintile
A29: Lowest | L29: =L28+1 -> 25 | M29: =IF(A29<>"", A29, "") -> Lowest
A30: Second | L30: =L29+1 -> 26 | M30: =IF(A30<>"", A30, "") -> Second
A31: Middle | L31: =L30+1 -> 27 | M31: =IF(A31<>"", A31, "") -> Middle
A32: Fourth | L32: =L31+1 -> 28 | M32: =IF(A32<>"", A32, "") -> Fourth
A33: Highest | L33: =L32+1 -> 29 | M33: =IF(A33<>"", A33, "") -> Highest
L34: =L33+1 -> 30 | M34: =IF(A34<>"", A34, "")
A35: Age | L35: =L34+1 -> 31 | M35: =IF(A35<>"", A35, "") -> Age
A36: 15-19 | L36: =L35+1 -> 32 | M36: =IF(A36<>"", A36, "") -> 15-19
A37: 20-24 | L37: =L36+1 -> 33 | M37: =IF(A37<>"", A37, "") -> 20-24
A38: 25-29 | L38: =L37+1 -> 34 | M38: =IF(A38<>"", A38, "") -> 25-29
A39: 30-34 | L39: =L38+1 -> 35 | M39: =IF(A39<>"", A39, "") -> 30-34
A40: 35-39 | L40: =L39+1 -> 36 | M40: =IF(A40<>"", A40, "") -> 35-39
A41: 40-44 | L41: =L40+1 -> 37 | M41: =IF(A41<>"", A41, "") -> 40-44
A42: 45-49 | L42: =L41+1 -> 38 | M42: =IF(A42<>"", A42, "") -> 45-49
A43: 50-54 | L43: =L42+1 -> 39 | M43: =IF(A43<>"", A43, "") -> 50-54
A44: 55-59 | L44: =L43+1 -> 40 | M44: =IF(A44<>"", A44, "") -> 55-59
A45: 60-64 | L45: =L44+1 -> 41 | M45: =IF(A45<>"", A45, "") -> 60-64
A46: 65+ | L46: =L45+1 -> 42 | M46: =IF(A46<>"", A46, "") -> 65+
L47: =L46+1 -> 43 | M47: =IF(A47<>"", A47, "")
A48: Total 15-24 | L48: =L47+1 -> 44 | M48: =IF(A48<>"", A48, "") -> Total 15-24
A49: Total 15-49 | L49: =L48+1 -> 45 | M49: =IF(A49<>"", A49, "") -> Total 15-49
A50: Total 50-[UPPER AGE LIMIT] | L50: =L49+1 -> 46 | M50: =IF(A50<>"", A50, "") -> Total 50-[UPPER AGE LIMIT]
A51: Total 15-[UPPER AGE LIMIT] | L51: =L50+1 -> 47 | M51: =IF(A51<>"", A51, "") -> Total 15-[UPPER AGE LIMIT]
A52: 1For individuals with more than three partners, having sex with a nonmarital, noncohabitiating partner is determined using information about the last three partners. 2Relates to Global AIDS Monitoring [2020 / 2021] indicator 3.18: Condom use at last high-risk sex. Note: Education categories refer to the highest level of education attended, whether or not that level was completed.
A53: Return to TOC
A55: Datasets and variables used
A56: Dataset | B56: adultind
A57: Subset | B57: indstatus = 1 and part12monum > 0 and allpartspouselivein12mo = 1, 2
B58: indstatus = 1 and part12monum > 0 and allpartspouselivein12mo = 2 and condomlastnonmarital12mo = 1, 2
A59: Analytic Variables | B59: allpartspouselivein12mo
B60: condomlastnonmarital12mo
A61: Row stratification variables | B61: urban
B62: subnational area (region, province, stratum, etc.)
B63: married
B64: education
B65: wealthquintile
B66: agegroup
B67: age15_24, age15_49, age50_up, age15_up (age)
A68: Column stratification variables | B68: <none>
A69: Weight variables | B69: intwt0, intwt001, …., intwt[MAX]

Sheet 12.5
A1: Table 12.5: Male circumcision
A2: Percent distribution of men aged [15 years and older / 15-[UPPER AGE LIMIT] years] by self-reported circumcision status, by result of [SURVEY ACRONYM] HIV test and selected demographic characteristics, [SURVEY ACRONYM] [YEAR(S)]
B3: Circumcised1 | D3: Uncircumcised | E3: Total | F3: Number | K3: [SURVEY ACRONYM, FIRST YEAR]_Table12_5.sas7bdat
A4: Characteristic | B4: Medical circumcision | C4: Nonmedical circumcision | K4: Order | L4: Row | M4: MaleMcP | N4: MaleNMcP | O4: MaleUcP | P4: MaleP | Q4: MaleN | R4: MaleMcJKSEP | S4: MaleNMcJKSEP | T4: MaleUcJKSEP | U4: MaleMcNoverN | V4: MaleNMcNoverN | W4: MaleUcNoverN | X4: MaleMcJKLCLP | Y4: MaleMcJKUCLP | Z4: MaleNMcJKLCLP | AA4: MaleNMcJKUCLP | AB4: MaleUcJKLCLP | AC4: MaleUcJKUCLP
A5: Result of [SURVEY ACRONYM] HIV test | K5: 1 | L5: =A5 -> Result of [SURVEY ACRONYM] HIV test
A6: HIV positive | E6: 100 | K6: =K5+1 -> 2 | L6: =A6 -> HIV positive
A7: HIV negative | E7: 100 | K7: =K6+1 -> 3 | L7: =IF(A7<>"", A7, "") -> HIV negative
A8: Not tested | E8: 100 | K8: =K7+1 -> 4 | L8: =IF(A8<>"", A8, "") -> Not tested
K9: =K8+1 -> 5 | L9: =IF(A9<>"", A9, "")
A10: Residence | E10: 100 | K10: =K9+1 -> 6 | L10: =IF(A10<>"", A10, "") -> Residence
A11: Urban | E11: 100 | K11: =K10+1 -> 7 | L11: =IF(A11<>"", A11, "") -> Urban
A12: Rural | K12: =K11+1 -> 8 | L12: =IF(A12<>"", A12, "") -> Rural
K13: =K12+1 -> 9 | L13: =IF(A13<>"", A13, "")
A14: [SUBNATIONAL AREA] | K14: =K13+1 -> 10 | L14: =IF(A14<>"", A14, "") -> [SUBNATIONAL AREA]
A15: [SNA 1] | E15: 100 | K15: =K14+1 -> 11 | L15: =IF(A15<>"", A15, "") -> [SNA 1]
A16: [SNA 2] | E16: 100 | K16: =K15+1 -> 12 | L16: =IF(A16<>"", A16, "") -> [SNA 2]
A17: [SNA 3] | E17: 100 | K17: =K16+1 -> 13 | L17: =IF(A17<>"", A17, "") -> [SNA 3]
A18: [SNA 4] | E18: 100 | K18: =K17+1 -> 14 | L18: =IF(A18<>"", A18, "") -> [SNA 4]
A19: [SNA 5] | E19: 100 | K19: =K18+1 -> 15 | L19: =IF(A19<>"", A19, "") -> [SNA 5]
K20: =K19+1 -> 16 | L20: =IF(A20<>"", A20, "")
A21: Marital status | K21: =K20+1 -> 17 | L21: =IF(A21<>"", A21, "") -> Marital status
A22: Never married | E22: 100 | K22: =K21+1 -> 18 | L22: =IF(A22<>"", A22, "") -> Never married
A23: Married or living together | E23: 100 | K23: =K22+1 -> 19 | L23: =IF(A23<>"", A23, "") -> Married or living together
A24: Divorced or separated | E24: 100 | K24: =K23+1 -> 20 | L24: =IF(A24<>"", A24, "") -> Divorced or separated
A25: Widowed | E25: 100 | K25: =K24+1 -> 21 | L25: =IF(A25<>"", A25, "") -> Widowed
