Workbook
Name Table_6.2.1_Experience_of_sexual_and_physical_violence_among_female_adolescents_13_14_y: [1]TOC!#REF!
Name Table_6.2.1_Experience_of_sexual_and_physical_violence_among_female_adolescents_13_14_y: [1]TOC!#REF!
Name Table_6.2.1_Experience_of_sexual_and_physical_violence_among_female_adolescents_13_14_y: [1]TOC!#REF!
Name Table_6.2.1_Experience_of_sexual_and_physical_violence_among_female_adolescents_13_14_y: [1]TOC!#REF!
Name Table_6.2.1_Experience_of_sexual_and_physical_violence_among_female_adolescents_13_14_y: [1]TOC!#REF!
Name Table_6.2.1_Experience_of_sexual_and_physical_violence_among_female_adolescents_13_14_y: [1]TOC!#REF!
Name Table_6.2.1_Experience_of_sexual_and_physical_violence_among_female_adolescents_13_14_y: [1]TOC!#REF!
Name Table_6.2.1_Experience_of_sexual_and_physical_violence_among_female_adolescents_13_14_y: [1]TOC!#REF!
Name Table_6.2.1_Experience_of_sexual_and_physical_violence_among_female_adolescents_13_14_y: [1]TOC!#REF!
Name Table_6.2.1_Experience_of_sexual_and_physical_violence_among_female_adolescents_13_14_y: [1]TOC!#REF!
Name Table_6.2.1_Experience_of_sexual_and_physical_violence_among_female_adolescents_13_14_y: [1]TOC!#REF!
Name Table_6.2.1_Experience_of_sexual_and_physical_violence_among_female_adolescents_13_14_y: [1]TOC!#REF!
Name Table_6.2.1_Experience_of_sexual_and_physical_violence_among_female_adolescents_13_14_y: [1]TOC!#REF!
Name Table_6.2.1_Experience_of_sexual_and_physical_violence_among_female_adolescents_13_14_y: [1]TOC!#REF!
Name Table_6.2.1_Experience_of_sexual_and_physical_violence_among_female_adolescents_13_14_y: [1]TOC!#REF!
Name Table_6.2.1_Experience_of_sexual_and_physical_violence_among_female_adolescents_13_14_y: [1]TOC!#REF!
Name Table_6.2.1_Experience_of_sexual_and_physical_violence_among_female_adolescents_13_14_y: [1]TOC!#REF!
Name Table_6.2.1_Experience_of_sexual_and_physical_violence_among_female_adolescents_13_14_y: [1]TOC!#REF!
Name Table_6.2.1_Experience_of_sexual_and_physical_violence_among_female_adolescents_13_14_y: [1]TOC!#REF!
Name Table_6.2.1_Experience_of_sexual_and_physical_violence_among_female_adolescents_13_14_y: [1]TOC!#REF!
Name Table_TBD_Retention_on_ART: #REF!

Sheet TOC
B1: TABLE OF CONTENTS | C1: Figure | D1: Summary sheet
A2: Table number | B2: Chapter 2: Survey design, response rates
A3: 2.1 | B3: ='2.1'!A1 -> Table 2.1: Distribution of sampled enumeration areas and households by [SUBNATIONAL AREA]
A4: 2.2 | B4: ='2.2'!A1 -> Table 2.2: Household response rates | D4: Household response rate
A5: 2.3 | B5: ='2.3'!A1 -> Table 2.3: Individual interview and blood draw response rates | D5: Interview and blood draw response rate
B6: Figure 2.X: Household-based HIV testing algorithm | C6: National RT algorithm
B7: Figure 2.Y: HIV-1 recent infection testing algorithm (LAg/VL/ARV algorithm) | C7: HIV recent infection algorithm
B8: Chapter 3: Survey household characteristics
A9: 3.1 | B9: ='3.1'!A1 -> Table 3.1: Household composition
A10: 3.2 | B10: ='3.2'!A1 -> Table 3.2: Distribution of de facto household population (population pyramid)
B11: Figure 3.2: Distribution of the de facto population by sex and age, [SURVEY ACRONYM] [YEAR(S)] | C11: Population pyramid
A12: 3.3 | B12: ='3.3'!A1 -> Table 3.3: Household population by age, sex, and residence
B13: Figure 3.3 Household population by age, sex, and residence, [SURVEY ACRONYM] [YEAR(S)] | C13: Bar graph
A14: 3.4 | B14: ='3.4'!A1 -> Table 3.4: Prevalence of HIV-affected households
B15: Figure 3.4 Prevalence of HIV-affected households by residence, [SURVEY ACRONYM] [YEAR(S)] | C15: Bar graph
A16: 3.5 | B16: ='3.5'!A1 -> Table 3.5: Prevalence of households with an HIV-positive head of household
B17: Figure 3.5: Prevalence of HIV among heads of households by sex, [SURVEY ACRONYM] [YEAR(S)] | C17: Bar graph
B18: Chapter 4: Survey respondent characteristics
A19: 4.1 | B19: ='4.1'!A1 -> Table 4.1: Demographic characteristics of the adult population
B20: Chapter 5: HIV incidence
A21: 5.1 | B21: ='5.1'!A1 -> Table 5.1: Annual HIV incidence using the recent infection testing algorithm | D21: HIV incidence, by sex, 15-49 y, 15+ y
A22: 5.1.A | B22: ='5.1.A'!A1 -> Table 5.1.A: Annual HIV incidence auxiliary data: N, P, Q, R, MDRI, PFR, and T
A23: 5.3 | B23: ='5.2'!A1 -> Table 5.2: Adults living with HIV and number of new HIV infections per year using the recent infection testing algorithm | D23: PLHIV and number of new HIV infections
B24: Chapter 6: HIV prevalence
A25: 6.1 | B25: ='6.1'!A1 -> Table 6.1: HIV prevalence by demographic characteristics: Adults aged 15-49 years | D25: HIV prevalence, by sex, 15-49 y
A26: 6.2 | B26: ='6.2'!A1 -> Table 6.2: HIV prevalence by demographic characteristics: Adults aged 15-[UPPER AGE LIMIT] years | D26: HIV prevalence, by sex, 15+ y
B27: Figure 6.2.1: HIV prevalence among adults 15 - [UPPER AGE LIMIT] years by [SUBNATIONAL AREA], [SURVEY ACRONYM] [YEAR(S)] (map) | C27: Map | D27: HIV prevalence by [SUBNATIONAL AREA]
B28: Figure 6.2.2: HIV prevalence among adults 15 - [UPPER AGE LIMIT] years by [SUBNATIONAL AREA], [SURVEY ACRONYM] [YEAR(S)] (bar graph) | C28: Bar graph
A29: 6.3 | B29: ='6.3'!A1 -> Table 6.3: HIV prevalence by age
B30: Figure 6.3: HIV prevalence by age and sex, [SURVEY ACRONYM] [YEAR(S)] | C30: Bar graph | D30: HIV prevalence by age and sex, bar graph
B31: Chapter 7: HIV diagnosis and treatment
A32: 7.1.A | B32: ='7.1.A'!A1 -> Table 7.1.A: Self-reported HIV testing: Men
A33: 7.1.B | B33: ='7.1.B'!A1 -> Table 7.1.B: Self-reported HIV testing: Women
A34: 7.1.C | B34: ='7.1.C'!A1 -> Table 7.1.C: Self-reported HIV testing: Total
B35: Figure 7.1.A: Proportion of adults who reported having received an HIV test in the 12 months before the survey by age and sex, [SURVEY ACRONYM] [YEAR(S)] | C35: Bar graph
B36: Figure 7.1.B: Proportion of adults who did not report having received an HIV test in the last 12 months by age and sex, [SURVEY ACRONYM] [YEAR(S)] | C36: Bar graph
A37: 7.2.A | B37: ='7.2.A'!A1 -> Table 7.2.A: HIV diagnosis and treatment status: Men
A38: 7.2.B | B38: ='7.2.B'!A1 -> Table 7.2.B: HIV diagnosis and treatment status: Women
A39: 7.2.C | B39: ='7.2.C'!A1 -> Table 7.2.C: HIV diagnosis and treatment status: Total
B40: Figure 7.2: Proportion of adults living with HIV who reported awareness of HIV status and antiretroviral therapy use by sex and age, [SURVEY ACRONYM] [YEAR(S)] | C40: Bar graph
...

Sheet 2.1
A1: Table 2.1: Distribution of sampled enumeration areas and households by [SUBNATIONAL AREA]
A2: Distribution of sampled enumeration areas and households by [SUBNATIONAL AREA], [SURVEY ACRONYM] [YEAR(S)]
C3: Enumeration Areas | G3: Households | L3: [SURVEY ACRONYM, FIRST YEAR]_table_2_1.sas7bdat
A4: [SNA] | C4: Urban | D4: Rural | E4: Total | G4: Urban | H4: Rural | I4: Total | L4: Order | M4: Row | N4: Urban_ea_count | O4: Rural_ea_count | P4: Total_ea_count | Q4: Urban_hh_count | R4: Rural_hh_count | S4: Total_hh_count
A5: [SNA 1] | L5: 1 | M5: =IF(A5<>"", A5, "") -> [SNA 1]
A6: [SNA 2] | L6: 2 | M6: =IF(A6<>"", A6, "") -> [SNA 2]
A7: [SNA 3] | L7: 3 | M7: =IF(A7<>"", A7, "") -> [SNA 3]
A8: [SNA 4] | L8: 4 | M8: =IF(A8<>"", A8, "") -> [SNA 4]
A9: [SNA 5] | L9: 5 | M9: =IF(A9<>"", A9, "") -> [SNA 5]
L10: 6 | M10: =IF(A10<>"", A10, "")
A11: Total | L11: 7 | M11: =IF(A11<>"", A11, "") -> Total
A12: Return to TOC
A15: Datasets and variables used
A16: Dataset | B16: hh
A17: Subset | B17: <none>
A18: Analytic Variables | B18: clusterid
B19: householdid
A20: Row stratification variables | B20: subnational area (region, province, stratum, etc.)
A21: Column stratification variables | B21: urban
A22: Weight variables | B22: <none>

Sheet 2.2
A1: Table 2.2: Household response rates
A2: Number of households selected, occupied, and interviewed and household response rates (unweighted and weighted) by residence, [SURVEY ACRONYM] [YEAR(S)]
B3: Residence | D3: Total | L3: [SURVEY ACRONYM, FIRST YEAR]_Table2_2
A4: Result | B4: Urban | C4: Rural | L4: Order | M4: Row | N4: Urban | O4: Rural | P4: Total
A5: Household interviews | L5: 1 | M5: =IF(A5<>"", A5, "") -> Household interviews
A6: Households selected | L6: =L5+1 -> 2 | M6: =IF(A6<>"", A6, "") -> Households selected
A7: Households occupied | L7: =L6+1 -> 3 | M7: =IF(A7<>"", A7, "") -> Households occupied
A8: Households interviewed | L8: =L7+1 -> 4 | M8: =IF(A8<>"", A8, "") -> Households interviewed
L9: =L8+1 -> 5 | M9: =IF(A9<>"", A9, "")
A10: Household response rate1 (unweighted) | L10: =L9+1 -> 6 | M10: =IF(A10<>"", A10, "") -> Household response rate1 (unweighted)
A11: Household response rate1 (weighted) | L11: =L10+1 -> 7 | M11: =IF(A11<>"", A11, "") -> Household response rate1 (weighted)
A12: 1Household response rate was calculated using the American Association for Public Opinion Research (AAPOR) Response Rate 4 (RR4) method: https://www.aapor.org/AAPOR_Main/media/publications/Standard-Definitions20169theditionfinal.pdf.
A13: Return to TOC
A16: Datasets and variables used
A17: Dataset | B17: hh
A18: Subset | B18: <none>
A19: Analytic Variables | B19: hhstatus
A20: Row stratification variables | B20: <none>
A21: Column stratification variables | B21: urban
A22: Weight variables | B22: hhbwt0

Sheet 2.3
A1: Table 2.3: Individual interview and blood draw response rates
A2: Number of eligible individuals and response rates for individual interviews1 and blood draws2 (unweighted and weighted) by residence and sex, [SURVEY ACRONYM] [YEAR(S)]
B3: Residence | H3: Total by sex | J3: Total
B4: Urban | E4: Rural | M4: [SURVEY ACRONYM, FIRST YEAR]_Table2_3.sas7bdat
A5: Result | B5: Men | C5: Women | E5: Men | F5: Women | H5: Men | I5: Women | M5: Order | N5: Row | O5: MaleU | P5: FemaleU | Q5: MaleR | R5: FemaleR | S5: MaleTotal | T5: FemaleTotal | U5: TotalTotal | V5: MaleUNoverN | W5: FemaleUNoverN | X5: MaleRNoverN | Y5: FemaleRNoverN | Z5: MaleTotalNoverN | AA5: FemaleTotalNoverN | AB5: TotalTotalNoverN
A6: Eligible individuals, ages 15-24 years | M6: 1 | N6: =IF(A6<>"", A6, "") -> Eligible individuals, ages 15-24 years
A7: Number of eligible individuals | M7: =M6+1 -> 2 | N7: =IF(A7<>"", A7, "") -> Number of eligible individuals
A8: Interview response rate (unweighted) | M8: =M7+1 -> 3 | N8: =IF(A8<>"", A8, "") -> Interview response rate (unweighted)
A9: Interview response rate (weighted) | M9: =M8+1 -> 4 | N9: =IF(A9<>"", A9, "") -> Interview response rate (weighted)
A10: Blood draw response rate (unweighted) | M10: =M9+1 -> 5 | N10: =IF(A10<>"", A10, "") -> Blood draw response rate (unweighted)
A11: Blood draw response rate (weighted) | M11: =M10+1 -> 6 | N11: =IF(A11<>"", A11, "") -> Blood draw response rate (weighted)
M12: =M11+1 -> 7 | N12: =IF(A12<>"", A12, "")
A13: Eligible individuals, ages 15-49 years | M13: =M12+1 -> 8 | N13: =IF(A13<>"", A13, "") -> Eligible individuals, ages 15-49 years
A14: Number of eligible individuals | M14: =M13+1 -> 9 | N14: =IF(A14<>"", A14, "") -> Number of eligible individuals
A15: Interview response rate (unweighted) | M15: =M14+1 -> 10 | N15: =IF(A15<>"", A15, "") -> Interview response rate (unweighted)
A16: Interview response rate (weighted) | M16: =M15+1 -> 11 | N16: =IF(A16<>"", A16, "") -> Interview response rate (weighted)
A17: Blood draw response rate (unweighted) | M17: =M16+1 -> 12 | N17: =IF(A17<>"", A17, "") -> Blood draw response rate (unweighted)
A18: Blood draw response rate (weighted) | M18: =M17+1 -> 13 | N18: =IF(A18<>"", A18, "") -> Blood draw response rate (weighted)
M19: =M18+1 -> 14 | N19: =IF(A19<>"", A19, "")
A20: Eligible individuals, ages 15-[UPPER AGE LIMIT] years | M20: =M19+1 -> 15 | N20: =IF(A20<>"", A20, "") -> Eligible individuals, ages 15-[UPPER AGE LIMIT] years
A21: Number of eligible individuals | M21: =M20+1 -> 16 | N21: =IF(A21<>"", A21, "") -> Number of eligible individuals
A22: Number of interviewed individuals | M22: =M21+1 -> 17 | N22: =IF(A22<>"", A22, "") -> Number of interviewed individuals
A23: Number of individuals with blood draw | M23: =M22+1 -> 18 | N23: =IF(A23<>"", A23, "") -> Number of individuals with blood draw
A24: Interview response rate (unweighted) | M24: =M23+1 -> 19 | N24: =IF(A24<>"", A24, "") -> Interview response rate (unweighted)
A25: Interview response rate (weighted) | M25: =M24+1 -> 20 | N25: =IF(A25<>"", A25, "") -> Interview response rate (weighted)
A26: Blood draw response rate (unweighted) | M26: =M25+1 -> 21 | N26: =IF(A26<>"", A26, "") -> Blood draw response rate (unweighted)
A27: Blood draw response rate (weighted) | M27: =M26+1 -> 22 | N27: Blood draw response rate (weighted)
A28: Overall response rate (unweighted)3 | M28: =M27+1 -> 23 | N28: Overall response rate (unweighted)
A29: 1Interview response rate = number of individuals interviewed/number of eligible individuals. 2Blood draw response rate = number of individuals who provided blood/number of individuals interviewed. 3Overall response rate = household response rate * interview response rate * blood draw response rate.
A30: Return to TOC
A33: Datasets and variables used
A34: Dataset | B34: roster
A35: Subset | B35: indstatus = 1, 2
A36: Analytic Variables | B36: indstatus
B37: bt_status
B38: hhstatus
A39: Row stratification variables | B39: age15_24, age15_49, age15_up (age)
A40: Column stratification variables | B40: urban
B41: gender
A42: Weight variables | B42: indiv_bwt0 (interview response rate)
...

Sheet 3.1
A1: Table 3.1: Household composition
A2: Percent distribution of households by sex of head of household; median (quartile 1, quartile 3 [Q1, Q3]) size of household and median (Q1, Q3) number of children under 18 years of age by residence, [SURVEY ACRONYM] [YEAR(S)]
B3: Residence
B4: Urban | E4: Rural | H4: Total | L4: [SURVEY ACRONYM, FIRST YEAR]_Table3_1A.sas7bdat
A5: Characteristic | B5: Percent | C5: Number | E5: Percent | F5: Number | H5: Percent | I5: Number | L5: Order | M5: Row | N5: UrbanP | O5: UrbanN | P5: RuralP | Q5: RuralN | R5: TotalP | S5: TotalN | T5: UrbanNoverN | U5: RuralNoverN | V5: TotalNoverN
A6: Head of household | L6: 1 | M6: =A6 -> Head of household
A7: Male | L7: 2 | M7: =A7 -> Male
A8: Female | L8: 3 | M8: =A8 -> Female
L9: 4
A10: Total | B10: 100 | E10: 100 | H10: 100 | L10: 5 | M10: =A10 -> Total
B12: Residence
B13: Urban | E13: Rural | H13: Total | L13: [SURVEY ACRONYM, FIRST YEAR]_Table3_1B.sas7bdat
A14: Characteristic | B14: Median | C14: Q1, Q3 | E14: Median | F14: Q1, Q3 | H14: Median | I14: Q1, Q3 | L14: Order | M14: Row | N14: UrbanM | O14: UrbanQ1 | P14: UrbanQ3 | Q14: RuralM | R14: RuralQ1 | S14: RuralQ3 | T14: TotalM | U14: TotalQ1 | V14: TotalQ3
A15: Size of households | L15: 1 | M15: =A15 -> Size of households
A16: Number of children under 18 years of age | L16: 2 | M16: =A16 -> Number of children under 18 years of age
A17: Return to TOC
A20: Datasets and variables used
A21: Dataset | B21: hh
A22: Subset | B22: hhstatus = 1
A23: Analytic Variables | B23: childcount
B24: rostercount
B25: householdheadgender
A26: Row stratification variables | B26: <none>
A27: Column stratification variables | B27: urban
A28: Weight variables | B28: hhwt0

Sheet 3.2
A1: Table 3.2: Distribution of de facto household population (population pyramid)
A2: Percent distribution of the de facto household population by 5-year age groups and sex, [SURVEY ACRONYM] [YEAR(S)]
B3: Men | E3: Women | H3: Total | L3: [SURVEY ACRONYM, FIRST YEAR]_Table_3_2.sas7bdat
A4: Age | B4: Percent | C4: Number | E4: Percent | F4: Number | H4: Percent | I4: Number | L4: Order | M4: Row | N4: MaleP | O4: MaleN | P4: FemaleP | Q4: FemaleN | R4: TotalP | S4: TotalN | T4: MaleNoverN | U4: FemaleNoverN | V4: TotalNoverN
A5: 0-4 | L5: 1 | M5: =A5 -> 0-4
A6: 5-9 | L6: 2 | M6: =A6 -> 5-9
A7: 10-14 | L7: 3 | M7: =A7 -> 10-14
A8: 15-19 | L8: 4 | M8: =A8 -> 15-19
A9: 20-24 | L9: 5 | M9: =A9 -> 20-24
A10: 25-29 | L10: 6 | M10: =A10 -> 25-29
A11: 30-34 | L11: 7 | M11: =A11 -> 30-34
A12: 35-39 | L12: 8 | M12: =A12 -> 35-39
A13: 40-44 | L13: 9 | M13: =A13 -> 40-44
A14: 45-49 | L14: 10 | M14: =A14 -> 45-49
A15: 50-54 | L15: 11 | M15: =A15 -> 50-54
A16: 55-59 | L16: 12 | M16: =A16 -> 55-59
... A21: 80+ | L21: 17 | M21: =A21 -> 80+
L22: 18
A23: Total | H23: 100 | L23: 19 | M23: =A23 -> Total
A24: Return to TOC
A27: Datasets and variables used
A28: Dataset | B28: roster, hh
A29: Subset | B29: sleephere = 1
A30: Analytic Variables | B30: agegroup5population
A31: Row stratification variables | B31: <none>
A32: Column stratification variables | B32: gender
A33: Weight variables | B33: hhwt0

Sheet 3.3
A1: Table 3.3: Household population by age, sex, and residence
A2: Percent distribution of the household population by age, sex, and residence, [SURVEY ACRONYM] [YEAR(S)]
B3: Urban | K3: Rural
B4: Men | E4: Women | H4: Total | K4: Men | N4: Women | Q4: Total | AC4: [SURVEY ACRONYM, FIRST YEAR]_Table3_3.sas7bdat
A5: Age | B5: Percent | C5: Number | E5: Percent | F5: Number | H5: Percent | I5: Number | K5: Percent | L5: Number | N5: Percent | O5: Number | Q5: Percent | R5: Number | AC5: Order | AD5: Row | AE5: MaleUP | AF5: MaleUN | AG5: FemaleUP | AH5: FemaleUN | AI5: TotalUP | AJ5: TotalUN | AK5: MaleRP | AL5: MaleRN | AM5: FemaleRP | AN5: FemaleRN | AO5: TotalRP | AP5: TotalRN | AQ5: MaleUNoverN | AR5: FemaleUNoverN | AS5: TotalUNoverN | AT5: MaleRNoverN | AU5: FemaleRNoverN | AV5: TotalRNoverN
A6: 0-4 | AC6: 1 | AD6: =A6 -> 0-4
A7: 5-14 | AC7: =AC6+1 -> 2 | AD7: =A7 -> 5-14
A8: 15-49 | AC8: =AC7+1 -> 3 | AD8: =A8 -> 15-49
A9: 50+ | AC9: =AC8+1 -> 4 | AD9: =A9 -> 50+
AC10: =AC9+1 -> 5
A11: Total | B11: 100 | E11: 100 | H11: 100 | K11: 100 | N11: 100 | Q11: 100 | AC11: =AC10+1 -> 6 | AD11: =A11 -> Total
A12: Return to TOC
A15: Datasets and variables used
A16: Dataset | B16: roster, hh
A17: Subset | B17: sleephere = 1
A18: Analytic Variables | B18: age15_49, age50_up, age
A19: Row stratification variables | B19: <none>
A20: Column stratification variables | B20: urban
B21: gender
A22: Weight variables | B22: hhwt0

Sheet 3.4
A1: Table 3.4: Prevalence of HIV-affected households
A2: Percentage of households with at least one HIV-positive household member by residence, [SURVEY ACRONYM] [YEAR(S)] | L2: [SURVEY ACRONYM, FIRST YEAR]_Table3_4.sas7bdat
A3: Residence | B3: Percent | C3: Number | L3: Order | M3: Row | N3: TotalP | O3: TotalN | P3: TotalJKseP | Q3: TotalNoverN | R3: TotalJKLCLP | S3: TotalJKUCLP
A4: Urban | L4: 1 | M4: Urban
A5: Rural | L5: 2 | M5: Rural
L6: 3
A7: Total | L7: 4 | M7: Total
A8: Return to TOC
A11: Datasets and variables used
A12: Dataset | B12: hh
A13: Subset | B13: bloodtestcount ≥ 1
A14: Analytic Variables | B14: hivpositivecount
A15: Row stratification variables | B15: urban
A16: Column stratification variables | B16: <none>
A17: Weight variables | B17: hhwt0, hhwt001, …., hhwt[MAX]

Sheet 3.5
A1: Table 3.5: Prevalence of households with an HIV-positive head of household
A2: Percentage of households with an HIV-positive head of household by sex of head of household, [SURVEY ACRONYM] [YEAR(S)] | L2: [SURVEY ACRONYM, FIRST YEAR]_Table3_5.sas7bdat
A3: Sex of head of household | B3: Percent | C3: Number | L3: Order | M3: Row | N3: TotalP | O3: TotalN | P3: TotalJKseP | Q3: TotalNoverN | R3: TotalJKLCLP | S3: TotalJKUCLP
A4: Male | L4: 1 | M4: Male
A5: Female | L5: 2 | M5: Female
L6: 3
A7: Total | L7: 4 | M7: Total
A8: Return to TOC
A11: Datasets and variables used
A12: Dataset | B12: hh
A13: Subset | B13: householdheadhivpositive = 1, 2
A14: Analytic Variables | B14: householdheadhivpositive
A15: Row stratification variables | B15: householdheadgender
A16: Column stratification variables | B16: <none>
A17: Weight variables | B17: hhwt0, hhwt001, …., hhwt[MAX]

Sheet 4.1
A1: Table 4.1: Demographic characteristics of the adult population
A2: Percent distribution of the population aged [15 years and older / 15-[UPPER AGE LIMIT] years] by sex and selected demographic characteristics, [SURVEY ACRONYM] [YEAR(S)]
B3: Men | E3: Women | H3: Total | L3: [SURVEY ACRONYM, FIRST YEAR]_Table4_1.sas7bdat
A4: Characteristic | B4: Percent | C4: Number | E4: Percent | F4: Number | H4: Percent | I4: Number | L4: Order | M4: Row | N4: MaleP | O4: MaleN | P4: FemaleP | Q4: FemaleN | R4: TotalP | S4: TotalN | T4: MaleNoverN | U4: FemaleNoverN | V4: TotalNoverN
A5: Residence | L5: 1 | M5: =IF(A5<>"", A5, "") -> Residence
A6: Urban | L6: 2 | M6: =IF(A6<>"", A6, "") -> Urban
A7: Rural | L7: 3 | M7: =IF(A7<>"", A7, "") -> Rural
L8: 4 | M8: =IF(A8<>"", A8, "")
A9: [SUBNATIONAL AREA] | L9: 5 | M9: =IF(A9<>"", A9, "") -> [SUBNATIONAL AREA]
A10: [SNA 1] | L10: 6 | M10: =IF(A10<>"", A10, "") -> [SNA 1]
A11: [SNA 2] | L11: 7 | M11: =IF(A11<>"", A11, "") -> [SNA 2]
A12: [SNA 3] | L12: 8 | M12: =IF(A12<>"", A12, "") -> [SNA 3]
A13: [SNA 4] | L13: 9 | M13: =IF(A13<>"", A13, "") -> [SNA 4]
A14: [SNA 5] | L14: 10 | M14: =IF(A14<>"", A14, "") -> [SNA 5]
L15: 11 | M15: =IF(A15<>"", A15, "")
A16: Marital status | L16: 12 | M16: =IF(A16<>"", A16, "") -> Marital status
A17: Never married | L17: 13 | M17: =IF(A17<>"", A17, "") -> Never married
A18: Married or living together | L18: 14 | M18: =IF(A18<>"", A18, "") -> Married or living together
A19: Divorced or separated | L19: 15 | M19: =IF(A19<>"", A19, "") -> Divorced or separated
A20: Widowed | L20: 16 | M20: =IF(A20<>"", A20, "") -> Widowed
L21: 17 | M21: =IF(A21<>"", A21, "")
A22: Education | L22: 18 | M22: =IF(A22<>"", A22, "") -> Education
A23: No education | L23: 19 | M23: =IF(A23<>"", A23, "") -> No education
A24: Primary | L24: 20 | M24: =IF(A24<>"", A24, "") -> Primary
A25: Secondary | L25: 21 | M25: =IF(A25<>"", A25, "") -> Secondary
A26: More than secondary | L26: 22 | M26: =IF(A26<>"", A26, "") -> More than secondary
L27: 23 | M27: =IF(A27<>"", A27, "")
A28: Wealth quintile | L28: 24 | M28: =IF(A28<>"", A28, "") -> Wealth quintile
A29: Lowest | L29: 25 | M29: =IF(A29<>"", A29, "") -> Lowest
A30: Second | L30: 26 | M30: =IF(A30<>"", A30, "") -> Second
A31: Middle | L31: 27 | M31: =IF(A31<>"", A31, "") -> Middle
A32: Fourth | L32: 28 | M32: =IF(A32<>"", A32, "") -> Fourth
A33: Highest | L33: 29 | M33: =IF(A33<>"", A33, "") -> Highest
L34: 30 | M34: =IF(A34<>"", A34, "")
A35: Age | L35: 31 | M35: =IF(A35<>"", A35, "") -> Age
A36: 15-19 | L36: 32 | M36: =IF(A36<>"", A36, "") -> 15-19
A37: 20-24 | L37: 33 | M37: =IF(A37<>"", A37, "") -> 20-24
A38: 25-29 | L38: 34 | M38: =IF(A38<>"", A38, "") -> 25-29
A39: 30-34 | L39: 35 | M39: =IF(A39<>"", A39, "") -> 30-34
A40: 35-39 | L40: 36 | M40: =IF(A40<>"", A40, "") -> 35-39
...

Sheet 5.1
A1: Table 5.1: Annual HIV incidence using the recent infection testing algorithm
A2: Annual incidence of HIV among adults aged 15-49 and [15 years and older / 15-[UPPER AGE LIMIT], by sex and age, using the recent infection testing algorithm (limiting antigen plus viral load plus antiretroviral biomarker testing), [SURVEY ACRONYM] [YEAR(S)]
B3: Men | E3: Women | H3: Total | L3: [SURVEY ACRONYM, FIRST YEAR]_Table_5_1.sas7bdat
A4: Age | B4: Percentage annual incidence1 | C4: 95% CI | E4: Percentage annual incidence1 | F4: 95% CI | H4: Percentage annual incidence1 | I4: 95% CI | L4: Order | M4: Row | N4: MaleP | O4: MaleJKCI | P4: MaleRecN | Q4: MaleN | R4: FemaleP | S4: FemaleJKCI | T4: FemaleRecN | U4: FemaleN | V4: TotalP | W4: TotakJKCI | X4: TotalRecN | Y4: TotalN | Z4: MaleDEFF | AA4: FemaleDEFF | AB4: TotalDEFF | AC4: MaleJKLCLP | AD4: MaleJKUCLP | AE4: FemaleJKLCLP | AF4: FemaleJKUCLP | AG4: TotalJKLCLP | AH4: TotalJKUCLP | AI4: MaleADJLCLP | AJ4: MaleADJUCLP | AK4: FemaleADJLCLP | AL4: FemaleADJUCLP | AM4: TotalADJLCLP | AN4: TotalADJUCLP
A5: 15-24 | L5: 1 | M5: 15-24
A6: 25-34 | L6: 2 | M6: 25-34
A7: 35-49 | L7: 3 | M7: 35-49
A8: 50-[UPPER AGE LIMIT] | L8: 4 | M8: 50-[UPPER AGE LIMIT]
A10: 15-49 | L10: 5 | M10: 15-49
A11: 15-[UPPER AGE LIMIT] | L11: 6 | M11: =A11 -> 15-[UPPER AGE LIMIT]
A12: 1Relates to Global AIDS Monitoring [2020 / 2021] indicator 3.1: HIV incidence.
A13: Return to TOC
A16: Datasets and variables used
A17: Dataset | B17: adultbio
A18: Subset | B18: bt_status = 1
A19: Analytic Variables | B19: hivstatusfinal
B20: recentlagvlarv
A21: Row stratification variables | B21: age
A22: Column stratification variables | B22: gender
A23: Weight variables | B23: btwt0, btwt001, …., btwt[MAX]

Sheet 5.1.A
A1: Table 5.1.A: Annual HIV incidence auxiliary data: N, P, Q, R, MDRI, PFR, and T
A2: Annual incidence of HIV among adults aged 15-49 and [15 years and older / 15-[UPPER AGE LIMIT], by sex and age, using the recent infection testing algorithm (limiting antigen plus viral load plus antiretroviral biomarker testing), [SURVEY ACRONYM] [YEAR(S)]
B3: Men | L3: [SURVEY ACRONYM, FIRST YEAR]_Table_5_1_A.sas7bdat
A4: Age | B4: Number HIV negative1 (N) | C4: Number HIV positive1 (P) | D4: Number tested on LAg assay1 (Q) | E4: Number HIV recent1 (R) | L4: Order | M4: Row | N4: MaleN | O4: MaleP | P4: MaleQ | Q4: MaleR | R4: FemaleN | S4: FemaleP | T4: FemaleQ | U4: FemaleR | V4: TotalN | W4: TotalP | X4: TotalQ | Y4: TotalR
A5: 15-24 | L5: 1 | M5: 15-24
A6: 25-34 | L6: 2 | M6: 25-34
A7: 35-49 | L7: 3 | M7: 35-49
A8: 50-[UPPER AGE LIMIT] | L8: 4 | M8: 50-[UPPER AGE LIMIT]
L9: 5
A10: 15-49 | L10: 6 | M10: 15-49
A11: 15-[UPPER AGE LIMIT] | L11: 7 | M11: =A11 -> 15-[UPPER AGE LIMIT]
B12: Women
A13: Age | B13: Number HIV negative1 (N) | C13: Number HIV positive1 (P) | D13: Number tested on LAg assay1 (Q) | E13: Number HIV recent1 (R)
A14: 15-24
A15: 25-34
A16: 35-49
A17: 50-[UPPER AGE LIMIT]
A19: 15-49
A20: 15-[UPPER AGE LIMIT]
B21: Total
A22: Age | B22: Number HIV negative1 (N) | C22: Number HIV positive1 (P) | D22: Number tested on LAg assay1 (Q) | E22: Number HIV recent1 (R)
A23: 15-24
A24: 25-34
A25: 35-49
A26: 15-49
A27: 50-[UPPER AGE LIMIT]
A29: 15-49
A30: 15-[UPPER AGE LIMIT]
A31: 1Weighted number. Note: mean duration recent infection (MDRI) = [130 days (95% CI: 118-142 days) or country-specific]; proportion false recent (PFR) = 0.00; time cutoff (T) = 1 year.
A32: Return to TOC
A35: Datasets and variables used
A36: Dataset | B36: adultbio
A37: Subset | B37: bt_status = 1
A38: Analytic Variables | B38: hivstatusfinal
B39: recentlagvlarv
A40: Row stratification variables | B40: age
A41: Column stratification variables | B41: gender
A42: Weight variables | B42: btwt0, btwt001, …., btwt[MAX]

Sheet 5.2
A1: Table 5.2: Adults living with HIV and number of new HIV infections per year using the recent infection testing algorithm
A2: People living with HIV and number of new HIV infections per year among adults aged 15-49 years and [15 years and older / 15-[UPPER AGE LIMIT] years], by age, using the recent infection testing algorithm (limiting antigen plus viral load plus antiretroviral biomarker testing), [SURVEY ACRONYM] [YEAR(S)] | I2: [SURVEY ACRONYM, FIRST YEAR]_Table5_2.sas7bdat
A3: Age | B3: People living with HIV1 | C3: 95% CI | E3: Number of new infections per year | F3: 95% CI | I3: Order | J3: Row | K3: PLHIV | L3: PLHIVJKSEP | M3: PLHIVJKLCLP | N3: PLHIVJKUCLP | O3: NEWINF | P3: NEWINFJKSEP | Q3: NEWINFJKLCLP | R3: NEWINFJKUCLP
A4: 15-24 | I4: 1 | J4: 15-24
A5: 25-34 | I5: 2 | J5: 25-34
A6: 35-49 | I6: 3 | J6: 35-49
A7: 50-[UPPER AGE LIMIT] | I7: =I6+1 -> 4 | J7: =A7 -> 50-[UPPER AGE LIMIT]
I8: =I7+1 -> 5
A9: 15-49 | I9: =I8+1 -> 6 | J9: 15-49
A10: 15-[UPPER AGE LIMIT] | I10: =I9+1 -> 7 | J10: =A10 -> 15-[UPPER AGE LIMIT]
A11: 1People living with HIV is calculated as the weighted total number of HIV positive people, equivalent to multiplying the HIV prevalence by the population count.
A12: Return to TOC
A15: Datasets and variables used
A16: Dataset | B16: adultbio
A17: Subset | B17: bt_status = 1
A18: Analytic Variables | B18: hivstatusfinal
B19: recentlagvlarv
A20: Row stratification variables | B20: age
A21: Column stratification variables | B21: gender
A22: Weight variables | B22: btwt0, btwt001, …., btwt[MAX]

Sheet 6.1
A1: Table 6.1: HIV prevalence by demographic characteristics: Adults aged 15-49 years
A2: Prevalence of HIV among adults aged 15-49 years by sex and selected demographic characteristics, [SURVEY ACRONYM] [YEAR(S)]
B3: Men | E3: Women | H3: Total | L3: [SURVEY ACRONYM, FIRST YEAR]_Table6_1.sas7bdat
A4: Characteristic | B4: Percentage HIV positive | C4: Number | E4: Percentage HIV positive | F4: Number | H4: Percentage HIV positive | I4: Number | L4: Order | M4: Row | N4: MaleP | O4: MaleN | P4: FemaleP | Q4: FemaleN | R4: TotalP | S4: TotalN | T4: MaleJKseP | U4: FemaleJKseP | V4: TotalJKseP | W4: MaleNoverN | X4: FemaleNoverN | Y4: TotalNoverN | Z4: MaleJKLCLP | AA4: MaleJKUCLP | AB4: FemaleJKLCLP | AC4: FemaleJKUCLP | AD4: TotalJKLCLP | AE4: TotalJKUCLP
A5: Residence | L5: 1 | M5: =IF(A5<>"", A5, "") -> Residence
A6: Urban | L6: 2 | M6: =IF(A6<>"", A6, "") -> Urban
A7: Rural | L7: 3 | M7: =IF(A7<>"", A7, "") -> Rural
L8: 4 | M8: =IF(A8<>"", A8, "")
A9: [SUBNATIONAL AREA] | L9: 5 | M9: =IF(A9<>"", A9, "") -> [SUBNATIONAL AREA]
A10: [SNA 1] | L10: 6 | M10: =IF(A10<>"", A10, "") -> [SNA 1]
A11: [SNA 2] | L11: 7 | M11: =IF(A11<>"", A11, "") -> [SNA 2]
A12: [SNA 3] | L12: 8 | M12: =IF(A12<>"", A12, "") -> [SNA 3]
A13: [SNA 4] | L13: 9 | M13: =IF(A13<>"", A13, "") -> [SNA 4]
A14: [SNA 5] | L14: 10 | M14: =IF(A14<>"", A14, "") -> [SNA 5]
L15: 11 | M15: =IF(A15<>"", A15, "")
A16: Marital status | L16: 12 | M16: =IF(A16<>"", A16, "") -> Marital status
A17: Never married | L17: 13 | M17: =IF(A17<>"", A17, "") -> Never married
A18: Married or living together | L18: 14 | M18: =IF(A18<>"", A18, "") -> Married or living together
A19: Divorced or separated | L19: 15 | M19: =IF(A19<>"", A19, "") -> Divorced or separated
A20: Widowed | L20: 16 | M20: =IF(A20<>"", A20, "") -> Widowed
L21: 17 | M21: =IF(A21<>"", A21, "")
A22: Education | L22: 18 | M22: =IF(A22<>"", A22, "") -> Education
A23: No education | L23: 19 | M23: =IF(A23<>"", A23, "") -> No education
A24: Primary | L24: 20 | M24: =IF(A24<>"", A24, "") -> Primary
A25: Secondary | L25: 21 | M25: =IF(A25<>"", A25, "") -> Secondary
A26: More than secondary | L26: 22 | M26: =IF(A26<>"", A26, "") -> More than secondary
L27: 23 | M27: =IF(A27<>"", A27, "")
A28: Wealth quintile | L28: 24 | M28: =IF(A28<>"", A28, "") -> Wealth quintile
A29: Lowest | L29: 25 | M29: =IF(A29<>"", A29, "") -> Lowest
A30: Second | L30: 26 | M30: =IF(A30<>"", A30, "") -> Second
A31: Middle | L31: 27 | M31: =IF(A31<>"", A31, "") -> Middle
A32: Fourth | L32: 28 | M32: =IF(A32<>"", A32, "") -> Fourth
A33: Highest | L33: 29 | M33: =IF(A33<>"", A33, "") -> Highest
L34: =L33+1 -> 30 | M34: =IF(A34<>"", A34, "")
A35: Pregnancy status | L35: =L34+1 -> 31 | M35: =IF(A35<>"", A35, "") -> Pregnancy status
A36: Currently pregnant | B36: NA | C36: NA | H36: NA | I36: NA | L36: =L35+1 -> 32 | M36: =IF(A36<>"", A36, "") -> Currently pregnant
A37: Not currently pregnant | B37: NA | C37: NA | H37: NA | I37: NA | L37: =L36+1 -> 33 | M37: =IF(A37<>"", A37, "") -> Not currently pregnant
L38: =L37+1 -> 34 | M38: =IF(A38<>"", A38, "")
A39: Total 15-49 | L39: =L38+1 -> 35 | M39: =IF(A39<>"", A39, "") -> Total 15-49
A40: Note: Education categories refer to the highest level of education attended, whether or not that level was completed.
...

Sheet 6.2
A1: Table 6.2: HIV prevalence by demographic characteristics: Adults aged 15-[UPPER AGE LIMIT] years
A2: Prevalence of HIV among adults aged [15 years and older / 15-[UPPER AGE LIMIT] years] by sex and selected demographic characteristics, [SURVEY ACRONYM] [YEAR(S)]
B3: Men | E3: Women | H3: Total | L3: [SURVEY ACRONYM, FIRST YEAR]_Table6_2.sas7bdat
A4: Characteristic | B4: Percentage HIV positive | C4: Number | E4: Percentage HIV positive | F4: Number | H4: Percentage HIV positive | I4: Number | L4: Order | M4: Row | N4: MaleP | O4: MaleN | P4: FemaleP | Q4: FemaleN | R4: TotalP | S4: TotalN | T4: MaleJKseP | U4: FemaleJKseP | V4: TotalJKseP | W4: MaleNoverN | X4: FemaleNoverN | Y4: TotalNoverN | Z4: MaleJKLCLP | AA4: MaleJKUCLP | AB4: FemaleJKLCLP | AC4: FemaleJKUCLP | AD4: TotalJKLCLP | AE4: TotalJKUCLP
A5: Residence | L5: 1 | M5: =IF(A5<>"", A5, "") -> Residence
A6: Urban | L6: 2 | M6: =IF(A6<>"", A6, "") -> Urban
A7: Rural | L7: 3 | M7: =IF(A7<>"", A7, "") -> Rural
L8: 4 | M8: =IF(A8<>"", A8, "")
A9: [SUBNATIONAL AREA] | L9: 5 | M9: =IF(A9<>"", A9, "") -> [SUBNATIONAL AREA]
A10: [SNA 1] | L10: 6 | M10: =IF(A10<>"", A10, "") -> [SNA 1]
A11: [SNA 2] | L11: 7 | M11: =IF(A11<>"", A11, "") -> [SNA 2]
A12: [SNA 3] | L12: 8 | M12: =IF(A12<>"", A12, "") -> [SNA 3]
A13: [SNA 4] | L13: 9 | M13: =IF(A13<>"", A13, "") -> [SNA 4]
A14: [SNA 5] | L14: 10 | M14: =IF(A14<>"", A14, "") -> [SNA 5]
L15: 11 | M15: =IF(A15<>"", A15, "")
A16: Marital status | L16: 12 | M16: =IF(A16<>"", A16, "") -> Marital status
A17: Never married | L17: 13 | M17: =IF(A17<>"", A17, "") -> Never married
A18: Married or living together | L18: 14 | M18: =IF(A18<>"", A18, "") -> Married or living together
A19: Divorced or separated | L19: 15 | M19: =IF(A19<>"", A19, "") -> Divorced or separated
A20: Widowed | L20: 16 | M20: =IF(A20<>"", A20, "") -> Widowed
L21: 17 | M21: =IF(A21<>"", A21, "")
A22: Education | L22: 18 | M22: =IF(A22<>"", A22, "") -> Education
A23: No education | L23: 19 | M23: =IF(A23<>"", A23, "") -> No education
A24: Primary | L24: 20 | M24: =IF(A24<>"", A24, "") -> Primary
A25: Secondary | L25: 21 | M25: =IF(A25<>"", A25, "") -> Secondary
A26: More than secondary | L26: 22 | M26: =IF(A26<>"", A26, "") -> More than secondary
L27: 23 | M27: =IF(A27<>"", A27, "")
A28: Wealth quintile | L28: 24 | M28: =IF(A28<>"", A28, "") -> Wealth quintile
A29: Lowest | L29: 25 | M29: =IF(A29<>"", A29, "") -> Lowest
A30: Second | L30: 26 | M30: =IF(A30<>"", A30, "") -> Second
A31: Middle | L31: 27 | M31: =IF(A31<>"", A31, "") -> Middle
A32: Fourth | L32: 28 | M32: =IF(A32<>"", A32, "") -> Fourth
A33: Highest | L33: 29 | M33: =IF(A33<>"", A33, "") -> Highest
L34: =L33+1 -> 30 | M34: =IF(A34<>"", A34, "")
A35: Pregnancy status | L35: =L34+1 -> 31 | M35: =IF(A35<>"", A35, "") -> Pregnancy status
A36: Currently pregnant | B36: NA | C36: NA | H36: NA | I36: NA | L36: =L35+1 -> 32 | M36: =IF(A36<>"", A36, "") -> Currently pregnant
A37: Not currently pregnant | B37: NA | C37: NA | H37: NA | I37: NA | L37: =L36+1 -> 33 | M37: =IF(A37<>"", A37, "") -> Not currently pregnant
L38: =L37+1 -> 34 | M38: =IF(A38<>"", A38, "")
A39: Total 15-[UPPER AGE LIMIT] | L39: =L38+1 -> 35 | M39: =IF(A39<>"", A39, "") -> Total 15-[UPPER AGE LIMIT]
A40: Note: Education categories refer to the highest level of education attended, whether or not that level was completed.
...

Sheet 6.3
A1: Table 6.3: HIV prevalence by age
A2: Prevalence of HIV among adults aged [15 years and older / 15-[UPPER AGE LIMIT] years] by sex and age, [SURVEY ACRONYM] [YEAR(S)]
B3: Men | E3: Women | H3: Total | L3: [SURVEY ACRONYM, FIRST YEAR]_Table6_3.sas7bdat
A4: Age | B4: Percentage HIV positive | C4: Number | E4: Percentage HIV positive | F4: Number | H4: Percentage HIV positive | I4: Number | L4: Order | M4: Row | N4: MaleP | O4: MaleN | P4: FemaleP | Q4: FemaleN | R4: TotalP | S4: TotalN | T4: MaleJKseP | U4: FemaleJKseP | V4: TotalJKseP | W4: MaleNoverN | X4: FemaleNoverN | Y4: TotalNoverN | Z4: MaleJKLCLP | AA4: MaleJKUCLP | AB4: FemaleJKLCLP | AC4: FemaleJKUCLP | AD4: TotalJKLCLP | AE4: TotalJKUCLP
A5: 15-19 | L5: 1 | M5: =IF(A5<>"", A5, "") -> 15-19
A6: 20-24 | L6: 2 | M6: =IF(A6<>"", A6, "") -> 20-24
A7: 25-29 | L7: 3 | M7: =IF(A7<>"", A7, "") -> 25-29
A8: 30-34 | L8: =L7+1 -> 4 | M8: =IF(A8<>"", A8, "") -> 30-34
A9: 35-39 | L9: =L8+1 -> 5 | M9: =IF(A9<>"", A9, "") -> 35-39
A10: 40-44 | L10: =L9+1 -> 6 | M10: =IF(A10<>"", A10, "") -> 40-44
A11: 45-49 | L11: =L10+1 -> 7 | M11: =IF(A11<>"", A11, "") -> 45-49
A12: 50-54 | L12: =L11+1 -> 8 | M12: =IF(A12<>"", A12, "") -> 50-54
A13: 55-59 | L13: =L12+1 -> 9 | M13: =IF(A13<>"", A13, "") -> 55-59
A14: 60-64 | L14: =L13+1 -> 10 | M14: =IF(A14<>"", A14, "") -> 60-64
A15: 65+ | L15: =L14+1 -> 11 | M15: =IF(A15<>"", A15, "") -> 65+
L16: =L15+1 -> 12 | M16: =IF(A16<>"", A16, "")
A17: Total 15-24 | L17: =L16+1 -> 13 | M17: =IF(A17<>"", A17, "") -> Total 15-24
A18: Total 15-49 | L18: =L17+1 -> 14 | M18: =IF(A18<>"", A18, "") -> Total 15-49
A19: Total 50-[UPPER AGE LIMIT] | L19: =L18+1 -> 15 | M19: =IF(A19<>"", A19, "") -> Total 50-[UPPER AGE LIMIT]
A20: Total 15-[UPPER AGE LIMIT] | L20: =L19+1 -> 16 | M20: =IF(A20<>"", A20, "") -> Total 15-[UPPER AGE LIMIT]
A21: Return to TOC
A24: Datasets and variables used
A25: Dataset | B25: adultbio
A26: Subset | B26: bt_status = 1
A27: Analytic Variables | B27: hivstatusfinal
A28: Row stratification variables | B28: agegroup
B29: age15_24, age15_49, age50_up, age15_up (age)
A30: Column stratification variables | B30: gender
A31: Weight variables | B31: btwt0, btwt001, …., btwt[MAX]

Sheet 7.1.A
A1: Table 7.1.A: Self-reported HIV testing: Men
A2: Percentage of men aged [15 years and older / 15-[UPPER AGE LIMIT] years] who reported they had ever received an HIV test, and percentage who reported they had received an HIV test in the 12 months before the survey, by result of [SURVEY ACRONYM] HIV test and selected demographic characteristics, [SURVEY ACRONYM] [YEAR(S)]
A3: Characteristic | B3: Among all men | F3: Among men who did not report an HIV-positive status | P3: [SURVEY ACRONYM, FIRST YEAR]_Table7_1_A.sas7bdat
B4: Percentage who had ever received an HIV test | C4: Percentage who received an HIV test in the 12 months before the survey1 | D4: Number | F4: Percentage who had ever received an HIV test | G4: Percentage who received an HIV test in the 12 months before the survey1 | H4: Number | P4: Order | Q4: row | R4: HIVTestP | S4: HIVTest12moP | T4: TotalN | U4: NotSRPosHIVTestP | V4: NotSRPosHIVTest12moP | W4: NotSRPosHIVN | X4: HIVTestJKseP | Y4: HIVTest12moJKseP | Z4: NotSRPosHIVTestJKseP | AA4: NotSRPosHIVTest12moJKseP | AB4: HIVTestNoverN | AC4: HIVTest12moNoverN | AD4: NotSRPosHIVTestNoverN | AE4: NotSRPosHIVTest12moNoverN | AF4: HIVTestJKLCLP | AG4: HIVTestJKUCLP | AH4: HIVTest12moJKLCLP | AI4: HIVTest12moJKUCLP | AJ4: NotSRPosHIVTestJKLCLP | AK4: NotSRPosHIVTestJKUCLP | AL4: NotSRPosHIVTest12moJKCLP | AM4: NotSRPosHIVTest12moJKUCLP
A5: Result of [SURVEY ACRONYM] HIV test | P5: 1 | Q5: Result of [SURVEY ACRONYM] HIV test
A6: HIV positive | P6: =P5+1 -> 2 | Q6: =IF(A6<>"", A6, "") -> HIV positive
A7: HIV negative | P7: =P6+1 -> 3 | Q7: =IF(A7<>"", A7, "") -> HIV negative
A8: Not tested | P8: =P7+1 -> 4 | Q8: =IF(A8<>"", A8, "") -> Not tested
P9: =P8+1 -> 5 | Q9: =IF(A9<>"", A9, "")
A10: Residence | P10: =P9+1 -> 6 | Q10: =IF(A10<>"", A10, "") -> Residence
A11: Urban | P11: =P10+1 -> 7 | Q11: =IF(A11<>"", A11, "") -> Urban
A12: Rural | P12: =P11+1 -> 8 | Q12: =IF(A12<>"", A12, "") -> Rural
P13: =P12+1 -> 9 | Q13: =IF(A13<>"", A13, "")
A14: [SUBNATIONAL AREA] | P14: =P13+1 -> 10 | Q14: =IF(A14<>"", A14, "") -> [SUBNATIONAL AREA]
A15: [SNA 1] | P15: =P14+1 -> 11 | Q15: =IF(A15<>"", A15, "") -> [SNA 1]
A16: [SNA 2] | P16: =P15+1 -> 12 | Q16: =IF(A16<>"", A16, "") -> [SNA 2]
A17: [SNA 3] | P17: =P16+1 -> 13 | Q17: =IF(A17<>"", A17, "") -> [SNA 3]
A18: [SNA 4] | P18: =P17+1 -> 14 | Q18: =IF(A18<>"", A18, "") -> [SNA 4]
A19: [SNA 5] | P19: =P18+1 -> 15 | Q19: =IF(A19<>"", A19, "") -> [SNA 5]
P20: =P19+1 -> 16 | Q20: =IF(A20<>"", A20, "")
A21: Marital status | P21: =P20+1 -> 17 | Q21: =IF(A21<>"", A21, "") -> Marital status
A22: Never married | P22: =P21+1 -> 18 | Q22: =IF(A22<>"", A22, "") -> Never married
A23: Married or living together | P23: =P22+1 -> 19 | Q23: =IF(A23<>"", A23, "") -> Married or living together
A24: Divorced or separated | P24: =P23+1 -> 20 | Q24: =IF(A24<>"", A24, "") -> Divorced or separated
A25: Widowed | P25: =P24+1 -> 21 | Q25: =IF(A25<>"", A25, "") -> Widowed
P26: =P25+1 -> 22 | Q26: =IF(A26<>"", A26, "")
A27: Education | P27: =P26+1 -> 23 | Q27: =IF(A27<>"", A27, "") -> Education
A28: No education | P28: =P27+1 -> 24 | Q28: =IF(A28<>"", A28, "") -> No education
A29: Primary | P29: =P28+1 -> 25 | Q29: =IF(A29<>"", A29, "") -> Primary
A30: Secondary | P30: =P29+1 -> 26 | Q30: =IF(A30<>"", A30, "") -> Secondary
A31: More than secondary | P31: =P30+1 -> 27 | Q31: =IF(A31<>"", A31, "") -> More than secondary
P32: =P31+1 -> 28 | Q32: =IF(A32<>"", A32, "")
A33: Wealth quintile | P33: =P32+1 -> 29 | Q33: =IF(A33<>"", A33, "") -> Wealth quintile
A34: Lowest | P34: =P33+1 -> 30 | Q34: =IF(A34<>"", A34, "") -> Lowest
A35: Second | P35: =P34+1 -> 31 | Q35: =IF(A35<>"", A35, "") -> Second
A36: Middle | P36: =P35+1 -> 32 | Q36: =IF(A36<>"", A36, "") -> Middle
A37: Fourth | P37: =P36+1 -> 33 | Q37: =IF(A37<>"", A37, "") -> Fourth
A38: Highest | P38: =P37+1 -> 34 | Q38: =IF(A38<>"", A38, "") -> Highest
P39: =P38+1 -> 35 | Q39: =IF(A39<>"", A39, "")
A40: Age | P40: =P39+1 -> 36 | Q40: =IF(A40<>"", A40, "") -> Age
...

Sheet 7.1.B
A1: Table 7.1.B: Self-reported HIV testing: Women
A2: Percentage of women aged [15 years and older / 15-[UPPER AGE LIMIT] years] who reported they had ever received an HIV test, and percentage who reported that they had received an HIV test in the 12 months before the survey, by result of [SURVEY ACRONYM] HIV test and selected demographic characteristics, [SURVEY ACRONYM] [YEAR(S)]
A3: Characteristic | B3: Among all women | F3: Among women who did not report an HIV-positive status | M3: [SURVEY ACRONYM, FIRST YEAR]_Table7_1_B.sas7bdat
B4: Percentage who had ever received an HIV test | C4: Percentage who received an HIV test in the 12 months before the survey1 | D4: Number | F4: Percentage who had ever received an HIV test | G4: Percentage who received an HIV test in the 12 months before the survey1 | H4: Number | M4: Order | N4: row | O4: HIVTestP | P4: HIVTest12moP | Q4: TotalN | R4: NotSRPosHIVTestP | S4: NotSRPosHIVTest12moP | T4: NotSRPosHIVN | U4: HIVTestJKseP | V4: HIVTest12moJKseP | W4: NotSRPosHIVTestJKseP | X4: NotSRPosHIVTest12moJKseP | Y4: HIVTestNoverN | Z4: HIVTest12moNoverN | AA4: NotSRPosHIVTestNoverN | AB4: NotSRPosHIVTest12moNoverN | AC4: HIVTestJKLCLP | AD4: HIVTestJKUCLP | AE4: HIVTest12moJKLCLP | AF4: HIVTest12moJKUCLP | AG4: NotSRPosHIVTestJKLCLP | AH4: NotSRPosHIVTestJKUCLP | AI4: NotSRPosHIVTest12moJKCLP | AJ4: NotSRPosHIVTest12moJKUCLP
A5: Result of [SURVEY ACRONYM] HIV test | M5: 1 | N5: Result of [SURVEY ACRONYM] HIV test
A6: HIV positive | M6: =M5+1 -> 2 | N6: =IF(A6<>"", A6, "") -> HIV positive
A7: HIV negative | M7: =M6+1 -> 3 | N7: =IF(A7<>"", A7, "") -> HIV negative
A8: Not tested | M8: =M7+1 -> 4 | N8: =IF(A8<>"", A8, "") -> Not tested
M9: =M8+1 -> 5 | N9: =IF(A9<>"", A9, "")
A10: Residence | M10: =M9+1 -> 6 | N10: =IF(A10<>"", A10, "") -> Residence
A11: Urban | M11: =M10+1 -> 7 | N11: =IF(A11<>"", A11, "") -> Urban
A12: Rural | M12: =M11+1 -> 8 | N12: =IF(A12<>"", A12, "") -> Rural
M13: =M12+1 -> 9 | N13: =IF(A13<>"", A13, "")
A14: [SUBNATIONAL AREA] | M14: =M13+1 -> 10 | N14: =IF(A14<>"", A14, "") -> [SUBNATIONAL AREA]
A15: [SNA 1] | M15: =M14+1 -> 11 | N15: =IF(A15<>"", A15, "") -> [SNA 1]
A16: [SNA 2] | M16: =M15+1 -> 12 | N16: =IF(A16<>"", A16, "") -> [SNA 2]
A17: [SNA 3] | M17: =M16+1 -> 13 | N17: =IF(A17<>"", A17, "") -> [SNA 3]
A18: [SNA 4] | M18: =M17+1 -> 14 | N18: =IF(A18<>"", A18, "") -> [SNA 4]
A19: [SNA 5] | M19: =M18+1 -> 15 | N19: =IF(A19<>"", A19, "") -> [SNA 5]
M20: =M19+1 -> 16 | N20: =IF(A20<>"", A20, "")
A21: Marital status | M21: =M20+1 -> 17 | N21: =IF(A21<>"", A21, "") -> Marital status
A22: Never married | M22: =M21+1 -> 18 | N22: =IF(A22<>"", A22, "") -> Never married
A23: Married or living together | M23: =M22+1 -> 19 | N23: =IF(A23<>"", A23, "") -> Married or living together
A24: Divorced or separated | M24: =M23+1 -> 20 | N24: =IF(A24<>"", A24, "") -> Divorced or separated
A25: Widowed | M25: =M24+1 -> 21 | N25: =IF(A25<>"", A25, "") -> Widowed
M26: =M25+1 -> 22 | N26: =IF(A26<>"", A26, "")
A27: Education | M27: =M26+1 -> 23 | N27: =IF(A27<>"", A27, "") -> Education
A28: No education | M28: =M27+1 -> 24 | N28: =IF(A28<>"", A28, "") -> No education
A29: Primary | M29: =M28+1 -> 25 | N29: =IF(A29<>"", A29, "") -> Primary
A30: Secondary | M30: =M29+1 -> 26 | N30: =IF(A30<>"", A30, "") -> Secondary
A31: More than secondary | M31: =M30+1 -> 27 | N31: =IF(A31<>"", A31, "") -> More than secondary
M32: =M31+1 -> 28 | N32: =IF(A32<>"", A32, "")
A33: Wealth quintile | M33: =M32+1 -> 29 | N33: =IF(A33<>"", A33, "") -> Wealth quintile
A34: Lowest | M34: =M33+1 -> 30 | N34: =IF(A34<>"", A34, "") -> Lowest
A35: Second | M35: =M34+1 -> 31 | N35: =IF(A35<>"", A35, "") -> Second
A36: Middle | M36: =M35+1 -> 32 | N36: =IF(A36<>"", A36, "") -> Middle
A37: Fourth | M37: =M36+1 -> 33 | N37: =IF(A37<>"", A37, "") -> Fourth
A38: Highest | M38: =M37+1 -> 34 | N38: =IF(A38<>"", A38, "") -> Highest
M39: =M38+1 -> 35 | N39: =IF(A39<>"", A39, "")
A40: Age | M40: =M39+1 -> 36 | N40: =IF(A40<>"", A40, "") -> Age
...

Sheet 7.1.C
A1: Table 7.1.C: Self-reported HIV testing: Total
A2: Percentage of adults aged [15 years and older / 15-[UPPER AGE LIMIT] years] who reported they had ever received an HIV test, and percentage who reported that they had received an HIV test in the 12 months before the survey, by result of [SURVEY ACRONYM] HIV test and selected demographic characteristics, [SURVEY ACRONYM] [YEAR(S)]
A3: Characteristic | B3: Among all adults | F3: Among adults who did not self-report HIV positive | P3: [SURVEY ACRONYM, FIRST YEAR]_Table7_1_C.sas7bdat
B4: Percentage who had ever received an HIV test | C4: Percentage who received an HIV test in the 12 months before the survey1 | D4: Number | F4: Percentage who had ever received an HIV test | G4: Percentage who received an HIV test in the 12 months before the survey1 | H4: Number | P4: Order | Q4: row | R4: HIVTestP | S4: HIVTest12moP | T4: TotalN | U4: NotSRPosHIVTestP | V4: NotSRPosHIVTest12moP | W4: NotSRPosHIVN | X4: HIVTestJKseP | Y4: HIVTest12moJKseP | Z4: NotSRPosHIVTestJKseP | AA4: NotSRPosHIVTest12moJKseP | AB4: HIVTestNoverN | AC4: HIVTest12moNoverN | AD4: NotSRPosHIVTestNoverN | AE4: NotSRPosHIVTest12moNoverN | AF4: HIVTestJKLCLP | AG4: HIVTestJKUCLP | AH4: HIVTest12moJKLCLP | AI4: HIVTest12moJKUCLP | AJ4: NotSRPosHIVTestJKLCLP | AK4: NotSRPosHIVTestJKUCLP | AL4: NotSRPosHIVTest12moJKCLP | AM4: NotSRPosHIVTest12moJKUCLP
A5: Result of [SURVEY ACRONYM] HIV test | P5: 1 | Q5: Result of [SURVEY ACRONYM] HIV test
A6: HIV positive | P6: =P5+1 -> 2 | Q6: =IF(A6<>"", A6, "") -> HIV positive
A7: HIV negative | P7: =P6+1 -> 3 | Q7: =IF(A7<>"", A7, "") -> HIV negative
A8: Not tested | P8: =P7+1 -> 4 | Q8: =IF(A8<>"", A8, "") -> Not tested
P9: =P8+1 -> 5 | Q9: =IF(A9<>"", A9, "")
A10: Residence | P10: =P9+1 -> 6 | Q10: =IF(A10<>"", A10, "") -> Residence
A11: Urban | P11: =P10+1 -> 7 | Q11: =IF(A11<>"", A11, "") -> Urban
A12: Rural | P12: =P11+1 -> 8 | Q12: =IF(A12<>"", A12, "") -> Rural
P13: =P12+1 -> 9 | Q13: =IF(A13<>"", A13, "")
A14: [SUBNATIONAL AREA] | P14: =P13+1 -> 10 | Q14: =IF(A14<>"", A14, "") -> [SUBNATIONAL AREA]
A15: [SNA 1] | P15: =P14+1 -> 11 | Q15: =IF(A15<>"", A15, "") -> [SNA 1]
A16: [SNA 2] | P16: =P15+1 -> 12 | Q16: =IF(A16<>"", A16, "") -> [SNA 2]
A17: [SNA 3] | P17: =P16+1 -> 13 | Q17: =IF(A17<>"", A17, "") -> [SNA 3]
A18: [SNA 4] | P18: =P17+1 -> 14 | Q18: =IF(A18<>"", A18, "") -> [SNA 4]
A19: [SNA 5] | P19: =P18+1 -> 15 | Q19: =IF(A19<>"", A19, "") -> [SNA 5]
P20: =P19+1 -> 16 | Q20: =IF(A20<>"", A20, "")
A21: Marital status | P21: =P20+1 -> 17 | Q21: =IF(A21<>"", A21, "") -> Marital status
A22: Never married | P22: =P21+1 -> 18 | Q22: =IF(A22<>"", A22, "") -> Never married
A23: Married or living together | P23: =P22+1 -> 19 | Q23: =IF(A23<>"", A23, "") -> Married or living together
A24: Divorced or separated | P24: =P23+1 -> 20 | Q24: =IF(A24<>"", A24, "") -> Divorced or separated
A25: Widowed | P25: =P24+1 -> 21 | Q25: =IF(A25<>"", A25, "") -> Widowed
P26: =P25+1 -> 22 | Q26: =IF(A26<>"", A26, "")
A27: Education | P27: =P26+1 -> 23 | Q27: =IF(A27<>"", A27, "") -> Education
A28: No education | P28: =P27+1 -> 24 | Q28: =IF(A28<>"", A28, "") -> No education
A29: Primary | P29: =P28+1 -> 25 | Q29: =IF(A29<>"", A29, "") -> Primary
A30: Secondary | P30: =P29+1 -> 26 | Q30: =IF(A30<>"", A30, "") -> Secondary
A31: More than secondary | P31: =P30+1 -> 27 | Q31: =IF(A31<>"", A31, "") -> More than secondary
P32: =P31+1 -> 28 | Q32: =IF(A32<>"", A32, "")
A33: Wealth quintile | P33: =P32+1 -> 29 | Q33: =IF(A33<>"", A33, "") -> Wealth quintile
A34: Lowest | P34: =P33+1 -> 30 | Q34: =IF(A34<>"", A34, "") -> Lowest
A35: Second | P35: =P34+1 -> 31 | Q35: =IF(A35<>"", A35, "") -> Second
A36: Middle | P36: =P35+1 -> 32 | Q36: =IF(A36<>"", A36, "") -> Middle
A37: Fourth | P37: =P36+1 -> 33 | Q37: =IF(A37<>"", A37, "") -> Fourth
A38: Highest | P38: =P37+1 -> 34 | Q38: =IF(A38<>"", A38, "") -> Highest
P39: =P38+1 -> 35 | Q39: =IF(A39<>"", A39, "")
A40: Age | P40: =P39+1 -> 36 | Q40: =IF(A40<>"", A40, "") -> Age
...

Sheet 7.2.A
A1: Table 7.2.A: HIV diagnosis and treatment status: Men
A2: Percent distribution of HIV-positive men aged, [15 years and older / 15-[UPPER AGE LIMIT] years], diagnosed and on treatment based on self-reported HIV status and antiretroviral therapy (ART) use (adjusted by detection of an antiretroviral in blood), by selected demographic characteristics, [SURVEY ACRONYM] [YEAR(S)] | L2: [SURVEY ACRONYM, FIRST YEAR]_Table7_2_A.sas7bdat
A3: Characteristic | B3: Unaware of HIV status | C3: Aware of HIV status and not on ART | D3: Aware of HIV status and on ART1 | E3: Total | F3: Number | L3: Order | M3: Row | N3: UnawareHIVP | O3: NotOnARTP | P3: OnARTP | Q3: TotalP | R3: TotalN | S3: MissingN | T3: UnawareHIVJKseP | U3: NotOnARTJKseP | V3: OnARTJKseP | W3: UnawareHIVNoverN | X3: NotOnARTNoverN | Y3: OnARTNoverN | Z3: UnawareHIVJKLCLP | AA3: UnawareHIVJKUCLP | AB3: NotOnARTJKLCLP | AC3: NotOnARTJKUCLP | AD3: OnARTJKLCLP | AE3: OnARTJKUCLP
A4: Residence | L4: 1 | M4: =IF(A4<>"", A4, "") -> Residence
A5: Urban | E5: 100 | L5: =L4+1 -> 2 | M5: =IF(A5<>"", A5, "") -> Urban
A6: Rural | E6: 100 | L6: =L5+1 -> 3 | M6: =IF(A6<>"", A6, "") -> Rural
L7: =L6+1 -> 4 | M7: =IF(A7<>"", A7, "")
A8: [SUBNATIONAL AREA] | L8: =L7+1 -> 5 | M8: =IF(A8<>"", A8, "") -> [SUBNATIONAL AREA]
A9: [SNA 1] | E9: 100 | L9: =L8+1 -> 6 | M9: =IF(A9<>"", A9, "") -> [SNA 1]
A10: [SNA 2] | E10: 100 | L10: =L9+1 -> 7 | M10: =IF(A10<>"", A10, "") -> [SNA 2]
A11: [SNA 3] | E11: 100 | L11: =L10+1 -> 8 | M11: =IF(A11<>"", A11, "") -> [SNA 3]
A12: [SNA 4] | E12: 100 | L12: =L11+1 -> 9 | M12: =IF(A12<>"", A12, "") -> [SNA 4]
A13: [SNA 5] | E13: 100 | L13: =L12+1 -> 10 | M13: =IF(A13<>"", A13, "") -> [SNA 5]
L14: =L13+1 -> 11 | M14: =IF(A14<>"", A14, "")
A15: Marital status | L15: =L14+1 -> 12 | M15: =IF(A15<>"", A15, "") -> Marital status
A16: Never married | E16: 100 | L16: =L15+1 -> 13 | M16: =IF(A16<>"", A16, "") -> Never married
A17: Married or living together | E17: 100 | L17: =L16+1 -> 14 | M17: =IF(A17<>"", A17, "") -> Married or living together
A18: Divorced or separated | E18: 100 | L18: =L17+1 -> 15 | M18: =IF(A18<>"", A18, "") -> Divorced or separated
A19: Widowed | E19: 100 | L19: =L18+1 -> 16 | M19: =IF(A19<>"", A19, "") -> Widowed
L20: =L19+1 -> 17 | M20: =IF(A20<>"", A20, "")
A21: Education | L21: =L20+1 -> 18 | M21: =IF(A21<>"", A21, "") -> Education
A22: No education | E22: 100 | L22: =L21+1 -> 19 | M22: =IF(A22<>"", A22, "") -> No education
A23: Primary | E23: 100 | L23: =L22+1 -> 20 | M23: =IF(A23<>"", A23, "") -> Primary
A24: Secondary | E24: 100 | L24: =L23+1 -> 21 | M24: =IF(A24<>"", A24, "") -> Secondary
A25: More than secondary | E25: 100 | L25: =L24+1 -> 22 | M25: =IF(A25<>"", A25, "") -> More than secondary
L26: =L25+1 -> 23 | M26: =IF(A26<>"", A26, "")
A27: Wealth quintile | L27: =L26+1 -> 24 | M27: =IF(A27<>"", A27, "") -> Wealth quintile
A28: Lowest | E28: 100 | L28: =L27+1 -> 25 | M28: =IF(A28<>"", A28, "") -> Lowest
A29: Second | E29: 100 | L29: =L28+1 -> 26 | M29: =IF(A29<>"", A29, "") -> Second
A30: Middle | E30: 100 | L30: =L29+1 -> 27 | M30: =IF(A30<>"", A30, "") -> Middle
A31: Fourth | E31: 100 | L31: =L30+1 -> 28 | M31: =IF(A31<>"", A31, "") -> Fourth
A32: Highest | E32: 100 | L32: =L31+1 -> 29 | M32: =IF(A32<>"", A32, "") -> Highest
L33: =L32+1 -> 30 | M33: =IF(A33<>"", A33, "")
A34: Age | L34: =L33+1 -> 31 | M34: =IF(A34<>"", A34, "") -> Age
A35: 15-19 | E35: 100 | L35: =L34+1 -> 32 | M35: =IF(A35<>"", A35, "") -> 15-19
A36: 20-24 | E36: 100 | L36: =L35+1 -> 33 | M36: =IF(A36<>"", A36, "") -> 20-24
A37: 25-29 | E37: 100 | L37: =L36+1 -> 34 | M37: =IF(A37<>"", A37, "") -> 25-29
A38: 30-34 | E38: 100 | L38: =L37+1 -> 35 | M38: =IF(A38<>"", A38, "") -> 30-34
A39: 35-39 | E39: 100 | L39: =L38+1 -> 36 | M39: =IF(A39<>"", A39, "") -> 35-39
A40: 40-44 | E40: 100 | L40: =L39+1 -> 37 | M40: =IF(A40<>"", A40, "") -> 40-44
...

Sheet 7.2.B
A1: Table 7.2.B: HIV diagnosis and treatment status: Women
A2: Percent distribution of HIV-positive women, aged [15 years and older / 15-[UPPER AGE LIMIT] years], diagnosed and on treatment based on self-reported HIV status and antiretroviral therapy (ART) use (adjusted by detection of an antiretroviral in blood), by selected demographic characteristics, [SURVEY ACRONYM] [YEAR(S)] | L2: [SURVEY ACRONYM, FIRST YEAR]_Table7_2_B.sas7bdat
A3: Characteristic | B3: Unaware of HIV status | C3: Aware of HIV status and not on ART | D3: Aware of HIV status and on ART1 | E3: Total | F3: Number | L3: Order | M3: Row | N3: UnawareHIVP | O3: NotOnARTP | P3: OnARTP | Q3: TotalP | R3: FemaleN | S3: MissingN | T3: UnawareHIVJKseP | U3: NotOnARTJKseP | V3: OnARTJKseP | W3: UnawareHIVNoverN | X3: NotOnARTNoverN | Y3: OnARTNoverN | Z3: UnawareHIVJKLCLP | AA3: UnawareHIVJKUCLP | AB3: NotOnARTJKLCLP | AC3: NotOnARTJKUCLP | AD3: OnARTJKLCLP | AE3: OnARTJKUCLP
A4: Residence | L4: 1 | M4: =IF(A4<>"", A4, "") -> Residence
A5: Urban | E5: 100 | L5: =L4+1 -> 2 | M5: =IF(A5<>"", A5, "") -> Urban
A6: Rural | E6: 100 | L6: =L5+1 -> 3 | M6: =IF(A6<>"", A6, "") -> Rural
L7: =L6+1 -> 4 | M7: =IF(A7<>"", A7, "")
A8: [SUBNATIONAL AREA] | L8: =L7+1 -> 5 | M8: =IF(A8<>"", A8, "") -> [SUBNATIONAL AREA]
A9: [SNA 1] | E9: 100 | L9: =L8+1 -> 6 | M9: =IF(A9<>"", A9, "") -> [SNA 1]
A10: [SNA 2] | E10: 100 | L10: =L9+1 -> 7 | M10: =IF(A10<>"", A10, "") -> [SNA 2]
A11: [SNA 3] | E11: 100 | L11: =L10+1 -> 8 | M11: =IF(A11<>"", A11, "") -> [SNA 3]
A12: [SNA 4] | E12: 100 | L12: =L11+1 -> 9 | M12: =IF(A12<>"", A12, "") -> [SNA 4]
A13: [SNA 5] | E13: 100 | L13: =L12+1 -> 10 | M13: =IF(A13<>"", A13, "") -> [SNA 5]
L14: =L13+1 -> 11 | M14: =IF(A14<>"", A14, "")
A15: Marital status | L15: =L14+1 -> 12 | M15: =IF(A15<>"", A15, "") -> Marital status
A16: Never married | E16: 100 | L16: =L15+1 -> 13 | M16: =IF(A16<>"", A16, "") -> Never married
A17: Married or living together | E17: 100 | L17: =L16+1 -> 14 | M17: =IF(A17<>"", A17, "") -> Married or living together
A18: Divorced or separated | E18: 100 | L18: =L17+1 -> 15 | M18: =IF(A18<>"", A18, "") -> Divorced or separated
A19: Widowed | E19: 100 | L19: =L18+1 -> 16 | M19: =IF(A19<>"", A19, "") -> Widowed
L20: =L19+1 -> 17 | M20: =IF(A20<>"", A20, "")
A21: Education | L21: =L20+1 -> 18 | M21: =IF(A21<>"", A21, "") -> Education
A22: No education | E22: 100 | L22: =L21+1 -> 19 | M22: =IF(A22<>"", A22, "") -> No education
A23: Primary | E23: 100 | L23: =L22+1 -> 20 | M23: =IF(A23<>"", A23, "") -> Primary
A24: Secondary | E24: 100 | L24: =L23+1 -> 21 | M24: =IF(A24<>"", A24, "") -> Secondary
A25: More than secondary | E25: 100 | L25: =L24+1 -> 22 | M25: =IF(A25<>"", A25, "") -> More than secondary
L26: =L25+1 -> 23 | M26: =IF(A26<>"", A26, "")
A27: Wealth quintile | L27: =L26+1 -> 24 | M27: =IF(A27<>"", A27, "") -> Wealth quintile
A28: Lowest | E28: 100 | L28: =L27+1 -> 25 | M28: =IF(A28<>"", A28, "") -> Lowest
A29: Second | E29: 100 | L29: =L28+1 -> 26 | M29: =IF(A29<>"", A29, "") -> Second
A30: Middle | E30: 100 | L30: =L29+1 -> 27 | M30: =IF(A30<>"", A30, "") -> Middle
A31: Fourth | E31: 100 | L31: =L30+1 -> 28 | M31: =IF(A31<>"", A31, "") -> Fourth
A32: Highest | E32: 100 | L32: =L31+1 -> 29 | M32: =IF(A32<>"", A32, "") -> Highest
L33: =L32+1 -> 30 | M33: =IF(A33<>"", A33, "")
A34: Age | L34: =L33+1 -> 31 | M34: =IF(A34<>"", A34, "") -> Age
A35: 15-19 | E35: 100 | L35: =L34+1 -> 32 | M35: =IF(A35<>"", A35, "") -> 15-19
A36: 20-24 | E36: 100 | L36: =L35+1 -> 33 | M36: =IF(A36<>"", A36, "") -> 20-24
A37: 25-29 | E37: 100 | L37: =L36+1 -> 34 | M37: =IF(A37<>"", A37, "") -> 25-29
A38: 30-34 | E38: 100 | L38: =L37+1 -> 35 | M38: =IF(A38<>"", A38, "") -> 30-34
A39: 35-39 | E39: 100 | L39: =L38+1 -> 36 | M39: =IF(A39<>"", A39, "") -> 35-39
A40: 40-44 | E40: 100 | L40: =L39+1 -> 37 | M40: =IF(A40<>"", A40, "") -> 40-44
...

Sheet 7.2.C
A1: Table 7.2.C: HIV diagnosis and treatment status: Total
A2: Percent distribution of HIV-positive adults, aged [15 years and older / 15-[UPPER AGE LIMIT] years], diagnosed and on treatment based on self-reported HIV status and antiretroviral therapy (ART) use (adjusted by detection of an antiretroviral in blood), by selected demographic characteristics, [SURVEY ACRONYM] [YEAR(S)] | L2: [SURVEY ACRONYM, FIRST YEAR]_Table7_2_C.sas7bdat
A3: Characteristic | B3: Unaware of HIV status | C3: Aware of HIV status and not on ART | D3: Aware of HIV status and on ART1 | E3: Total | F3: Number | L3: Order | M3: Row | N3: UnawareHIVP | O3: NotOnARTP | P3: OnARTP | Q3: TotalP | R3: TotalN | S3: MissingN | T3: UnawareHIVJKseP | U3: NotOnARTJKseP | V3: OnARTJKseP | W3: UnawareHIVNoverN | X3: NotOnARTNoverN | Y3: OnARTNoverN | Z3: UnawareHIVJKLCLP | AA3: UnawareHIVJKUCLP | AB3: NotOnARTJKLCLP | AC3: NotOnARTJKUCLP | AD3: OnARTJKLCLP | AE3: OnARTJKUCLP
A4: Residence | L4: 1 | M4: =IF(A4<>"", A4, "") -> Residence
A5: Urban | E5: 100 | L5: =L4+1 -> 2 | M5: =IF(A5<>"", A5, "") -> Urban
A6: Rural | E6: 100 | L6: =L5+1 -> 3 | M6: =IF(A6<>"", A6, "") -> Rural
L7: =L6+1 -> 4 | M7: =IF(A7<>"", A7, "")
A8: [SUBNATIONAL AREA] | L8: =L7+1 -> 5 | M8: =IF(A8<>"", A8, "") -> [SUBNATIONAL AREA]
A9: [SNA 1] | E9: 100 | L9: =L8+1 -> 6 | M9: =IF(A9<>"", A9, "") -> [SNA 1]
A10: [SNA 2] | E10: 100 | L10: =L9+1 -> 7 | M10: =IF(A10<>"", A10, "") -> [SNA 2]
A11: [SNA 3] | E11: 100 | L11: =L10+1 -> 8 | M11: =IF(A11<>"", A11, "") -> [SNA 3]
A12: [SNA 4] | E12: 100 | L12: =L11+1 -> 9 | M12: =IF(A12<>"", A12, "") -> [SNA 4]
A13: [SNA 5] | E13: 100 | L13: =L12+1 -> 10 | M13: =IF(A13<>"", A13, "") -> [SNA 5]
L14: =L13+1 -> 11 | M14: =IF(A14<>"", A14, "")
A15: Marital status | L15: =L14+1 -> 12 | M15: =IF(A15<>"", A15, "") -> Marital status
A16: Never married | E16: 100 | L16: =L15+1 -> 13 | M16: =IF(A16<>"", A16, "") -> Never married
A17: Married or living together | E17: 100 | L17: =L16+1 -> 14 | M17: =IF(A17<>"", A17, "") -> Married or living together
A18: Divorced or separated | E18: 100 | L18: =L17+1 -> 15 | M18: =IF(A18<>"", A18, "") -> Divorced or separated
A19: Widowed | E19: 100 | L19: =L18+1 -> 16 | M19: =IF(A19<>"", A19, "") -> Widowed
L20: =L19+1 -> 17 | M20: =IF(A20<>"", A20, "")
A21: Education | L21: =L20+1 -> 18 | M21: =IF(A21<>"", A21, "") -> Education
A22: No education | E22: 100 | L22: =L21+1 -> 19 | M22: =IF(A22<>"", A22, "") -> No education
A23: Primary | E23: 100 | L23: =L22+1 -> 20 | M23: =IF(A23<>"", A23, "") -> Primary
A24: Secondary | E24: 100 | L24: =L23+1 -> 21 | M24: =IF(A24<>"", A24, "") -> Secondary
A25: More than secondary | E25: 100 | L25: =L24+1 -> 22 | M25: =IF(A25<>"", A25, "") -> More than secondary
L26: =L25+1 -> 23 | M26: =IF(A26<>"", A26, "")
A27: Wealth quintile | L27: =L26+1 -> 24 | M27: =IF(A27<>"", A27, "") -> Wealth quintile
A28: Lowest | E28: 100 | L28: =L27+1 -> 25 | M28: =IF(A28<>"", A28, "") -> Lowest
A29: Second | E29: 100 | L29: =L28+1 -> 26 | M29: =IF(A29<>"", A29, "") -> Second
A30: Middle | E30: 100 | L30: =L29+1 -> 27 | M30: =IF(A30<>"", A30, "") -> Middle
A31: Fourth | E31: 100 | L31: =L30+1 -> 28 | M31: =IF(A31<>"", A31, "") -> Fourth
A32: Highest | E32: 100 | L32: =L31+1 -> 29 | M32: =IF(A32<>"", A32, "") -> Highest
L33: =L32+1 -> 30 | M33: =IF(A33<>"", A33, "")
A34: Age | L34: =L33+1 -> 31 | M34: =IF(A34<>"", A34, "") -> Age
